From mboxrd@z Thu Jan  1 00:00:00 1970
Return-Path: <test-report-bounces@dpdk.org>
Received: from mails.dpdk.org (mails.dpdk.org [217.70.189.124])
	by inbox.dpdk.org (Postfix) with ESMTP id F106D4371E
	for <public@inbox.dpdk.org>; Sun, 17 Dec 2023 22:09:55 +0100 (CET)
Received: from mails.dpdk.org (localhost [127.0.0.1])
	by mails.dpdk.org (Postfix) with ESMTP id EC5FF4025C;
	Sun, 17 Dec 2023 22:09:55 +0100 (CET)
Received: from mail-qv1-f98.google.com (mail-qv1-f98.google.com
 [209.85.219.98]) by mails.dpdk.org (Postfix) with ESMTP id 68CBA40042
 for <test-report@dpdk.org>; Sun, 17 Dec 2023 22:09:55 +0100 (CET)
Received: by mail-qv1-f98.google.com with SMTP id
 6a1803df08f44-67f27a4c6fbso16402406d6.1
 for <test-report@dpdk.org>; Sun, 17 Dec 2023 13:09:55 -0800 (PST)
DKIM-Signature: v=1; a=rsa-sha256; c=relaxed/relaxed;
 d=iol.unh.edu; s=unh-iol; t=1702847395; x=1703452195; darn=dpdk.org;
 h=cc:to:from:subject:message-id:date:from:to:cc:subject:date
 :message-id:reply-to;
 bh=ekED7FhGo+tlttNmlwjEl44mGwgsZc/MIGqEXzOE7rY=;
 b=QshkpZX8bkaoyGMZkb9DD0TDYvkO6CeBaXuICS/BAhwaQ/kuaSAWGNQZ3vg30my1Ho
 j0yYEhjaqPJzFJ9XFi7R9CbSBzBdlMPtx3PIHNOsGCo6LyvO4+mhvuWUPQVoc/FtTV5G
 kSz9Tfec74BDEYB1/v+CWJvkokkZzMGmWKx/Y=
X-Google-DKIM-Signature: v=1; a=rsa-sha256; c=relaxed/relaxed;
 d=1e100.net; s=20230601; t=1702847395; x=1703452195;
 h=cc:to:from:subject:message-id:date:x-gm-message-state:from:to:cc
 :subject:date:message-id:reply-to;
 bh=ekED7FhGo+tlttNmlwjEl44mGwgsZc/MIGqEXzOE7rY=;
 b=B3LGCBYeh8IuBVcnpzsAQ/DBkEMX8HLm2/VFmWnu6ExmoP/s16PaUDzs/GWWy7dbgh
 yR2oO7s1RIWftPjNKM5D7yHPKZYSsh+tJCsP2CCInxndy0Qgn/qYjl9jBtPm4s3t4bz9
 TFOdcQnovdFVuEt9CxTl9popTFCf2fdA+AMRq4w1+YR9+rosJIANahR7oYMyd8GqG76z
 o2V6WyJLMgkV8qAFuWMlcYsSdKA/HZKgoUobfZvUwbgD1x9FBs60blU3qcaYXJelZZ5K
 CHLO3BNdQH9u+ZWcuJmsn42ddYUABwe/8KRWDm21Gtz6b43v+dTD9owyIPLNtmSp403D
 uD0g==
X-Gm-Message-State: AOJu0YyGK8suzOs3IjVuQHUWVHxszIBf+fKLBNnfV6teay8d4rCUB+v3
 V0a+0gFzt4s/eAKNaMjcK6q2zZGhr/lhKbDmQGQXAIB85PvUxQGDrRaE/GoqsHtQWoPLeoZctw=
 =
X-Google-Smtp-Source: AGHT+IE+QGp2FGrLNA+owvfC3ChSfFdbir0FYtZYWO4FdoQ2iyvgpK2Qy5/urTlUlg450eIc7RjqhgTFQ4O3
X-Received: by 2002:a0c:cdcc:0:b0:67a:8ff3:1bbe with SMTP id
 a12-20020a0ccdcc000000b0067a8ff31bbemr13847579qvn.54.1702847394851; 
 Sun, 17 Dec 2023 13:09:54 -0800 (PST)
Received: from postal.iol.unh.edu (postal.iol.unh.edu.
 [2606:4100:3880:1234::84]) by smtp-relay.gmail.com with ESMTPS id
 t26-20020a0cb71a000000b0067f3bfc3e8bsm55388qvd.41.2023.12.17.13.09.54
 (version=TLS1_2 cipher=ECDHE-ECDSA-AES128-GCM-SHA256 bits=128/128);
 Sun, 17 Dec 2023 13:09:54 -0800 (PST)
X-Relaying-Domain: iol.unh.edu
Date: Sun, 17 Dec 2023 13:09:54 -0800 (PST)
Message-ID: <657f63a2.0c0a0220.7cf32.34f6SMTPIN_ADDED_MISSING@mx.google.com>
Received: from [172.21.0.3] (unknown [172.18.0.240])
 by postal.iol.unh.edu (Postfix) with ESMTP id 91BE36051831;
 Sun, 17 Dec 2023 16:09:54 -0500 (EST)
Subject: |SUCCESS| pw135243 [PATCH] net/e1000: support launchtime feature
From: dpdklab@iol.unh.edu
To: Test Report <test-report@dpdk.org>
Cc: dpdk-test-reports@iol.unh.edu
Content-Type: text/plain
X-BeenThere: test-report@dpdk.org
X-Mailman-Version: 2.1.29
Precedence: list
List-Id: automatic DPDK test reports <test-report.dpdk.org>
List-Unsubscribe: <https://mails.dpdk.org/options/test-report>,
 <mailto:test-report-request@dpdk.org?subject=unsubscribe>
List-Archive: <http://mails.dpdk.org/archives/test-report/>
List-Post: <mailto:test-report@dpdk.org>
List-Help: <mailto:test-report-request@dpdk.org?subject=help>
List-Subscribe: <https://mails.dpdk.org/listinfo/test-report>,
 <mailto:test-report-request@dpdk.org?subject=subscribe>
Errors-To: test-report-bounces@dpdk.org

Test-Label: iol-unit-arm64-testing
Test-Status: SUCCESS
http://dpdk.org/patch/135243

_Testing PASS_

Submitter: Chuanyu Xue <chuanyu.xue@uconn.edu>
Date: Sunday, December 17 2023 20:20:40 
DPDK git baseline: Repo:dpdk
  Branch: master
  CommitID:e5dc404d33ac1c6cea5c62a88489746c5cb5e35e

135243 --> testing pass

Test environment and result as below:

+--------------------------+------------------------------+---------------------------+----------------+
|       Environment        | cryptodev_sw_snow3g_autotest | cryptodev_sw_zuc_autotest | dpdk_unit_test |
+==========================+==============================+===========================+================+
| Debian 11 (arm)          | PASS                         | PASS                      | SKIPPED        |
+--------------------------+------------------------------+---------------------------+----------------+
| Debian 11 (Buster) (ARM) | SKIPPED                      | SKIPPED                   | PASS           |
+--------------------------+------------------------------+---------------------------+----------------+


Debian 11 (arm)
	Kernel: Container Host Kernel
	Compiler: gcc 10.2.1

Debian 11 (Buster) (ARM)
	Kernel: Container Host Kernel
	Compiler: gcc 10.2.1

To view detailed results, visit:
https://lab.dpdk.org/results/dashboard/patchsets/28655/

UNH-IOL DPDK Community Lab

To manage your email subscriptions, visit: 
https://lab.dpdk.org/results/dashboard/preferences/subscriptions/