From mboxrd@z Thu Jan  1 00:00:00 1970
Return-Path: <test-report-bounces@dpdk.org>
Received: from mails.dpdk.org (mails.dpdk.org [217.70.189.124])
	by inbox.dpdk.org (Postfix) with ESMTP id D67F34371E
	for <public@inbox.dpdk.org>; Sun, 17 Dec 2023 22:26:28 +0100 (CET)
Received: from mails.dpdk.org (localhost [127.0.0.1])
	by mails.dpdk.org (Postfix) with ESMTP id D02DC4025C;
	Sun, 17 Dec 2023 22:26:28 +0100 (CET)
Received: from mail-il1-f226.google.com (mail-il1-f226.google.com
 [209.85.166.226])
 by mails.dpdk.org (Postfix) with ESMTP id 6D34F40042
 for <test-report@dpdk.org>; Sun, 17 Dec 2023 22:26:26 +0100 (CET)
Received: by mail-il1-f226.google.com with SMTP id
 e9e14a558f8ab-35fa08df8afso9521635ab.3
 for <test-report@dpdk.org>; Sun, 17 Dec 2023 13:26:26 -0800 (PST)
DKIM-Signature: v=1; a=rsa-sha256; c=relaxed/relaxed;
 d=iol.unh.edu; s=unh-iol; t=1702848386; x=1703453186; darn=dpdk.org;
 h=cc:to:from:subject:message-id:date:from:to:cc:subject:date
 :message-id:reply-to;
 bh=SgRzQLYTVLzFCzULymmsMERsuDEGvh/N/0opir096g0=;
 b=XifQ3epJH4TiI2UGud0iNTLJaTtZTSEjNbiCAcpt0/VP0xqzeIOqKxevNhLq/d7czt
 KOl/lqNPjebR1bJ+WoL0FKtwSZlrwJX3yrGeuB73DJbsTPTdkNSBbJSbvTTM0IfgNpe3
 GKs+yup64UdIsiPK4f1DuZyPqrZNVIzv1SaK0=
X-Google-DKIM-Signature: v=1; a=rsa-sha256; c=relaxed/relaxed;
 d=1e100.net; s=20230601; t=1702848386; x=1703453186;
 h=cc:to:from:subject:message-id:date:x-gm-message-state:from:to:cc
 :subject:date:message-id:reply-to;
 bh=SgRzQLYTVLzFCzULymmsMERsuDEGvh/N/0opir096g0=;
 b=ZNCPTRC4qZKBb7FEkbnKHYco7iHhaExefnnTtG9ZLN2MDYxGvwbemp3W2+8Ci5KA7g
 LqouJoUyXtrTlga/SkdNM//A4J+KIoX3LFXRllqDlMa5t0UVildnU/3bbqINPINJnAFs
 CR7I9NNIRnHiablMFSe0dSmlmr1isYWVRvU2rOGv2VGa1zEJFJ0XvDMYjy7TP3Bi0fvu
 oCbkFGsKCU41S/pT7R9p68SXSolnqPl8mVOG+K8zGQT/RSjEX/zRDlUsrympB5Ma+g7G
 EUblNXpW7PEZmiJ63eYOkJeeCrdQxHHoLgw/EFOoRp93ETKkT9I3FNnH50v7yIYxiIG3
 OskA==
X-Gm-Message-State: AOJu0Yzene1aQcGg8Wruj1lYWs8T/zENCFOqjs+vHpKZaFWfvEVub7yZ
 AlgontC+E/Lynj7r+OumFAOyc+HzkYXSPztCWFOaN6aT7enqMSIfilipgA==
X-Google-Smtp-Source: AGHT+IHyyRrdf6YVDHSyjDEyppW6bg3gHFbinwqN3Jd3NqDxD7FtFHaOwK5BuTMcSvmp+4FEZHTjD6tGm+lL
X-Received: by 2002:a05:6e02:1aa1:b0:35f:a1c8:a6e1 with SMTP id
 l1-20020a056e021aa100b0035fa1c8a6e1mr4581215ilv.58.1702848385999; 
 Sun, 17 Dec 2023 13:26:25 -0800 (PST)
Received: from postal.iol.unh.edu (postal.iol.unh.edu. [132.177.123.84])
 by smtp-relay.gmail.com with ESMTPS id
 i2-20020a056e021b0200b0035d577ed0f5sm139648ilv.74.2023.12.17.13.26.25
 (version=TLS1_2 cipher=ECDHE-ECDSA-AES128-GCM-SHA256 bits=128/128);
 Sun, 17 Dec 2023 13:26:25 -0800 (PST)
X-Relaying-Domain: iol.unh.edu
Date: Sun, 17 Dec 2023 13:26:25 -0800 (PST)
Message-ID: <657f6781.050a0220.73f37.6af2SMTPIN_ADDED_MISSING@mx.google.com>
Received: from [172.17.0.3] (unknown [172.18.0.217])
 by postal.iol.unh.edu (Postfix) with ESMTP id 7CEE9605C21A;
 Sun, 17 Dec 2023 16:26:25 -0500 (EST)
Subject: |SUCCESS| pw135243 [PATCH] net/e1000: support launchtime feature
From: dpdklab@iol.unh.edu
To: Test Report <test-report@dpdk.org>
Cc: dpdk-test-reports@iol.unh.edu
Content-Type: text/plain
X-BeenThere: test-report@dpdk.org
X-Mailman-Version: 2.1.29
Precedence: list
List-Id: automatic DPDK test reports <test-report.dpdk.org>
List-Unsubscribe: <https://mails.dpdk.org/options/test-report>,
 <mailto:test-report-request@dpdk.org?subject=unsubscribe>
List-Archive: <http://mails.dpdk.org/archives/test-report/>
List-Post: <mailto:test-report@dpdk.org>
List-Help: <mailto:test-report-request@dpdk.org?subject=help>
List-Subscribe: <https://mails.dpdk.org/listinfo/test-report>,
 <mailto:test-report-request@dpdk.org?subject=subscribe>
Errors-To: test-report-bounces@dpdk.org

Test-Label: iol-abi-testing
Test-Status: SUCCESS
http://dpdk.org/patch/135243

_Testing PASS_

Submitter: Chuanyu Xue <chuanyu.xue@uconn.edu>
Date: Sunday, December 17 2023 20:20:40 
DPDK git baseline: Repo:dpdk
  Branch: master
  CommitID:e5dc404d33ac1c6cea5c62a88489746c5cb5e35e

135243 --> testing pass

Test environment and result as below:

+------------------+----------+
|   Environment    | abi_test |
+==================+==========+
| CentOS Stream 9  | PASS     |
+------------------+----------+
| Ubuntu 22.04     | PASS     |
+------------------+----------+
| Debian Buster    | PASS     |
+------------------+----------+
| Fedora 38        | PASS     |
+------------------+----------+
| openSUSE Leap 15 | PASS     |
+------------------+----------+
| CentOS Stream 8  | PASS     |
+------------------+----------+
| Debian Bullseye  | PASS     |
+------------------+----------+
| Fedora 37        | PASS     |
+------------------+----------+
| RHEL8            | PASS     |
+------------------+----------+


CentOS Stream 9
	Kernel: 4.18.0-240.10.1.el8_3.x86_64
	Compiler: gcc 11.3.1 20220421

Ubuntu 22.04
	Kernel: 4.18.0-240.10.1.el8_3.x86_64
	Compiler: gcc 11.3.0

Debian Buster
	Kernel: 5.4.0-122-generic
	Compiler: gcc 8.3.0-6

Fedora 38
	Kernel: Depends on container host
	Compiler: clang 16.0.3

openSUSE Leap 15
	Kernel: 4.18.0-240.10.1.el8_3.x86_64
	Compiler: gcc 7.5.0

CentOS Stream 8
	Kernel: 4.18.0-240.10.1.el8_3.x86_64
	Compiler: gcc 8.4.1 20200928

Debian Bullseye
	Kernel: 5.4.0-122-generic
	Compiler: gcc 10.2.1-6

Fedora 37
	Kernel: Depends on container host system
	Compiler: gcc 12.3.1

RHEL8
	Kernel: 4.18.0-240.10.1.el8_3.x86_64
	Compiler: gcc 8.3.1 20191121 (Red Hat 8.3.1-5)

To view detailed results, visit:
https://lab.dpdk.org/results/dashboard/patchsets/28655/

UNH-IOL DPDK Community Lab

To manage your email subscriptions, visit: 
https://lab.dpdk.org/results/dashboard/preferences/subscriptions/