From mboxrd@z Thu Jan  1 00:00:00 1970
Return-Path: <test-report-bounces@dpdk.org>
Received: from mails.dpdk.org (mails.dpdk.org [217.70.189.124])
	by inbox.dpdk.org (Postfix) with ESMTP id 518324371E
	for <public@inbox.dpdk.org>; Sun, 17 Dec 2023 23:04:27 +0100 (CET)
Received: from mails.dpdk.org (localhost [127.0.0.1])
	by mails.dpdk.org (Postfix) with ESMTP id 301E04025C;
	Sun, 17 Dec 2023 23:04:27 +0100 (CET)
Received: from mail-oi1-f228.google.com (mail-oi1-f228.google.com
 [209.85.167.228])
 by mails.dpdk.org (Postfix) with ESMTP id 2592540042
 for <test-report@dpdk.org>; Sun, 17 Dec 2023 23:04:26 +0100 (CET)
Received: by mail-oi1-f228.google.com with SMTP id
 5614622812f47-3b9e7f4a0d7so2201972b6e.1
 for <test-report@dpdk.org>; Sun, 17 Dec 2023 14:04:26 -0800 (PST)
DKIM-Signature: v=1; a=rsa-sha256; c=relaxed/relaxed;
 d=iol.unh.edu; s=unh-iol; t=1702850665; x=1703455465; darn=dpdk.org;
 h=cc:to:from:subject:message-id:date:from:to:cc:subject:date
 :message-id:reply-to;
 bh=Cx1VL1/SN1yIw3o3866kPz7D/0XinRKCtdjDmWWkUSI=;
 b=gr3DHMqG2f50d1QfCU6bKxLyJYd8jA+qzXid3Y/hWOTZfR4xgLdvgVsbd/D3CiiJoX
 fOvSR9xeHXn/7qzWSylO50pEEHrXboFMlzj28neZox5sokU4E7ZcB6dt7h1ikd2auqOm
 CQZ8JlTs6VyfYkxQlXaHSWQoQxnr17cJgVsic=
X-Google-DKIM-Signature: v=1; a=rsa-sha256; c=relaxed/relaxed;
 d=1e100.net; s=20230601; t=1702850665; x=1703455465;
 h=cc:to:from:subject:message-id:date:x-gm-message-state:from:to:cc
 :subject:date:message-id:reply-to;
 bh=Cx1VL1/SN1yIw3o3866kPz7D/0XinRKCtdjDmWWkUSI=;
 b=u17qktALBwUHCVRvGGHYZYWldN4Hda7Q/3ksZ+d/fJ7tbHb/JNCa3Y++xKkQgcwL8W
 8FajP7CxhIPlzoS8GgR3Dn+r4bcWA8Mnw0hRwD2NFCEwOm7RUc86gbZLOwhON0qEa2uJ
 ungBF/CsPHZKE7WZxn2QyB60QlFJn8573pwfwlm5NgV3QQN9G13k8ML11y6zZG7hUCmv
 coyzk4jHZS3mRmsIvVIkH0Gb4RDhEK5wfc0CkKNb05VWCT7zJCXjmBfCcNxgH749nOXU
 hCyc4ydtwMIYWM69xT5eGobTyP26d/8sgkLYlMwMPTyjfTECtS6zpieUXKbRpFM46aqh
 KwpA==
X-Gm-Message-State: AOJu0Yz0P+TOJxI1aCue6I8bSWdoK8Ob/lzsmUsvTJzK49EODDMsnc0Z
 bXdAHpxeLhPZ8T8FXY6klgPBRuvjjDzkcPAhK3gO6bJJr8HliR3Gz1DNHg==
X-Google-Smtp-Source: AGHT+IG65HilaELj2vJyc35cH9l3wtufZ1bJGcATZlGCZZJ05PoDqsp5Uuab5roAs9f3vbr4SD5d9bcnlUCC
X-Received: by 2002:a05:6808:2a5b:b0:3b9:e66d:196a with SMTP id
 fa27-20020a0568082a5b00b003b9e66d196amr15716295oib.110.1702850665397; 
 Sun, 17 Dec 2023 14:04:25 -0800 (PST)
Received: from postal.iol.unh.edu (postal.iol.unh.edu. [132.177.123.84])
 by smtp-relay.gmail.com with ESMTPS id
 8-20020a9f2008000000b007c59a632d5csm2220101uam.11.2023.12.17.14.04.25
 (version=TLS1_2 cipher=ECDHE-ECDSA-AES128-GCM-SHA256 bits=128/128);
 Sun, 17 Dec 2023 14:04:25 -0800 (PST)
X-Relaying-Domain: iol.unh.edu
Date: Sun, 17 Dec 2023 14:04:25 -0800 (PST)
Message-ID: <657f7069.9f0a0220.4c6f0.fc34SMTPIN_ADDED_MISSING@mx.google.com>
Received: from [172.17.0.2] (unknown [172.18.0.217])
 by postal.iol.unh.edu (Postfix) with ESMTP id EF701605C311;
 Sun, 17 Dec 2023 17:04:24 -0500 (EST)
Subject: |SUCCESS| pw135243 [PATCH] net/e1000: support launchtime feature
From: dpdklab@iol.unh.edu
To: Test Report <test-report@dpdk.org>
Cc: dpdk-test-reports@iol.unh.edu
Content-Type: text/plain
X-BeenThere: test-report@dpdk.org
X-Mailman-Version: 2.1.29
Precedence: list
List-Id: automatic DPDK test reports <test-report.dpdk.org>
List-Unsubscribe: <https://mails.dpdk.org/options/test-report>,
 <mailto:test-report-request@dpdk.org?subject=unsubscribe>
List-Archive: <http://mails.dpdk.org/archives/test-report/>
List-Post: <mailto:test-report@dpdk.org>
List-Help: <mailto:test-report-request@dpdk.org?subject=help>
List-Subscribe: <https://mails.dpdk.org/listinfo/test-report>,
 <mailto:test-report-request@dpdk.org?subject=subscribe>
Errors-To: test-report-bounces@dpdk.org

Test-Label: iol-compile-arm64-testing
Test-Status: SUCCESS
http://dpdk.org/patch/135243

_Testing PASS_

Submitter: Chuanyu Xue <chuanyu.xue@uconn.edu>
Date: Sunday, December 17 2023 20:20:40 
DPDK git baseline: Repo:dpdk
  Branch: master
  CommitID:e5dc404d33ac1c6cea5c62a88489746c5cb5e35e

135243 --> testing pass

Test environment and result as below:

+----------------------------------------+--------------------+
|              Environment               | dpdk_meson_compile |
+========================================+====================+
| Ubuntu 20.04 ARM SVE                   | PASS               |
+----------------------------------------+--------------------+
| Ubuntu 20.04 (ARM)                     | PASS               |
+----------------------------------------+--------------------+
| Fedora 37 (ARM)                        | PASS               |
+----------------------------------------+--------------------+
| Fedora 38 (ARM)                        | PASS               |
+----------------------------------------+--------------------+
| Debian 11 (Buster) (ARM)               | PASS               |
+----------------------------------------+--------------------+
| CentOS Stream 9 (ARM)                  | PASS               |
+----------------------------------------+--------------------+
| Ubuntu 20.04 aarch32 GCC Cross Compile | PASS               |
+----------------------------------------+--------------------+
| Ubuntu 20.04 ARM Clang Cross Compile   | PASS               |
+----------------------------------------+--------------------+
| Ubuntu 20.04 ARM GCC Cross Compile     | PASS               |
+----------------------------------------+--------------------+


Ubuntu 20.04 ARM SVE
	Kernel: 5.4.0-80-generic
	Compiler: gcc 10.3.0 (Ubuntu 10.3.0-1ubuntu1~20.04)

Ubuntu 20.04 (ARM)
	Kernel: Container Host Kernel
	Compiler: gcc 9.4.0

Fedora 37 (ARM)
	Kernel: Depends on container host
	Compiler: gcc 12.3.1

Fedora 38 (ARM)
	Kernel: Depends on container host
	Compiler: gcc 13.1.1

Debian 11 (Buster) (ARM)
	Kernel: Container Host Kernel
	Compiler: gcc 10.2.1

CentOS Stream 9 (ARM)
	Kernel: Container Host Kernel
	Compiler: gcc 11.3.1

Ubuntu 20.04 aarch32 GCC Cross Compile
	Kernel: 5.4.0-72-generic
	Compiler: gcc 9.3.0

Ubuntu 20.04 ARM Clang Cross Compile
	Kernel: 5.4.0-72-generic
	Compiler: clang version 10.0.0-4ubuntu1

Ubuntu 20.04 ARM GCC Cross Compile
	Kernel: 5.4.0-72-generic
	Compiler: aarch64-linux-gnu-gcc (Ubuntu 9.3.0-17ubuntu1~20.04) 9.3.0

To view detailed results, visit:
https://lab.dpdk.org/results/dashboard/patchsets/28655/

UNH-IOL DPDK Community Lab

To manage your email subscriptions, visit: 
https://lab.dpdk.org/results/dashboard/preferences/subscriptions/