From mboxrd@z Thu Jan  1 00:00:00 1970
Return-Path: <test-report-bounces@dpdk.org>
Received: from mails.dpdk.org (mails.dpdk.org [217.70.189.124])
	by inbox.dpdk.org (Postfix) with ESMTP id ECEA74373D
	for <public@inbox.dpdk.org>; Mon, 18 Dec 2023 19:42:27 +0100 (CET)
Received: from mails.dpdk.org (localhost [127.0.0.1])
	by mails.dpdk.org (Postfix) with ESMTP id E99EB40DF8;
	Mon, 18 Dec 2023 19:42:27 +0100 (CET)
Received: from mail-io1-f98.google.com (mail-io1-f98.google.com
 [209.85.166.98]) by mails.dpdk.org (Postfix) with ESMTP id 6EF45402D8
 for <test-report@dpdk.org>; Mon, 18 Dec 2023 19:42:26 +0100 (CET)
Received: by mail-io1-f98.google.com with SMTP id
 ca18e2360f4ac-7b71e389fb2so192694939f.3
 for <test-report@dpdk.org>; Mon, 18 Dec 2023 10:42:26 -0800 (PST)
DKIM-Signature: v=1; a=rsa-sha256; c=relaxed/relaxed;
 d=iol.unh.edu; s=unh-iol; t=1702924946; x=1703529746; darn=dpdk.org;
 h=cc:to:from:subject:message-id:date:from:to:cc:subject:date
 :message-id:reply-to;
 bh=mTS9sf2XUDiBNh6okpGZGXax2bOF90MOvesZK1IFejA=;
 b=OMreJlwwEU6byPgiHwhVzwz7Q6Nl5xj8lerGKIFVttVG86e5hy+63XhQhpWmS7asEv
 1CvL9nlVGj1B3/1EisT1MUwkmJWlobxrloaDb/UCaPzSV/NSKCOAoKil6yPgV/buc0Kn
 wDw1IbqM3vb154Zw064msZDIED6ZQ9viCnimM=
X-Google-DKIM-Signature: v=1; a=rsa-sha256; c=relaxed/relaxed;
 d=1e100.net; s=20230601; t=1702924946; x=1703529746;
 h=cc:to:from:subject:message-id:date:x-gm-message-state:from:to:cc
 :subject:date:message-id:reply-to;
 bh=mTS9sf2XUDiBNh6okpGZGXax2bOF90MOvesZK1IFejA=;
 b=KuZEKGA2DI62Is3JiTsTttd0uMLuozyQCSwyyDNDvc/aonZh6+A9DDNiFLwta0pxr7
 gIdOt/it5WXBRq5pIERU3PP5e0InxEgIGN95ax3SzXJ14S5f1kEC+7RIuCqIJGFawOlT
 aoyJB8j6gq1r1i+WOzPPROFmvu63euMVAXEuR3EE56r2rO5sPG6Wmup/MowlnwMQbz5o
 I+TsfhK4W/owkWYJcTASi1Jyf3qEDQOTQMJqsihvIQ3Ib5+TvmJNOn6BHlJuvIGo+kt8
 boAEhEImw5/XUjIgvV53LqbZbEypUIZc5McDgBx7VLOHTaisFqtHjU8Kkel82H01thys
 8Z8g==
X-Gm-Message-State: AOJu0YwyRMaLD+1GMJSRz7PaDif214mUqIP57WbeqS8x4qRg8FwseRsx
 wFA21zCu1sv2kJ2PWC5OJmU5V20OuNBjugKUxdU5e02DodbbUHaQIkO3yw==
X-Google-Smtp-Source: AGHT+IH1cXeZnbACsnGBH/HLt//iCw+NjQbtr6Pc0ZCZxdd+B0vjpLC84bIe5JvhWSaSI3/iKUct+HuZJ3ne
X-Received: by 2002:a05:6602:4245:b0:7b7:bbbe:ede6 with SMTP id
 cc5-20020a056602424500b007b7bbbeede6mr6326006iob.6.1702924945860; 
 Mon, 18 Dec 2023 10:42:25 -0800 (PST)
Received: from postal.iol.unh.edu (postal.iol.unh.edu. [132.177.123.84])
 by smtp-relay.gmail.com with ESMTPS id
 y4-20020a5ec804000000b0079fc7c90cd3sm1346866iol.18.2023.12.18.10.42.25
 (version=TLS1_2 cipher=ECDHE-ECDSA-AES128-GCM-SHA256 bits=128/128);
 Mon, 18 Dec 2023 10:42:25 -0800 (PST)
X-Relaying-Domain: iol.unh.edu
Date: Mon, 18 Dec 2023 10:42:25 -0800 (PST)
Message-ID: <65809291.5e0a0220.2cb5c.c2c4SMTPIN_ADDED_MISSING@mx.google.com>
Received: from [172.21.0.6] (unknown [172.18.0.240])
 by postal.iol.unh.edu (Postfix) with ESMTP id 62A6C605C311;
 Mon, 18 Dec 2023 13:42:25 -0500 (EST)
Subject: |SUCCESS| pw135284 [PATCH] bus/ifpga: remove dead code
From: dpdklab@iol.unh.edu
To: Test Report <test-report@dpdk.org>
Cc: dpdk-test-reports@iol.unh.edu
Content-Type: text/plain
X-BeenThere: test-report@dpdk.org
X-Mailman-Version: 2.1.29
Precedence: list
List-Id: automatic DPDK test reports <test-report.dpdk.org>
List-Unsubscribe: <https://mails.dpdk.org/options/test-report>,
 <mailto:test-report-request@dpdk.org?subject=unsubscribe>
List-Archive: <http://mails.dpdk.org/archives/test-report/>
List-Post: <mailto:test-report@dpdk.org>
List-Help: <mailto:test-report-request@dpdk.org?subject=help>
List-Subscribe: <https://mails.dpdk.org/listinfo/test-report>,
 <mailto:test-report-request@dpdk.org?subject=subscribe>
Errors-To: test-report-bounces@dpdk.org

Test-Label: iol-compile-arm64-testing
Test-Status: SUCCESS
http://dpdk.org/patch/135284

_Testing PASS_

Submitter: David Marchand <david.marchand@redhat.com>
Date: Monday, December 18 2023 15:45:26 
DPDK git baseline: Repo:dpdk
  Branch: master
  CommitID:e5dc404d33ac1c6cea5c62a88489746c5cb5e35e

135284 --> testing pass

Test environment and result as below:

+----------------------------------------+--------------------+
|              Environment               | dpdk_meson_compile |
+========================================+====================+
| Fedora 37 (ARM)                        | PASS               |
+----------------------------------------+--------------------+
| Fedora 38 (ARM)                        | PASS               |
+----------------------------------------+--------------------+
| Ubuntu 20.04 ARM SVE                   | PASS               |
+----------------------------------------+--------------------+
| Debian 11 (Buster) (ARM)               | PASS               |
+----------------------------------------+--------------------+
| Ubuntu 20.04 (ARM)                     | PASS               |
+----------------------------------------+--------------------+
| Ubuntu 20.04 ARM Clang Cross Compile   | PASS               |
+----------------------------------------+--------------------+
| CentOS Stream 9 (ARM)                  | PASS               |
+----------------------------------------+--------------------+
| Ubuntu 20.04 aarch32 GCC Cross Compile | PASS               |
+----------------------------------------+--------------------+
| Ubuntu 20.04 ARM GCC Cross Compile     | PASS               |
+----------------------------------------+--------------------+
| Fedora 38 (ARM Clang)                  | PASS               |
+----------------------------------------+--------------------+


Fedora 37 (ARM)
	Kernel: Depends on container host
	Compiler: gcc 12.3.1

Fedora 38 (ARM)
	Kernel: Depends on container host
	Compiler: gcc 13.1.1

Ubuntu 20.04 ARM SVE
	Kernel: 5.4.0-80-generic
	Compiler: gcc 10.3.0 (Ubuntu 10.3.0-1ubuntu1~20.04)

Debian 11 (Buster) (ARM)
	Kernel: Container Host Kernel
	Compiler: gcc 10.2.1

Ubuntu 20.04 (ARM)
	Kernel: Container Host Kernel
	Compiler: gcc 9.4.0

Ubuntu 20.04 ARM Clang Cross Compile
	Kernel: 5.4.0-72-generic
	Compiler: clang version 10.0.0-4ubuntu1

CentOS Stream 9 (ARM)
	Kernel: Container Host Kernel
	Compiler: gcc 11.3.1

Ubuntu 20.04 aarch32 GCC Cross Compile
	Kernel: 5.4.0-72-generic
	Compiler: gcc 9.3.0

Ubuntu 20.04 ARM GCC Cross Compile
	Kernel: 5.4.0-72-generic
	Compiler: aarch64-linux-gnu-gcc (Ubuntu 9.3.0-17ubuntu1~20.04) 9.3.0

Fedora 38 (ARM Clang)
	Kernel: Depends on container host
	Compiler: clang 16.0.3

To view detailed results, visit:
https://lab.dpdk.org/results/dashboard/patchsets/28663/

UNH-IOL DPDK Community Lab

To manage your email subscriptions, visit: 
https://lab.dpdk.org/results/dashboard/preferences/subscriptions/