From mboxrd@z Thu Jan 1 00:00:00 1970 Return-Path: Received: from mails.dpdk.org (mails.dpdk.org [217.70.189.124]) by inbox.dpdk.org (Postfix) with ESMTP id A3E3243B31 for ; Wed, 21 Feb 2024 07:21:52 +0100 (CET) Received: from mails.dpdk.org (localhost [127.0.0.1]) by mails.dpdk.org (Postfix) with ESMTP id 9F40D402ED; Wed, 21 Feb 2024 07:21:52 +0100 (CET) Received: from mail-il1-f225.google.com (mail-il1-f225.google.com [209.85.166.225]) by mails.dpdk.org (Postfix) with ESMTP id 9294C402B9 for ; Wed, 21 Feb 2024 07:21:50 +0100 (CET) Received: by mail-il1-f225.google.com with SMTP id e9e14a558f8ab-36517219a19so773575ab.1 for ; Tue, 20 Feb 2024 22:21:50 -0800 (PST) DKIM-Signature: v=1; a=rsa-sha256; c=relaxed/relaxed; d=iol.unh.edu; s=unh-iol; t=1708496510; x=1709101310; darn=dpdk.org; h=cc:to:from:subject:message-id:date:from:to:cc:subject:date :message-id:reply-to; bh=WEyZ36QhQi/T7jlpcKwl87u/c/zBGJLq/dZzDi6Wl18=; b=boDSleWX9BUBkJpkrjV5UadLXQGzVnjQ4mxo2Rde7MYp7MD6088NE+3QfhgKKmiOai f9JLwbbiKTB8aBqMfrEOKcTonu8qSo8rf73eXpAZFQX6OZmlQmkSq9GaylXzfmm9TwWP HR6sO6NAiDLedvBTVtM3fpjDW6F//1oWrq558= X-Google-DKIM-Signature: v=1; a=rsa-sha256; c=relaxed/relaxed; d=1e100.net; s=20230601; t=1708496510; x=1709101310; h=cc:to:from:subject:message-id:date:x-gm-message-state:from:to:cc :subject:date:message-id:reply-to; bh=WEyZ36QhQi/T7jlpcKwl87u/c/zBGJLq/dZzDi6Wl18=; b=VpjZI2ok/0dY1Kc9+GQM/FpAAnX4TwF6EBRnd3CmIksq1WFjzTP9R1SQ4fLddQ2lMc pTTNRWzXoEV/mhrsKWi6JHQEGLL1mbrbnbhQNbJdpVrZYHJhE7eNXLU+qLlZdsb6O1o9 c5kaOiarPBoy8LO8XSQzIywj3NLkfxPFBWZ8thrrX+C2uQS3xnXeU+57XepFiJxnGiKT 8OG1zhNHrjaxd+0y2gVyxkhUY+op6RRGLViGZeB5I2p/Y56oqWrhKP2WGYalp1cXPTvn mRt9qwQK11MG9ie38GQpu++KsQoku9WVV6A6uW5lMnqozHLTZO2Et2AV7anWyNbBvcME Htnw== X-Gm-Message-State: AOJu0YzpHSEqmdU5ZGCVlEfRArKIgILMdCbQYgYA8bV3kSt8N8tSJ0kW /U1M4hqvKVzQ+iMr7Fi400m/RwGvW9KyyeLcjZ7/Gu1DGX28lpxkMwPYwcQDej6GEfyC2CDvt19 TbDW3hNPPc69MhZQIu0sZf9Lt7zuLjMVb X-Google-Smtp-Source: AGHT+IHON0aRtkBYNOKv0+UOtSRHnuKzhYmySTBNghFcXLzEjlcDNNxn9a97H6RGg4/7oDD6wmSYpGM4K/qF X-Received: by 2002:a92:b749:0:b0:365:1fef:f3c4 with SMTP id c9-20020a92b749000000b003651feff3c4mr12229507ilm.18.1708496509963; Tue, 20 Feb 2024 22:21:49 -0800 (PST) Received: from postal.iol.unh.edu (postal.iol.unh.edu. [132.177.123.84]) by smtp-relay.gmail.com with ESMTPS id x5-20020a056e021ca500b003639bcd0db2sm536014ill.31.2024.02.20.22.21.49 (version=TLS1_2 cipher=ECDHE-ECDSA-AES128-GCM-SHA256 bits=128/128); Tue, 20 Feb 2024 22:21:49 -0800 (PST) X-Relaying-Domain: iol.unh.edu Date: Tue, 20 Feb 2024 22:21:49 -0800 (PST) Message-ID: <65d5967d.050a0220.546a6.ef52SMTPIN_ADDED_MISSING@mx.google.com> Received: from [172.21.0.5] (unknown [172.18.0.240]) by postal.iol.unh.edu (Postfix) with ESMTP id 7F9066052510; Wed, 21 Feb 2024 01:21:49 -0500 (EST) Subject: |SUCCESS| [GIT MASTER] eeb0605f118dae66e80faa44f7b3e88748032353 From: dpdklab@iol.unh.edu To: Test Report Cc: dpdk-test-reports@iol.unh.edu, Xueming Li , Christian Ehrhardt , Kevin Traynor , Luca Boccassi Content-Type: text/plain X-BeenThere: test-report@dpdk.org X-Mailman-Version: 2.1.29 Precedence: list List-Id: automatic DPDK test reports List-Unsubscribe: , List-Archive: List-Post: List-Help: List-Subscribe: , Errors-To: test-report-bounces@dpdk.org _Testing PASS_ Branch: tags/v23.11 eeb0605f118dae66e80faa44f7b3e88748032353 --> testing pass Test environment and result as below: +---------------------+----------------+ | Environment | dpdk_unit_test | +=====================+================+ | Windows Server 2019 | PASS | +---------------------+----------------+ | Debian Buster | PASS | +---------------------+----------------+ | Fedora 38 | PASS | +---------------------+----------------+ | Debian Bullseye | PASS | +---------------------+----------------+ | CentOS Stream 8 | PASS | +---------------------+----------------+ Windows Server 2019 Kernel: 10.0 Compiler: clang 14.0 and gcc 8.1.0 (MinGW) Debian Buster Kernel: 5.4.0-122-generic Compiler: gcc 8.3.0-6 Fedora 38 Kernel: Depends on container host Compiler: clang 16.0.3 Debian Bullseye Kernel: 5.4.0-122-generic Compiler: gcc 10.2.1-6 CentOS Stream 8 Kernel: 4.18.0-240.10.1.el8_3.x86_64 Compiler: gcc 8.4.1 20200928 To view detailed results, visit: https://lab.dpdk.org/results/dashboard/tarballs/28076/ UNH-IOL DPDK Community Lab To manage your email subscriptions, visit: https://lab.dpdk.org/results/dashboard/preferences/subscriptions/