From mboxrd@z Thu Jan  1 00:00:00 1970
Return-Path: <test-report-bounces@dpdk.org>
Received: from mails.dpdk.org (mails.dpdk.org [217.70.189.124])
	by inbox.dpdk.org (Postfix) with ESMTP id 18F2443C5A
	for <public@inbox.dpdk.org>; Wed,  6 Mar 2024 20:14:20 +0100 (CET)
Received: from mails.dpdk.org (localhost [127.0.0.1])
	by mails.dpdk.org (Postfix) with ESMTP id 14BDC402EA;
	Wed,  6 Mar 2024 20:14:20 +0100 (CET)
Received: from mail-oo1-f100.google.com (mail-oo1-f100.google.com
 [209.85.161.100])
 by mails.dpdk.org (Postfix) with ESMTP id 63683402E6
 for <test-report@dpdk.org>; Wed,  6 Mar 2024 20:14:19 +0100 (CET)
Received: by mail-oo1-f100.google.com with SMTP id
 006d021491bc7-595b3644acbso669724eaf.1
 for <test-report@dpdk.org>; Wed, 06 Mar 2024 11:14:19 -0800 (PST)
DKIM-Signature: v=1; a=rsa-sha256; c=relaxed/relaxed;
 d=iol.unh.edu; s=unh-iol; t=1709752458; x=1710357258; darn=dpdk.org;
 h=references:in-reply-to:cc:to:from:subject:message-id:date:from:to
 :cc:subject:date:message-id:reply-to;
 bh=SL0gF5lvb9FHHV333+urxyQVyx4uU/czdrvgcyTDDRY=;
 b=ajLI0YXWzVU07vFuutAUdZZz8VlmOTQXEmzAsE1aj2q8+7iPE0Iokx4XYnxkvCxR2V
 AqvF1kc4XMev+8TpqXUbZnBO7deatqb5JjGABcy4ov9bdxF3SB8tilgz89WoQbRsX0e1
 ftx2mFtK5tGCoQCwmPXGZLLLN9ytn8Kwjn6B8=
X-Google-DKIM-Signature: v=1; a=rsa-sha256; c=relaxed/relaxed;
 d=1e100.net; s=20230601; t=1709752458; x=1710357258;
 h=references:in-reply-to:cc:to:from:subject:message-id:date
 :x-gm-message-state:from:to:cc:subject:date:message-id:reply-to;
 bh=SL0gF5lvb9FHHV333+urxyQVyx4uU/czdrvgcyTDDRY=;
 b=IuN03OzUO4hP0pzPtapdQSXhs4CPNCJ6RatYH0OXZ+8dWlL9zrKPqXbGb5VCMm0mpH
 2jdJQNh7RSMj4MNCqTmueuMwMAGym5tsK6hIN4Zr9SgxBX7+0wz8c6MSqPqYq487GJB1
 INq1Wh7LuXkCoBqKm77G9yUa4RrMOFttzCgjj/GiQ3pgqVC4qZe+iRbvJ2doRktMMKwP
 tgfVp1p43tRWJk3BacAr4JkJ5kzrEL0onARPf0kYbP0IsomHtfAO21Y75lkHjg6DeVNP
 SSW/9ZNkKKi1kyRUaLSpA1/MkQOofWnJ9QfeTIZEC22YS15T4oJlulZg+E4ZnFhyhXLt
 0IjQ==
X-Gm-Message-State: AOJu0Yz0ILcNlxBtECgmhhxmOhsVvZqtxsub7cPfJh0pTZMr1qtPR36/
 39M9yaBRSt8hvSoRe1fFDiDoyZppkntTwRF9oHLKGhiVtwBRUqjZatvgigV+7hwuePY/Au3XWfn
 ZUdrOCvUQGIukUa5gQ5b0WfzkqhcbDsDO9XfSGljymHzPZ83rQdHOZZud
X-Google-Smtp-Source: AGHT+IHxtpskAByT5f0SQ8OJhqDotidal9gW9PRauX/ueZElW97jYAo6sJgr/ORXnXnGOlNTlyKvYnIDji6X
X-Received: by 2002:a05:6870:7d06:b0:21e:377c:964f with SMTP id
 os6-20020a0568707d0600b0021e377c964fmr493881oab.7.1709752458692; 
 Wed, 06 Mar 2024 11:14:18 -0800 (PST)
Received: from postal.iol.unh.edu (postal.iol.unh.edu.
 [2606:4100:3880:1234::84]) by smtp-relay.gmail.com with ESMTPS id
 z23-20020a0568301db700b006e4df527994sm392436oti.8.2024.03.06.11.14.18
 (version=TLS1_2 cipher=ECDHE-ECDSA-AES128-GCM-SHA256 bits=128/128);
 Wed, 06 Mar 2024 11:14:18 -0800 (PST)
X-Relaying-Domain: iol.unh.edu
Date: Wed, 06 Mar 2024 11:14:18 -0800 (PST)
Message-ID: <65e8c08a.050a0220.c121.375cSMTPIN_ADDED_MISSING@mx.google.com>
Received: from [172.17.0.7] (unknown [172.18.0.217])
 by postal.iol.unh.edu (Postfix) with ESMTP id 309856043300;
 Wed,  6 Mar 2024 14:14:18 -0500 (EST)
Subject: |SUCCESS| pw138051-138053 [PATCH] [v7,3/3] config/arm: allow WFE to 
From: dpdklab@iol.unh.edu
To: Test Report <test-report@dpdk.org>
Cc: dpdk-test-reports@iol.unh.edu
In-Reply-To: <20240306154957.750-3-pbhagavatula@marvell.com>
References: <20240306154957.750-3-pbhagavatula@marvell.com>
Content-Type: text/plain
X-BeenThere: test-report@dpdk.org
X-Mailman-Version: 2.1.29
Precedence: list
List-Id: automatic DPDK test reports <test-report.dpdk.org>
List-Unsubscribe: <https://mails.dpdk.org/options/test-report>,
 <mailto:test-report-request@dpdk.org?subject=unsubscribe>
List-Archive: <http://mails.dpdk.org/archives/test-report/>
List-Post: <mailto:test-report@dpdk.org>
List-Help: <mailto:test-report-request@dpdk.org?subject=help>
List-Subscribe: <https://mails.dpdk.org/listinfo/test-report>,
 <mailto:test-report-request@dpdk.org?subject=subscribe>
Errors-To: test-report-bounces@dpdk.org

Test-Label: iol-unit-arm64-testing
Test-Status: SUCCESS
http://dpdk.org/patch/138053

_Testing PASS_

Submitter: Pavan Nikhilesh Bhagavatula <pbhagavatula@marvell.com>
Date: Wednesday, March 06 2024 15:49:57 
DPDK git baseline: Repo:dpdk
  Branch: master
  CommitID:362b11d129cbd0c262baab748631622c0570c34e

138051-138053 --> testing pass

Test environment and result as below:

+-----------------------+--------------+----------------+---------------------------+------------------------------+
|      Environment      | lpm_autotest | dpdk_unit_test | cryptodev_sw_zuc_autotest | cryptodev_sw_snow3g_autotest |
+=======================+==============+================+===========================+==============================+
| Ubuntu 20.04 ARM SVE  | PASS         | SKIPPED        | SKIPPED                   | SKIPPED                      |
+-----------------------+--------------+----------------+---------------------------+------------------------------+
| Debian 12 (arm)       | SKIPPED      | PASS           | PASS                      | PASS                         |
+-----------------------+--------------+----------------+---------------------------+------------------------------+
| CentOS Stream 9 (ARM) | SKIPPED      | PASS           | SKIPPED                   | SKIPPED                      |
+-----------------------+--------------+----------------+---------------------------+------------------------------+


Ubuntu 20.04 ARM SVE
	Kernel: 5.4.0-80-generic
	Compiler: gcc 10.3.0 (Ubuntu 10.3.0-1ubuntu1~20.04)

Debian 12 (arm)
	Kernel: Container Host Kernel
	Compiler: gcc 11

CentOS Stream 9 (ARM)
	Kernel: Container Host Kernel
	Compiler: gcc 11.3.1

To view detailed results, visit:
https://lab.dpdk.org/results/dashboard/patchsets/29441/

UNH-IOL DPDK Community Lab

To manage your email subscriptions, visit: 
https://lab.dpdk.org/results/dashboard/preferences/subscriptions/