From mboxrd@z Thu Jan 1 00:00:00 1970 Return-Path: Received: from mails.dpdk.org (mails.dpdk.org [217.70.189.124]) by inbox.dpdk.org (Postfix) with ESMTP id B965143C21 for ; Thu, 7 Mar 2024 20:00:17 +0100 (CET) Received: from mails.dpdk.org (localhost [127.0.0.1]) by mails.dpdk.org (Postfix) with ESMTP id B3B93402BA; Thu, 7 Mar 2024 20:00:17 +0100 (CET) Received: from mail-il1-f226.google.com (mail-il1-f226.google.com [209.85.166.226]) by mails.dpdk.org (Postfix) with ESMTP id 359D140272 for ; Thu, 7 Mar 2024 20:00:16 +0100 (CET) Received: by mail-il1-f226.google.com with SMTP id e9e14a558f8ab-365ff075e4bso4800155ab.1 for ; Thu, 07 Mar 2024 11:00:16 -0800 (PST) DKIM-Signature: v=1; a=rsa-sha256; c=relaxed/relaxed; d=iol.unh.edu; s=unh-iol; t=1709838015; x=1710442815; darn=dpdk.org; h=references:in-reply-to:cc:to:from:subject:message-id:date:from:to :cc:subject:date:message-id:reply-to; bh=qgKmhPJ5Giih2TYdc+oImdJ6lJZJFH7NNPeX3T39ZSY=; b=WUZx+QYRQK+hLNfIV4GHhCYuO4Pb6BjhiBocHornd4tdwAUaD6TJlK/B158MLXrjpQ yot7j5gIwPYjfR8SVL9zsYr6+gZi5MPdIodaj3QRS8N9Xo2z1mcem3D0hhHv+Jm/ZBPu hw1jQT88CloOE+VIkmfvS58HoRVP+/pDwJ1e4= X-Google-DKIM-Signature: v=1; a=rsa-sha256; c=relaxed/relaxed; d=1e100.net; s=20230601; t=1709838015; x=1710442815; h=references:in-reply-to:cc:to:from:subject:message-id:date :x-gm-message-state:from:to:cc:subject:date:message-id:reply-to; bh=qgKmhPJ5Giih2TYdc+oImdJ6lJZJFH7NNPeX3T39ZSY=; b=d/BZpVLWy1K4JblXp4GzBYgsI0Z2o2YFNoxBNXuDJJwaUiuRThrjCYy1riHKJz/IqI IaVFVC328KHSA5I0OFz+X9syL2DrlwRuk7qpI6QiDTLSKcai/EIe66ZOw6qfIHqPSaLV hXLZn8vLZZzWt9RS3PrPCEYFR/EPtfoaxbWaQgE3NpmdCMC2acsgzeoZTtwKXQjH1xqh NnjCXzpXoU7RELnTiTTTDHzaphF2TOsdZnsdl4PCCxcKNi5MC7tjRPPeE2z3sTjyE7Q6 p7CBOeqTVIft0xOSEslHFfIiYSxc9Ndhm3TTVfrAPFE9wJlVOXhtGYNj1PzLWJICzUok jmdg== X-Gm-Message-State: AOJu0YwIhtXviLdxHBuj8AG3Up93yaXmChm9YyYUgy0QTx78KaWY6WGr qshy8m51Cd4/B6natckXbzXIpq/RhaiCJm/GCYz66cl/m6S6/KeV6v9apSrCm2W6W3buqniRgOZ Gsgf5QDoLcTDFGLEynhJQ2aXZz+lVswcUfsUfzkj4 X-Google-Smtp-Source: AGHT+IHXD6AAow3S5yGvON5xZxhz7+W9WImfVrHqQwl2ugwJYRCzpSiwo/tZ/sVE9qw4nAg7F8NRRgRBqAZk X-Received: by 2002:a05:6e02:1c2d:b0:365:15f6:2435 with SMTP id m13-20020a056e021c2d00b0036515f62435mr22648926ilh.1.1709838015591; Thu, 07 Mar 2024 11:00:15 -0800 (PST) Received: from postal.iol.unh.edu (postal.iol.unh.edu. [132.177.123.84]) by smtp-relay.gmail.com with ESMTPS id s28-20020a02cc9c000000b0047504131f87sm193743jap.2.2024.03.07.11.00.15 (version=TLS1_2 cipher=ECDHE-ECDSA-AES128-GCM-SHA256 bits=128/128); Thu, 07 Mar 2024 11:00:15 -0800 (PST) X-Relaying-Domain: iol.unh.edu Date: Thu, 07 Mar 2024 11:00:15 -0800 (PST) Message-ID: <65ea0ebf.020a0220.6904.ad67SMTPIN_ADDED_MISSING@mx.google.com> Received: from [172.17.0.9] (unknown [172.18.0.217]) by postal.iol.unh.edu (Postfix) with ESMTP id 1CCD46043484; Thu, 7 Mar 2024 14:00:15 -0500 (EST) Subject: |SUCCESS| pw138107 [PATCH] argparse: fix parser callback type name From: dpdklab@iol.unh.edu To: Test Report Cc: dpdk-test-reports@iol.unh.edu In-Reply-To: <20240307161402.1460071-1-david.marchand@redhat.com> References: <20240307161402.1460071-1-david.marchand@redhat.com> Content-Type: text/plain X-BeenThere: test-report@dpdk.org X-Mailman-Version: 2.1.29 Precedence: list List-Id: automatic DPDK test reports List-Unsubscribe: , List-Archive: List-Post: List-Help: List-Subscribe: , Errors-To: test-report-bounces@dpdk.org Test-Label: iol-unit-amd64-testing Test-Status: SUCCESS http://dpdk.org/patch/138107 _Testing PASS_ Submitter: David Marchand Date: Thursday, March 07 2024 16:14:02 DPDK git baseline: Repo:dpdk Branch: master CommitID:4877d26a37d3bb515fc714b260066c0cac1985cf 138107 --> testing pass Test environment and result as below: +------------------+----------------+ | Environment | dpdk_unit_test | +==================+================+ | CentOS Stream 8 | PASS | +------------------+----------------+ | Debian 12 (arm) | PASS | +------------------+----------------+ | Debian Bullseye | PASS | +------------------+----------------+ | CentOS Stream 9 | PASS | +------------------+----------------+ | Ubuntu 22.04 | PASS | +------------------+----------------+ | Fedora 38 | PASS | +------------------+----------------+ | Fedora 37 | PASS | +------------------+----------------+ | RHEL8 | PASS | +------------------+----------------+ | openSUSE Leap 15 | PASS | +------------------+----------------+ CentOS Stream 8 Kernel: 4.18.0-240.10.1.el8_3.x86_64 Compiler: gcc 8.4.1 20200928 Debian 12 (arm) Kernel: Container Host Kernel Compiler: gcc 11 Debian Bullseye Kernel: 5.4.0-122-generic Compiler: gcc 10.2.1-6 CentOS Stream 9 Kernel: 4.18.0-240.10.1.el8_3.x86_64 Compiler: gcc 11.3.1 20220421 Ubuntu 22.04 Kernel: 4.18.0-240.10.1.el8_3.x86_64 Compiler: gcc 11.3.0 Fedora 38 Kernel: Depends on container host Compiler: gcc 13.1.1 Fedora 37 Kernel: Depends on container host system Compiler: gcc 12.3.1 RHEL8 Kernel: 4.18.0-240.10.1.el8_3.x86_64 Compiler: gcc 8.3.1 20191121 (Red Hat 8.3.1-5) openSUSE Leap 15 Kernel: 4.18.0-240.10.1.el8_3.x86_64 Compiler: gcc 7.5.0 To view detailed results, visit: https://lab.dpdk.org/results/dashboard/patchsets/29465/ UNH-IOL DPDK Community Lab To manage your email subscriptions, visit: https://lab.dpdk.org/results/dashboard/preferences/subscriptions/