From mboxrd@z Thu Jan 1 00:00:00 1970 Return-Path: Received: from mails.dpdk.org (mails.dpdk.org [217.70.189.124]) by inbox.dpdk.org (Postfix) with ESMTP id DE2F143C21 for ; Thu, 7 Mar 2024 20:09:32 +0100 (CET) Received: from mails.dpdk.org (localhost [127.0.0.1]) by mails.dpdk.org (Postfix) with ESMTP id DA4A3402BA; Thu, 7 Mar 2024 20:09:32 +0100 (CET) Received: from mail-io1-f97.google.com (mail-io1-f97.google.com [209.85.166.97]) by mails.dpdk.org (Postfix) with ESMTP id D67F740272 for ; Thu, 7 Mar 2024 20:09:31 +0100 (CET) Received: by mail-io1-f97.google.com with SMTP id ca18e2360f4ac-7c889367ca2so20132539f.0 for ; Thu, 07 Mar 2024 11:09:31 -0800 (PST) DKIM-Signature: v=1; a=rsa-sha256; c=relaxed/relaxed; d=iol.unh.edu; s=unh-iol; t=1709838571; x=1710443371; darn=dpdk.org; h=references:in-reply-to:cc:to:from:subject:message-id:date:from:to :cc:subject:date:message-id:reply-to; bh=uU23tJnTxxldK0cCwP4cmR1yEJT+62Kh9ccn+G/aR8E=; b=Se52MvNsKkiJL2Lvkkzxp3Qg8pmldCYpbE+LdNhfZ32ANdK0kSU6Qcx8yL+4xaXGH+ 8N6Mx62obZKfKgEyepLw/6vv/cBrC1RcFaF3VEnbrlXdLeae4tPXpUcGpNcs56xG2Mkz 7b8CDLac61rx65a8XAHDjG0iG7W0bIbYoib/g= X-Google-DKIM-Signature: v=1; a=rsa-sha256; c=relaxed/relaxed; d=1e100.net; s=20230601; t=1709838571; x=1710443371; h=references:in-reply-to:cc:to:from:subject:message-id:date :x-gm-message-state:from:to:cc:subject:date:message-id:reply-to; bh=uU23tJnTxxldK0cCwP4cmR1yEJT+62Kh9ccn+G/aR8E=; b=kkc9PQkpAaq4xOhdPL7xbDP6Fje8n49fonh5U0k3CdxwQ7ST73EogHG8wUFLBjlUUJ hDGq0sdXoP7Cs2qh13n5kAoosEhPyY+2dKb1ZQ1leehDWezLdMu6Pi3ybshXLXZ/gByL AU6KqMZkfiGx0hzKro0Ad+OohdW2ZLCbvF42/3Q6sK4dUhFcQc/2RJViuwSzzyaNbMJ+ 6bU2wKPNXR1rDinemjwuBL5FWAkhekOtO+bsAw9NiZLQczjz5iOjVPacaOWPVDtYtI4q fzSUnM/a/Js0Apc7zzz5QVjTbAEkOD4U1fxr3a9WSQH4CpwkHN+p/Sc0RfMtSKX/wCkz PyVA== X-Gm-Message-State: AOJu0YzwsjM/kh6hPu3p3M98PKsASEZYkZ7nD+YCEUYSlGuoMXAFLEOo eDVPmFPjfOkrFpCJVAhKQ8+cFLiTSYihcEVxHEuxcShy3KNYSuxP4RAc+y2erivje0GbLRFOuyj eMhFLPEG/sLJeI7jrbA2H5X0h6taLKYpnI4aRU5HQ07068SlIVe8nLcuZ X-Google-Smtp-Source: AGHT+IGTmhTOuBP6l3qZmqyrpA2AaClnPoBIaaUlCmEaPhLpPAg8YYjGF2jiQkvbPvqXbvzIOAX38dq3xCz+ X-Received: by 2002:a05:6e02:1c48:b0:365:3c98:cae8 with SMTP id d8-20020a056e021c4800b003653c98cae8mr1716607ilg.12.1709838571292; Thu, 07 Mar 2024 11:09:31 -0800 (PST) Received: from postal.iol.unh.edu (postal.iol.unh.edu. [2606:4100:3880:1234::84]) by smtp-relay.gmail.com with ESMTPS id cd12-20020a056e02320c00b00363c7fff8c1sm833672ilb.56.2024.03.07.11.09.31 (version=TLS1_2 cipher=ECDHE-ECDSA-AES128-GCM-SHA256 bits=128/128); Thu, 07 Mar 2024 11:09:31 -0800 (PST) X-Relaying-Domain: iol.unh.edu Date: Thu, 07 Mar 2024 11:09:31 -0800 (PST) Message-ID: <65ea10eb.050a0220.ed37f.5b30SMTPIN_ADDED_MISSING@mx.google.com> Received: from [172.17.0.7] (unknown [172.18.0.217]) by postal.iol.unh.edu (Postfix) with ESMTP id CB5C76043484; Thu, 7 Mar 2024 14:09:30 -0500 (EST) Subject: |SUCCESS| pw138107 [PATCH] argparse: fix parser callback type name From: dpdklab@iol.unh.edu To: Test Report Cc: dpdk-test-reports@iol.unh.edu In-Reply-To: <20240307161402.1460071-1-david.marchand@redhat.com> References: <20240307161402.1460071-1-david.marchand@redhat.com> Content-Type: text/plain X-BeenThere: test-report@dpdk.org X-Mailman-Version: 2.1.29 Precedence: list List-Id: automatic DPDK test reports List-Unsubscribe: , List-Archive: List-Post: List-Help: List-Subscribe: , Errors-To: test-report-bounces@dpdk.org Test-Label: iol-compile-amd64-testing Test-Status: SUCCESS http://dpdk.org/patch/138107 _Testing PASS_ Submitter: David Marchand Date: Thursday, March 07 2024 16:14:02 DPDK git baseline: Repo:dpdk Branch: master CommitID:4877d26a37d3bb515fc714b260066c0cac1985cf 138107 --> testing pass Test environment and result as below: +---------------------+--------------------+----------------------+ | Environment | dpdk_meson_compile | dpdk_mingw64_compile | +=====================+====================+======================+ | FreeBSD 13.2 | PASS | SKIPPED | +---------------------+--------------------+----------------------+ | Windows Server 2022 | PASS | SKIPPED | +---------------------+--------------------+----------------------+ | Windows Server 2019 | PASS | PASS | +---------------------+--------------------+----------------------+ | CentOS Stream 9 | PASS | SKIPPED | +---------------------+--------------------+----------------------+ | CentOS Stream 8 | PASS | SKIPPED | +---------------------+--------------------+----------------------+ | Fedora 37 | PASS | SKIPPED | +---------------------+--------------------+----------------------+ | Fedora 38 | PASS | SKIPPED | +---------------------+--------------------+----------------------+ | Ubuntu 20.04 | PASS | SKIPPED | +---------------------+--------------------+----------------------+ | openSUSE Leap 15 | PASS | SKIPPED | +---------------------+--------------------+----------------------+ | Ubuntu 22.04 | PASS | SKIPPED | +---------------------+--------------------+----------------------+ | RHEL8 | PASS | SKIPPED | +---------------------+--------------------+----------------------+ | Alpine | PASS | SKIPPED | +---------------------+--------------------+----------------------+ FreeBSD 13.2 Kernel: 13.2 Compiler: clang 11.3.0 Windows Server 2022 Kernel: OS Build 20348.2031 Compiler: MSVC VS-Preview Windows Server 2019 Kernel: 10.0 Compiler: clang 14.0 and gcc 8.1.0 (MinGW) CentOS Stream 9 Kernel: 4.18.0-240.10.1.el8_3.x86_64 Compiler: gcc 11.3.1 20220421 CentOS Stream 8 Kernel: 4.18.0-240.10.1.el8_3.x86_64 Compiler: gcc 8.4.1 20200928 Fedora 37 Kernel: Depends on container host system Compiler: gcc 12.3.1 Fedora 38 Kernel: Depends on container host Compiler: gcc 13.1.1 Ubuntu 20.04 Kernel: 5.4.0-153-generic Compiler: gcc 9.4.0-1ubuntu1~20.04.1 openSUSE Leap 15 Kernel: 4.18.0-240.10.1.el8_3.x86_64 Compiler: gcc 7.5.0 Ubuntu 22.04 Kernel: 4.18.0-240.10.1.el8_3.x86_64 Compiler: gcc 11.3.0 RHEL8 Kernel: 4.18.0-240.10.1.el8_3.x86_64 Compiler: gcc 8.3.1 20191121 (Red Hat 8.3.1-5) Alpine Kernel: 5.4.0-73-generic Compiler: gcc (Alpine 10.3.1_git20210424) 10.3.1 20210424 To view detailed results, visit: https://lab.dpdk.org/results/dashboard/patchsets/29465/ UNH-IOL DPDK Community Lab To manage your email subscriptions, visit: https://lab.dpdk.org/results/dashboard/preferences/subscriptions/