From mboxrd@z Thu Jan 1 00:00:00 1970 Return-Path: Received: from mails.dpdk.org (mails.dpdk.org [217.70.189.124]) by inbox.dpdk.org (Postfix) with ESMTP id E072D43C21 for ; Thu, 7 Mar 2024 20:20:50 +0100 (CET) Received: from mails.dpdk.org (localhost [127.0.0.1]) by mails.dpdk.org (Postfix) with ESMTP id DC7EE402BA; Thu, 7 Mar 2024 20:20:50 +0100 (CET) Received: from mail-pl1-f227.google.com (mail-pl1-f227.google.com [209.85.214.227]) by mails.dpdk.org (Postfix) with ESMTP id 86A6A40272 for ; Thu, 7 Mar 2024 20:20:49 +0100 (CET) Received: by mail-pl1-f227.google.com with SMTP id d9443c01a7336-1dcb3e6ff3fso10417495ad.2 for ; Thu, 07 Mar 2024 11:20:49 -0800 (PST) DKIM-Signature: v=1; a=rsa-sha256; c=relaxed/relaxed; d=iol.unh.edu; s=unh-iol; t=1709839249; x=1710444049; darn=dpdk.org; h=references:in-reply-to:cc:to:from:subject:message-id:date:from:to :cc:subject:date:message-id:reply-to; bh=h2tTasSvrw6cIOLc7Wa+q2L2TKyo8hDoy8dJtG49Glw=; b=OZsik91Giq1N4ujgQspE8lkwNFXyaAbpyaXewDQkzwmU8mFLLy9Ms3gWp4+Vvaa2OV HjT1gjxJbvAZQQam6t6NFfLG9kYJLz1N0cWK8ouRk0rLc238KD5cMGg5Z+D5c+yfCRTi CEfuMLbsWQvlWZfMnCx3Pieso1SXEphoocfTs= X-Google-DKIM-Signature: v=1; a=rsa-sha256; c=relaxed/relaxed; d=1e100.net; s=20230601; t=1709839249; x=1710444049; h=references:in-reply-to:cc:to:from:subject:message-id:date :x-gm-message-state:from:to:cc:subject:date:message-id:reply-to; bh=h2tTasSvrw6cIOLc7Wa+q2L2TKyo8hDoy8dJtG49Glw=; b=BqCxSdbK7gRbE82qJxNwOvkq8s/0lm9hxRyHA0NG4p15MupQoemX2z8KaTrNPEEFG1 A0aAGzs+9mOa4nogYTrpu4tknOExP/l91WYZv/l8ETMzAQj40gEbWgA7oGAfMukY+5TQ FtC7vKeyL9X7RFVdGy/Jlv93scklyGvM013y7tzf78PPZzR3P7ASYijbOWjiMMDTqMhd UZ/KekIeugY99hf1z5dqJco8dTq7g0N58jo1gZKwtmG1vc9oSE7skGtopmqWTb4eC/Jg X6jiUcUsRHJGwt0eDN5Trb4noexEaFnAqU+rA6wn1KQd4wGJ2NLojSC3fgWnLNGVrBgr wN2Q== X-Gm-Message-State: AOJu0YyvRflVvWuZagYNEI+gu0wbB6Ug5m38Acp29010AZi5+9gWURlW 1hLSIFvTKZmYzNBAprkG1LD7rH6wI/CJHCbJUsvYfjw7UBFY3qzaiKKH5AJG8ZLm/l2YzlwdcCk r/mf7XPPrTb/wLdkQUXPy6tWrlMBL17WTsP7Mdw1P X-Google-Smtp-Source: AGHT+IECyIJ1lrLgS+9rx74KDoko+fOAMdfQfGQ3i/pGZPviRc87TfWSGFw5d0LPAGsizNc5+OWxxItMfPVg X-Received: by 2002:a17:902:e78c:b0:1dc:cf8f:f27f with SMTP id cp12-20020a170902e78c00b001dccf8ff27fmr8340310plb.28.1709839248832; Thu, 07 Mar 2024 11:20:48 -0800 (PST) Received: from postal.iol.unh.edu (postal.iol.unh.edu. [132.177.123.84]) by smtp-relay.gmail.com with ESMTPS id y24-20020a170902b49800b001db650f702fsm361179plr.146.2024.03.07.11.20.48 (version=TLS1_2 cipher=ECDHE-ECDSA-AES128-GCM-SHA256 bits=128/128); Thu, 07 Mar 2024 11:20:48 -0800 (PST) X-Relaying-Domain: iol.unh.edu Date: Thu, 07 Mar 2024 11:20:48 -0800 (PST) Message-ID: <65ea1390.170a0220.7b59d.623bSMTPIN_ADDED_MISSING@mx.google.com> Received: from [172.17.0.6] (unknown [172.18.0.217]) by postal.iol.unh.edu (Postfix) with ESMTP id 04C3F6043484; Thu, 7 Mar 2024 14:20:48 -0500 (EST) Subject: |SUCCESS| pw138107 [PATCH] argparse: fix parser callback type name From: dpdklab@iol.unh.edu To: Test Report Cc: dpdk-test-reports@iol.unh.edu In-Reply-To: <20240307161402.1460071-1-david.marchand@redhat.com> References: <20240307161402.1460071-1-david.marchand@redhat.com> Content-Type: text/plain X-BeenThere: test-report@dpdk.org X-Mailman-Version: 2.1.29 Precedence: list List-Id: automatic DPDK test reports List-Unsubscribe: , List-Archive: List-Post: List-Help: List-Subscribe: , Errors-To: test-report-bounces@dpdk.org Test-Label: iol-unit-amd64-testing Test-Status: SUCCESS http://dpdk.org/patch/138107 _Testing PASS_ Submitter: David Marchand Date: Thursday, March 07 2024 16:14:02 DPDK git baseline: Repo:dpdk Branch: master CommitID:4877d26a37d3bb515fc714b260066c0cac1985cf 138107 --> testing pass Test environment and result as below: +------------------+----------------+ | Environment | dpdk_unit_test | +==================+================+ | CentOS Stream 8 | PASS | +------------------+----------------+ | Debian 12 (arm) | PASS | +------------------+----------------+ | Debian Bullseye | PASS | +------------------+----------------+ | CentOS Stream 9 | PASS | +------------------+----------------+ | Ubuntu 22.04 | PASS | +------------------+----------------+ | Fedora 38 | PASS | +------------------+----------------+ | Fedora 37 | PASS | +------------------+----------------+ | RHEL8 | PASS | +------------------+----------------+ | openSUSE Leap 15 | PASS | +------------------+----------------+ | Ubuntu 20.04 | PASS | +------------------+----------------+ CentOS Stream 8 Kernel: 4.18.0-240.10.1.el8_3.x86_64 Compiler: gcc 8.4.1 20200928 Debian 12 (arm) Kernel: Container Host Kernel Compiler: gcc 11 Debian Bullseye Kernel: 5.4.0-122-generic Compiler: gcc 10.2.1-6 CentOS Stream 9 Kernel: 4.18.0-240.10.1.el8_3.x86_64 Compiler: gcc 11.3.1 20220421 Ubuntu 22.04 Kernel: 4.18.0-240.10.1.el8_3.x86_64 Compiler: gcc 11.3.0 Fedora 38 Kernel: Depends on container host Compiler: gcc 13.1.1 Fedora 37 Kernel: Depends on container host system Compiler: gcc 12.3.1 RHEL8 Kernel: 4.18.0-240.10.1.el8_3.x86_64 Compiler: gcc 8.3.1 20191121 (Red Hat 8.3.1-5) openSUSE Leap 15 Kernel: 4.18.0-240.10.1.el8_3.x86_64 Compiler: gcc 7.5.0 Ubuntu 20.04 Kernel: 5.4.0-153-generic Compiler: gcc 9.4.0-1ubuntu1~20.04.1 To view detailed results, visit: https://lab.dpdk.org/results/dashboard/patchsets/29465/ UNH-IOL DPDK Community Lab To manage your email subscriptions, visit: https://lab.dpdk.org/results/dashboard/preferences/subscriptions/