From mboxrd@z Thu Jan 1 00:00:00 1970 Return-Path: Received: from mails.dpdk.org (mails.dpdk.org [217.70.189.124]) by inbox.dpdk.org (Postfix) with ESMTP id 0D33543C21 for ; Thu, 7 Mar 2024 20:21:02 +0100 (CET) Received: from mails.dpdk.org (localhost [127.0.0.1]) by mails.dpdk.org (Postfix) with ESMTP id 0717F402BA; Thu, 7 Mar 2024 20:21:02 +0100 (CET) Received: from mail-qv1-f99.google.com (mail-qv1-f99.google.com [209.85.219.99]) by mails.dpdk.org (Postfix) with ESMTP id EE3B840272 for ; Thu, 7 Mar 2024 20:20:58 +0100 (CET) Received: by mail-qv1-f99.google.com with SMTP id 6a1803df08f44-68f41af71ebso11517746d6.1 for ; Thu, 07 Mar 2024 11:20:58 -0800 (PST) DKIM-Signature: v=1; a=rsa-sha256; c=relaxed/relaxed; d=iol.unh.edu; s=unh-iol; t=1709839258; x=1710444058; darn=dpdk.org; h=references:in-reply-to:cc:to:from:subject:message-id:date:from:to :cc:subject:date:message-id:reply-to; bh=DTFguCCKi0A7aesWJqSRoCIQS7Pd1/w0emuUl/SlOgk=; b=etfeovL3N3pGfAE7y3HaTejeOAqgw9LgEuQCaBlfx/+g8ZjueMWgH7OI0sjOd1TMkL qjKWYLfNKZO6M8NoXFtbWrw+6Lf3N9W27k4RzIRGvy4SPGlbwzWmasBGI0ocYDlDot5c vyDXaV4esokip65tkkoLk4flRXT7nId0URB0o= X-Google-DKIM-Signature: v=1; a=rsa-sha256; c=relaxed/relaxed; d=1e100.net; s=20230601; t=1709839258; x=1710444058; h=references:in-reply-to:cc:to:from:subject:message-id:date :x-gm-message-state:from:to:cc:subject:date:message-id:reply-to; bh=DTFguCCKi0A7aesWJqSRoCIQS7Pd1/w0emuUl/SlOgk=; b=BiUENJdiwoSsPoKd3Vh8E0MXxEQ65aaE+ADaVW8fx6fg0yWt4TRP8cPM72hv5Veubq wnMBOqjs0Y4QWEIHUkWb76/QPmbfTZb5pFBPMtF3qdlWVNB69t/dfxTF4P/AlOcJPyZL TrVpbYgu3E2Cmg/UFeXorWcCrGgaPDhczBK5wRD6sGmNrOPpAFvJgi+4RGy8IlxBIyLo Wf39n2aUqTeaA9EZPrVAOlC2eOHGaCSie/cAxIAUEKVFmVhY2Z4Z1yoM7khxLhY/pYAf fGA72BCZXLJDu2xvm6V6chPjKrA21L9lgmIgpl3TBbL2Fu7b0AK4ASVC8LoVzXvrU/ZL tIPw== X-Gm-Message-State: AOJu0YygDA70l3zSwh+yIYHfarsTgf/v+eEljwx9grMfBpk70NpJL/tx ypGGT0/nZT10v6KrsbzipKZVjptdmLnvc9qc2ofZDGSDysPWiNjT3nfrJ4SI0A9DIEa3BMfYCxX DGpQ3NLI/4bvOB+Q691PUdPYtee3ip/GbiSA3FfsG X-Google-Smtp-Source: AGHT+IEgg4SAQb7KOdqnrQS7oTK6inMR6hNlbJc+WSxn0gt0dIIuGTsPB+Me7TuQXIPOVjAkHt096jUkDnfr X-Received: by 2002:a05:6214:162:b0:690:7261:29bf with SMTP id y2-20020a056214016200b00690726129bfmr10015608qvs.8.1709839258471; Thu, 07 Mar 2024 11:20:58 -0800 (PST) Received: from postal.iol.unh.edu (postal.iol.unh.edu. [132.177.123.84]) by smtp-relay.gmail.com with ESMTPS id t8-20020a0ce2c8000000b00690a446bd92sm78065qvl.16.2024.03.07.11.20.58 (version=TLS1_2 cipher=ECDHE-ECDSA-AES128-GCM-SHA256 bits=128/128); Thu, 07 Mar 2024 11:20:58 -0800 (PST) X-Relaying-Domain: iol.unh.edu Date: Thu, 07 Mar 2024 11:20:58 -0800 (PST) Message-ID: <65ea139a.0c0a0220.4a712.4f04SMTPIN_ADDED_MISSING@mx.google.com> Received: from [172.17.0.6] (unknown [172.18.0.217]) by postal.iol.unh.edu (Postfix) with ESMTP id 311126043484; Thu, 7 Mar 2024 14:20:58 -0500 (EST) Subject: |SUCCESS| pw138107 [PATCH] argparse: fix parser callback type name From: dpdklab@iol.unh.edu To: Test Report Cc: dpdk-test-reports@iol.unh.edu In-Reply-To: <20240307161402.1460071-1-david.marchand@redhat.com> References: <20240307161402.1460071-1-david.marchand@redhat.com> Content-Type: text/plain X-BeenThere: test-report@dpdk.org X-Mailman-Version: 2.1.29 Precedence: list List-Id: automatic DPDK test reports List-Unsubscribe: , List-Archive: List-Post: List-Help: List-Subscribe: , Errors-To: test-report-bounces@dpdk.org Test-Label: iol-compile-arm64-testing Test-Status: SUCCESS http://dpdk.org/patch/138107 _Testing PASS_ Submitter: David Marchand Date: Thursday, March 07 2024 16:14:02 DPDK git baseline: Repo:dpdk Branch: master CommitID:4877d26a37d3bb515fc714b260066c0cac1985cf 138107 --> testing pass Test environment and result as below: +----------------------------------------+--------------------+ | Environment | dpdk_meson_compile | +========================================+====================+ | Ubuntu 20.04 ARM SVE | PASS | +----------------------------------------+--------------------+ | Debian 12 (Bookworm) | PASS | +----------------------------------------+--------------------+ | Ubuntu 20.04 ARM GCC Cross Compile | PASS | +----------------------------------------+--------------------+ | Ubuntu 20.04 aarch32 GCC Cross Compile | PASS | +----------------------------------------+--------------------+ | Ubuntu 20.04 ARM Clang Cross Compile | PASS | +----------------------------------------+--------------------+ | Fedora 37 (ARM) | PASS | +----------------------------------------+--------------------+ | Debian 11 (Buster) (ARM) | PASS | +----------------------------------------+--------------------+ | Debian 12 (arm) | PASS | +----------------------------------------+--------------------+ | Fedora 38 (ARM) | PASS | +----------------------------------------+--------------------+ | Ubuntu 20.04 (ARM) | PASS | +----------------------------------------+--------------------+ | CentOS Stream 9 (ARM) | PASS | +----------------------------------------+--------------------+ Ubuntu 20.04 ARM SVE Kernel: 5.4.0-80-generic Compiler: gcc 10.3.0 (Ubuntu 10.3.0-1ubuntu1~20.04) Debian 12 (Bookworm) Kernel: 5.4.0-170-generic Compiler: gcc 12.2 Ubuntu 20.04 ARM GCC Cross Compile Kernel: 5.4.0-72-generic Compiler: aarch64-linux-gnu-gcc (Ubuntu 9.3.0-17ubuntu1~20.04) 9.3.0 Ubuntu 20.04 aarch32 GCC Cross Compile Kernel: 5.4.0-72-generic Compiler: gcc 9.3.0 Ubuntu 20.04 ARM Clang Cross Compile Kernel: 5.4.0-72-generic Compiler: clang version 10.0.0-4ubuntu1 Fedora 37 (ARM) Kernel: Depends on container host Compiler: gcc 12.3.1 Debian 11 (Buster) (ARM) Kernel: Container Host Kernel Compiler: gcc 10.2.1 Debian 12 (arm) Kernel: Container Host Kernel Compiler: gcc 11 Fedora 38 (ARM) Kernel: Depends on container host Compiler: gcc 13.1.1 Ubuntu 20.04 (ARM) Kernel: Container Host Kernel Compiler: gcc 9.4.0 CentOS Stream 9 (ARM) Kernel: Container Host Kernel Compiler: gcc 11.3.1 To view detailed results, visit: https://lab.dpdk.org/results/dashboard/patchsets/29465/ UNH-IOL DPDK Community Lab To manage your email subscriptions, visit: https://lab.dpdk.org/results/dashboard/preferences/subscriptions/