From mboxrd@z Thu Jan 1 00:00:00 1970 Return-Path: Received: from mails.dpdk.org (mails.dpdk.org [217.70.189.124]) by inbox.dpdk.org (Postfix) with ESMTP id B2C1E43C21 for ; Thu, 7 Mar 2024 20:46:11 +0100 (CET) Received: from mails.dpdk.org (localhost [127.0.0.1]) by mails.dpdk.org (Postfix) with ESMTP id AEAFB402BA; Thu, 7 Mar 2024 20:46:11 +0100 (CET) Received: from mail-yw1-f226.google.com (mail-yw1-f226.google.com [209.85.128.226]) by mails.dpdk.org (Postfix) with ESMTP id 117D040272 for ; Thu, 7 Mar 2024 20:46:10 +0100 (CET) Received: by mail-yw1-f226.google.com with SMTP id 00721157ae682-609f060cbafso12297367b3.0 for ; Thu, 07 Mar 2024 11:46:10 -0800 (PST) DKIM-Signature: v=1; a=rsa-sha256; c=relaxed/relaxed; d=iol.unh.edu; s=unh-iol; t=1709840769; x=1710445569; darn=dpdk.org; h=references:in-reply-to:cc:to:from:subject:message-id:date:from:to :cc:subject:date:message-id:reply-to; bh=LFQySzEeHMf9L9NLKfTxwpCkvAp+TwhtV84y+y8lwB0=; b=LM6+n5HXzTrzhsuG0/1aztSSC3phLDWzBXqYxwoyW0dL4h5tKyFHnjdE8ncGlxbfhA muAgC2soEXN6li7IybRKQM9o4XnCWeKMimgGqQk/hZ1g74+QxUVx+6PecMkcoe+WebV+ Ad3DFKJLLiyhPAz6aQ+rEzKxwI0YZbXOuQd6M= X-Google-DKIM-Signature: v=1; a=rsa-sha256; c=relaxed/relaxed; d=1e100.net; s=20230601; t=1709840769; x=1710445569; h=references:in-reply-to:cc:to:from:subject:message-id:date :x-gm-message-state:from:to:cc:subject:date:message-id:reply-to; bh=LFQySzEeHMf9L9NLKfTxwpCkvAp+TwhtV84y+y8lwB0=; b=R1LP8dxFmKJgJ0szEBuXIUzZgQyjchKzZ2aQ77uL1tiCehWQOjL78XqSvkdCRcf6cK fOrgkvyF7p89NhLPbxv6esUb0Z9RRwYzpILzv2H7YAl6W1uX21cTZVqsoVRXTzBWF5NV KBnou3ebabkVCAm9FjfuKengSE+ZidMpYBGtdmM9KS6JWIgkjRMemD8YaTailidW+h9p 8MwP+5lxv4LLo9kKFgeihLazgh8gad+5b7GqsH7kTy1Ak/BWKgnPrNHIy9eCmti/u4Fy UffDnnTLF8dLYmXS9Zi5DevNtN59FLscsM5xhikhUcUt3MEVrrvOCmQNRPsiGDmdxhgT +62w== X-Gm-Message-State: AOJu0YykZq9fmilgugTZYortF2O+8HFtXZPAiy+qRDZnYNPnlIf6xvxi P3s1jpJ10eLYGyu+z5++9P1tJKAsuQh8fRcPOGBJasixQz6nPAkgOhg2o9WY4eTphnDviSB5dao iETnkhG6zBwJEacSBYCUU8mRFs9STML8sLArzdAjc X-Google-Smtp-Source: AGHT+IG8elTUUDfltlAZ30m4OZYtwjqs8/esTeCBQ7794Qb16IfiDVuBjMgmRxgA3aLSjBPEF0S5VlD1otKI X-Received: by 2002:a05:690c:f90:b0:607:fbb6:8be2 with SMTP id df16-20020a05690c0f9000b00607fbb68be2mr21479789ywb.47.1709840769521; Thu, 07 Mar 2024 11:46:09 -0800 (PST) Received: from postal.iol.unh.edu (postal.iol.unh.edu. [132.177.123.84]) by smtp-relay.gmail.com with ESMTPS id n3-20020a81c803000000b006093c713f19sm517337ywi.52.2024.03.07.11.46.09 (version=TLS1_2 cipher=ECDHE-ECDSA-AES128-GCM-SHA256 bits=128/128); Thu, 07 Mar 2024 11:46:09 -0800 (PST) X-Relaying-Domain: iol.unh.edu Date: Thu, 07 Mar 2024 11:46:09 -0800 (PST) Message-ID: <65ea1981.810a0220.63602.e586SMTPIN_ADDED_MISSING@mx.google.com> Received: from [172.21.0.6] (unknown [172.18.0.240]) by postal.iol.unh.edu (Postfix) with ESMTP id 30C526043484; Thu, 7 Mar 2024 14:46:09 -0500 (EST) Subject: |SUCCESS| pw138107 [PATCH] argparse: fix parser callback type name From: dpdklab@iol.unh.edu To: Test Report Cc: dpdk-test-reports@iol.unh.edu In-Reply-To: <20240307161402.1460071-1-david.marchand@redhat.com> References: <20240307161402.1460071-1-david.marchand@redhat.com> Content-Type: text/plain X-BeenThere: test-report@dpdk.org X-Mailman-Version: 2.1.29 Precedence: list List-Id: automatic DPDK test reports List-Unsubscribe: , List-Archive: List-Post: List-Help: List-Subscribe: , Errors-To: test-report-bounces@dpdk.org Test-Label: iol-unit-arm64-testing Test-Status: SUCCESS http://dpdk.org/patch/138107 _Testing PASS_ Submitter: David Marchand Date: Thursday, March 07 2024 16:14:02 DPDK git baseline: Repo:dpdk Branch: master CommitID:4877d26a37d3bb515fc714b260066c0cac1985cf 138107 --> testing pass Test environment and result as below: +--------------------------+--------------+---------------------------+------------------------------+----------------+ | Environment | lpm_autotest | cryptodev_sw_zuc_autotest | cryptodev_sw_snow3g_autotest | dpdk_unit_test | +==========================+==============+===========================+==============================+================+ | Ubuntu 20.04 ARM SVE | PASS | SKIPPED | SKIPPED | SKIPPED | +--------------------------+--------------+---------------------------+------------------------------+----------------+ | Debian 12 (arm) | SKIPPED | PASS | PASS | PASS | +--------------------------+--------------+---------------------------+------------------------------+----------------+ | Debian 11 (Buster) (ARM) | SKIPPED | SKIPPED | SKIPPED | PASS | +--------------------------+--------------+---------------------------+------------------------------+----------------+ | Fedora 37 (ARM) | SKIPPED | SKIPPED | SKIPPED | PASS | +--------------------------+--------------+---------------------------+------------------------------+----------------+ | CentOS Stream 9 (ARM) | SKIPPED | SKIPPED | SKIPPED | PASS | +--------------------------+--------------+---------------------------+------------------------------+----------------+ | Fedora 38 (ARM) | SKIPPED | SKIPPED | SKIPPED | PASS | +--------------------------+--------------+---------------------------+------------------------------+----------------+ | Ubuntu 20.04 (ARM) | SKIPPED | SKIPPED | SKIPPED | PASS | +--------------------------+--------------+---------------------------+------------------------------+----------------+ | Fedora 38 (ARM Clang) | SKIPPED | SKIPPED | SKIPPED | PASS | +--------------------------+--------------+---------------------------+------------------------------+----------------+ Ubuntu 20.04 ARM SVE Kernel: 5.4.0-80-generic Compiler: gcc 10.3.0 (Ubuntu 10.3.0-1ubuntu1~20.04) Debian 12 (arm) Kernel: Container Host Kernel Compiler: gcc 11 Debian 11 (Buster) (ARM) Kernel: Container Host Kernel Compiler: gcc 10.2.1 Fedora 37 (ARM) Kernel: Depends on container host Compiler: gcc 12.3.1 CentOS Stream 9 (ARM) Kernel: Container Host Kernel Compiler: gcc 11.3.1 Fedora 38 (ARM) Kernel: Depends on container host Compiler: gcc 13.1.1 Ubuntu 20.04 (ARM) Kernel: Container Host Kernel Compiler: gcc 9.4.0 Fedora 38 (ARM Clang) Kernel: Depends on container host Compiler: clang 16.0.3 To view detailed results, visit: https://lab.dpdk.org/results/dashboard/patchsets/29465/ UNH-IOL DPDK Community Lab To manage your email subscriptions, visit: https://lab.dpdk.org/results/dashboard/preferences/subscriptions/