From mboxrd@z Thu Jan  1 00:00:00 1970
Return-Path: <test-report-bounces@dpdk.org>
Received: from mails.dpdk.org (mails.dpdk.org [217.70.189.124])
	by inbox.dpdk.org (Postfix) with ESMTP id 2DA9343C96
	for <public@inbox.dpdk.org>; Tue, 12 Mar 2024 22:49:30 +0100 (CET)
Received: from mails.dpdk.org (localhost [127.0.0.1])
	by mails.dpdk.org (Postfix) with ESMTP id 2156D410D5;
	Tue, 12 Mar 2024 22:49:30 +0100 (CET)
Received: from mail-ua1-f97.google.com (mail-ua1-f97.google.com
 [209.85.222.97]) by mails.dpdk.org (Postfix) with ESMTP id DAEC440272
 for <test-report@dpdk.org>; Tue, 12 Mar 2024 22:49:26 +0100 (CET)
Received: by mail-ua1-f97.google.com with SMTP id
 a1e0cc1a2514c-7db1a2c1f96so243370241.0
 for <test-report@dpdk.org>; Tue, 12 Mar 2024 14:49:26 -0700 (PDT)
DKIM-Signature: v=1; a=rsa-sha256; c=relaxed/relaxed;
 d=iol.unh.edu; s=unh-iol; t=1710280166; x=1710884966; darn=dpdk.org;
 h=references:in-reply-to:cc:to:from:subject:message-id:date:from:to
 :cc:subject:date:message-id:reply-to;
 bh=13tUZ4g5fMSZAfqd70HGzfPX9ooMkEPfcOwxW3YhH7U=;
 b=h0UZRamKeWbOB6jnLgY+9P7ciadgzXK0LU1QWttXJhCx88ZBEy3VUWyjL8a420eXf7
 sqb1K+uiVM7ReK7SRy9H7GGZ6n4DHIoWV9fwFFlme1KHLnRPkTlo/evHWk/ov31S+ah4
 Rt67uP4cqSyQNlv6RWtYPVkTMvoK5iEKuQNH4=
X-Google-DKIM-Signature: v=1; a=rsa-sha256; c=relaxed/relaxed;
 d=1e100.net; s=20230601; t=1710280166; x=1710884966;
 h=references:in-reply-to:cc:to:from:subject:message-id:date
 :x-gm-message-state:from:to:cc:subject:date:message-id:reply-to;
 bh=13tUZ4g5fMSZAfqd70HGzfPX9ooMkEPfcOwxW3YhH7U=;
 b=WqjzATxbWfohnLzMfCcKFbToXigjFB8obguxIyOjATWBAr1hoIaeRQ+J1n3yfGjraY
 u1qiU8KV56U5KOMh680//SeRssckxXOqZ0Kbwb4/X+hvT1KrYYQqOAob66CLgZm2MTjG
 lgsK/0fG1v6MomspZY03pmCYJfiKu21HpXcoZobX/3ucL4OO/mg5O8Bhbru+4aWylh5I
 /VC+dH9RV4c1D6anaPIaaZDL4p0ddf8+fCUApWc2SdlOLAo9Q3jOSMenzBKqItHQK6Qn
 bmTjmCHRwheGOcPm5UF7viL4vZKKCTTvC2inKK0jgNQkvSzy1RvEEmKZ8eVwgfU/uEho
 cdLQ==
X-Gm-Message-State: AOJu0YzRMllCQr79Qu1dCfXVbZ59C+cn2ybTtAEysuwKpl0GBtEDs6ld
 sTHCGq6LEhoEJdV/mTh4ze1NLzwFhFwkwIc2K/zysZQRv7Ui/KLS555frY+dO7PqJTy518PXhXm
 Osl2CHsU0821ZJTCIhewlP6ISNL4XxISLgVJeDUjuk/NCb0sz7FpGE74c
X-Google-Smtp-Source: AGHT+IEbIwKRPXmIFcKuNlXbviImU9/U5jHDm/gXlEr4GiqrayNNp3nNQSWp+4sNTh3mG7NJUBds3+LxyDKo
X-Received: by 2002:a67:b403:0:b0:474:c77a:842a with SMTP id
 x3-20020a67b403000000b00474c77a842amr1641514vsl.34.1710280166362; 
 Tue, 12 Mar 2024 14:49:26 -0700 (PDT)
Received: from postal.iol.unh.edu (postal.iol.unh.edu.
 [2606:4100:3880:1234::84]) by smtp-relay.gmail.com with ESMTPS id
 o11-20020ab0544b000000b007db5e772bb9sm588553uaa.6.2024.03.12.14.49.26
 (version=TLS1_2 cipher=ECDHE-ECDSA-AES128-GCM-SHA256 bits=128/128);
 Tue, 12 Mar 2024 14:49:26 -0700 (PDT)
X-Relaying-Domain: iol.unh.edu
Date: Tue, 12 Mar 2024 14:49:26 -0700 (PDT)
Message-ID: <65f0cde6.b00a0220.27f8e.290eSMTPIN_ADDED_MISSING@mx.google.com>
Received: from [172.17.0.7] (unknown [172.18.0.217])
 by postal.iol.unh.edu (Postfix) with ESMTP id 0CC646052471;
 Tue, 12 Mar 2024 17:49:26 -0400 (EDT)
Subject: |SUCCESS| pw138226-138227 [PATCH] [v1,2/2] dts: Add missing docstrin
From: dpdklab@iol.unh.edu
To: Test Report <test-report@dpdk.org>
Cc: dpdk-test-reports@iol.unh.edu
In-Reply-To: <20240312172558.11844-3-jspewock@iol.unh.edu>
References: <20240312172558.11844-3-jspewock@iol.unh.edu>
Content-Type: text/plain
X-BeenThere: test-report@dpdk.org
X-Mailman-Version: 2.1.29
Precedence: list
List-Id: automatic DPDK test reports <test-report.dpdk.org>
List-Unsubscribe: <https://mails.dpdk.org/options/test-report>,
 <mailto:test-report-request@dpdk.org?subject=unsubscribe>
List-Archive: <http://mails.dpdk.org/archives/test-report/>
List-Post: <mailto:test-report@dpdk.org>
List-Help: <mailto:test-report-request@dpdk.org?subject=help>
List-Subscribe: <https://mails.dpdk.org/listinfo/test-report>,
 <mailto:test-report-request@dpdk.org?subject=subscribe>
Errors-To: test-report-bounces@dpdk.org

Test-Label: iol-compile-arm64-testing
Test-Status: SUCCESS
http://dpdk.org/patch/138227

_Testing PASS_

Submitter: Jeremy Spewock <jspewock@iol.unh.edu>
Date: Tuesday, March 12 2024 17:25:58 
DPDK git baseline: Repo:dpdk
  Branch: master
  CommitID:a86f381b826660e88794754c41d3aec79ce9b87c

138226-138227 --> testing pass

Test environment and result as below:

+--------------------------------------+--------------------+
|             Environment              | dpdk_meson_compile |
+======================================+====================+
| Ubuntu 20.04 ARM SVE                 | PASS               |
+--------------------------------------+--------------------+
| Debian 12 with MUSDK                 | PASS               |
+--------------------------------------+--------------------+
| Ubuntu 20.04 ARM GCC Cross Compile   | PASS               |
+--------------------------------------+--------------------+
| Fedora 37 (ARM)                      | PASS               |
+--------------------------------------+--------------------+
| Ubuntu 20.04 ARM Clang Cross Compile | PASS               |
+--------------------------------------+--------------------+
| Fedora 38 (ARM)                      | PASS               |
+--------------------------------------+--------------------+
| Debian 12 (arm)                      | PASS               |
+--------------------------------------+--------------------+


Ubuntu 20.04 ARM SVE
	Kernel: 5.4.0-80-generic
	Compiler: gcc 10.3.0 (Ubuntu 10.3.0-1ubuntu1~20.04)

Debian 12 with MUSDK
	Kernel: Container Host Kernel
	Compiler: gcc 12

Ubuntu 20.04 ARM GCC Cross Compile
	Kernel: 5.4.0-72-generic
	Compiler: aarch64-linux-gnu-gcc (Ubuntu 9.3.0-17ubuntu1~20.04) 9.3.0

Fedora 37 (ARM)
	Kernel: Depends on container host
	Compiler: gcc 12.3.1

Ubuntu 20.04 ARM Clang Cross Compile
	Kernel: 5.4.0-72-generic
	Compiler: clang version 10.0.0-4ubuntu1

Fedora 38 (ARM)
	Kernel: Depends on container host
	Compiler: gcc 13.1.1

Debian 12 (arm)
	Kernel: Container Host Kernel
	Compiler: gcc 11

To view detailed results, visit:
https://lab.dpdk.org/results/dashboard/patchsets/29522/

UNH-IOL DPDK Community Lab

To manage your email subscriptions, visit: 
https://lab.dpdk.org/results/dashboard/preferences/subscriptions/