From mboxrd@z Thu Jan  1 00:00:00 1970
Return-Path: <test-report-bounces@dpdk.org>
Received: from mails.dpdk.org (mails.dpdk.org [217.70.189.124])
	by inbox.dpdk.org (Postfix) with ESMTP id 3DE8143C96
	for <public@inbox.dpdk.org>; Tue, 12 Mar 2024 22:49:45 +0100 (CET)
Received: from mails.dpdk.org (localhost [127.0.0.1])
	by mails.dpdk.org (Postfix) with ESMTP id 3621C402CD;
	Tue, 12 Mar 2024 22:49:45 +0100 (CET)
Received: from mail-io1-f97.google.com (mail-io1-f97.google.com
 [209.85.166.97]) by mails.dpdk.org (Postfix) with ESMTP id AE2DB40272
 for <test-report@dpdk.org>; Tue, 12 Mar 2024 22:49:35 +0100 (CET)
Received: by mail-io1-f97.google.com with SMTP id
 ca18e2360f4ac-7c810b04bc0so119272439f.2
 for <test-report@dpdk.org>; Tue, 12 Mar 2024 14:49:35 -0700 (PDT)
DKIM-Signature: v=1; a=rsa-sha256; c=relaxed/relaxed;
 d=iol.unh.edu; s=unh-iol; t=1710280175; x=1710884975; darn=dpdk.org;
 h=references:in-reply-to:cc:to:from:subject:message-id:date:from:to
 :cc:subject:date:message-id:reply-to;
 bh=q3y6vYv5qUAKyqZU7hFkSgaUJFpiupogBr3smN2/VPY=;
 b=TFWlgQJmdd35u3RpAUVvUJUvixFSjQIoiDHDsuW5yCR/UHah8qpFtT0m4QN/CCH2W2
 S6CHEuixRFUF0xnZlXFZAkG/9W6H/bYzUMvf8RElyc5ZC4EXIxd/LMwNwIqxIVngE697
 EwnNN7p3TK0Zyf2ngVMn2aM8BxIUvJxCRE+ts=
X-Google-DKIM-Signature: v=1; a=rsa-sha256; c=relaxed/relaxed;
 d=1e100.net; s=20230601; t=1710280175; x=1710884975;
 h=references:in-reply-to:cc:to:from:subject:message-id:date
 :x-gm-message-state:from:to:cc:subject:date:message-id:reply-to;
 bh=q3y6vYv5qUAKyqZU7hFkSgaUJFpiupogBr3smN2/VPY=;
 b=xKaQlexBKa/17BgzjfccoJXOw70r+gQwNDf5mar2i9zqwR2nGOas1D8JSxYmUCrNl4
 MF9iRMSpBh8whRp/3OMlRNqLnlPa+SaIcC6L+jKTgBH68rSVI00JpBLnbG/m6llyU7N+
 jejMXTBxMxr0HPW4Jjh4xvfio1CQx9VYAIBe/2IBH6qgBTBggjd4rpq5LTwgBD4s9rpn
 +ot0Btb7y3tEg9MeAaEPo6mw1B9/SjwhcWhTpNLizS9XiIrUar4LOhji6GC6OWogRPXm
 HjOcAENhd4i7EoF9udowPo7vm0ErNKv0j6KoG20LlkXQs7Ra2HNae9RrOH3yAZC9GS2X
 5Yxg==
X-Gm-Message-State: AOJu0Yxh7FzICCZT0AX7sPTOgEvm/QcDb1HQv26lUJs5H8hy8BQrEG5o
 Fkdtu7oWJoZb+s/MB79Rutz98nMm9vE+6DtwX4Dw0/4GfsIG7+NRoIDEsy7rFkIX2Cfpfk1ehMj
 I85/8z7YbLgvlplrDdOCE5qHwgiieekDLjb+mEjBKWNFUmP/k0XtFd3sn
X-Google-Smtp-Source: AGHT+IFnWG+DPQe0JF/R0EjjES+VJJsBFXM6UyALLfbqnEcpIOQL6VJ2oYvVz2m5b3kDjLqAUFG539n0G1Qx
X-Received: by 2002:a05:6602:17ca:b0:7c8:af84:bac5 with SMTP id
 z10-20020a05660217ca00b007c8af84bac5mr7922902iox.1.1710280175043; 
 Tue, 12 Mar 2024 14:49:35 -0700 (PDT)
Received: from postal.iol.unh.edu (postal.iol.unh.edu.
 [2606:4100:3880:1234::84]) by smtp-relay.gmail.com with ESMTPS id
 ik18-20020a0566026c1200b007c864e6b4d1sm335843iob.0.2024.03.12.14.49.34
 (version=TLS1_2 cipher=ECDHE-ECDSA-AES128-GCM-SHA256 bits=128/128);
 Tue, 12 Mar 2024 14:49:35 -0700 (PDT)
X-Relaying-Domain: iol.unh.edu
Date: Tue, 12 Mar 2024 14:49:35 -0700 (PDT)
Message-ID: <65f0cdef.050a0220.f3595.38b9SMTPIN_ADDED_MISSING@mx.google.com>
Received: from [172.17.0.6] (unknown [172.18.0.217])
 by postal.iol.unh.edu (Postfix) with ESMTP id 8803E6052471;
 Tue, 12 Mar 2024 17:49:34 -0400 (EDT)
Subject: |SUCCESS| pw138226-138227 [PATCH] [v1,2/2] dts: Add missing docstrin
From: dpdklab@iol.unh.edu
To: Test Report <test-report@dpdk.org>
Cc: dpdk-test-reports@iol.unh.edu
In-Reply-To: <20240312172558.11844-3-jspewock@iol.unh.edu>
References: <20240312172558.11844-3-jspewock@iol.unh.edu>
Content-Type: text/plain
X-BeenThere: test-report@dpdk.org
X-Mailman-Version: 2.1.29
Precedence: list
List-Id: automatic DPDK test reports <test-report.dpdk.org>
List-Unsubscribe: <https://mails.dpdk.org/options/test-report>,
 <mailto:test-report-request@dpdk.org?subject=unsubscribe>
List-Archive: <http://mails.dpdk.org/archives/test-report/>
List-Post: <mailto:test-report@dpdk.org>
List-Help: <mailto:test-report-request@dpdk.org?subject=help>
List-Subscribe: <https://mails.dpdk.org/listinfo/test-report>,
 <mailto:test-report-request@dpdk.org?subject=subscribe>
Errors-To: test-report-bounces@dpdk.org

Test-Label: iol-compile-amd64-testing
Test-Status: SUCCESS
http://dpdk.org/patch/138227

_Testing PASS_

Submitter: Jeremy Spewock <jspewock@iol.unh.edu>
Date: Tuesday, March 12 2024 17:25:58 
DPDK git baseline: Repo:dpdk
  Branch: master
  CommitID:a86f381b826660e88794754c41d3aec79ce9b87c

138226-138227 --> testing pass

Test environment and result as below:

+---------------------+--------------------+
|     Environment     | dpdk_meson_compile |
+=====================+====================+
| FreeBSD 13.2        | PASS               |
+---------------------+--------------------+
| Windows Server 2022 | PASS               |
+---------------------+--------------------+
| Debian Bullseye     | PASS               |
+---------------------+--------------------+
| CentOS Stream 9     | PASS               |
+---------------------+--------------------+
| CentOS Stream 8     | PASS               |
+---------------------+--------------------+
| Fedora 38           | PASS               |
+---------------------+--------------------+
| Fedora 37           | PASS               |
+---------------------+--------------------+
| RHEL8               | PASS               |
+---------------------+--------------------+
| Debian 12 (arm)     | PASS               |
+---------------------+--------------------+
| Ubuntu 22.04        | PASS               |
+---------------------+--------------------+
| openSUSE Leap 15    | PASS               |
+---------------------+--------------------+
| Ubuntu 20.04        | PASS               |
+---------------------+--------------------+
| Alpine              | PASS               |
+---------------------+--------------------+


FreeBSD 13.2
	Kernel: 13.2
	Compiler: clang 11.3.0

Windows Server 2022
	Kernel: OS Build 20348.2031
	Compiler: MSVC VS-Preview

Debian Bullseye
	Kernel: 5.4.0-122-generic
	Compiler: gcc 10.2.1-6

CentOS Stream 9
	Kernel: 4.18.0-240.10.1.el8_3.x86_64
	Compiler: gcc 11.3.1 20220421

CentOS Stream 8
	Kernel: 4.18.0-240.10.1.el8_3.x86_64
	Compiler: gcc 8.4.1 20200928

Fedora 38
	Kernel: Depends on container host
	Compiler: gcc 13.1.1

Fedora 37
	Kernel: Depends on container host system
	Compiler: gcc 12.3.1

RHEL8
	Kernel: 4.18.0-240.10.1.el8_3.x86_64
	Compiler: gcc 8.3.1 20191121 (Red Hat 8.3.1-5)

Debian 12 (arm)
	Kernel: Container Host Kernel
	Compiler: gcc 11

Ubuntu 22.04
	Kernel: 4.18.0-240.10.1.el8_3.x86_64
	Compiler: gcc 11.3.0

openSUSE Leap 15
	Kernel: 4.18.0-240.10.1.el8_3.x86_64
	Compiler: gcc 7.5.0

Ubuntu 20.04
	Kernel: 5.4.0-153-generic
	Compiler: gcc 9.4.0-1ubuntu1~20.04.1

Alpine
	Kernel: 5.4.0-73-generic
	Compiler: gcc (Alpine 10.3.1_git20210424) 10.3.1 20210424

To view detailed results, visit:
https://lab.dpdk.org/results/dashboard/patchsets/29522/

UNH-IOL DPDK Community Lab

To manage your email subscriptions, visit: 
https://lab.dpdk.org/results/dashboard/preferences/subscriptions/