From mboxrd@z Thu Jan  1 00:00:00 1970
Return-Path: <test-report-bounces@dpdk.org>
Received: from mails.dpdk.org (mails.dpdk.org [217.70.189.124])
	by inbox.dpdk.org (Postfix) with ESMTP id 640C343C97
	for <public@inbox.dpdk.org>; Wed, 13 Mar 2024 00:11:42 +0100 (CET)
Received: from mails.dpdk.org (localhost [127.0.0.1])
	by mails.dpdk.org (Postfix) with ESMTP id 5F04B4027F;
	Wed, 13 Mar 2024 00:11:42 +0100 (CET)
Received: from mail-yb1-f228.google.com (mail-yb1-f228.google.com
 [209.85.219.228])
 by mails.dpdk.org (Postfix) with ESMTP id 0D28B4026E
 for <test-report@dpdk.org>; Wed, 13 Mar 2024 00:11:41 +0100 (CET)
Received: by mail-yb1-f228.google.com with SMTP id
 3f1490d57ef6-dcbcea9c261so4667101276.3
 for <test-report@dpdk.org>; Tue, 12 Mar 2024 16:11:41 -0700 (PDT)
DKIM-Signature: v=1; a=rsa-sha256; c=relaxed/relaxed;
 d=iol.unh.edu; s=unh-iol; t=1710285100; x=1710889900; darn=dpdk.org;
 h=references:in-reply-to:cc:to:from:subject:message-id:date:from:to
 :cc:subject:date:message-id:reply-to;
 bh=a/eyBCWIHOzj2hVax0k74rA6GedTR0VzZU2tKXD4zF4=;
 b=XOf6VDJS6ceKXSPcHYfx/5yd4mqX18qWtA2aQrUkDfAOMSLcKR2UPHX6QeGGeeG/+/
 nL1tMw6XxmF7bUsPI2hxls8WWghe0oDTXJJMEhupsSw4x82y8uFHcz4vTzBU7VVPSJt5
 Dojnj93wEVopCvL3bjpKzI1uGg8BvQrLo6xiE=
X-Google-DKIM-Signature: v=1; a=rsa-sha256; c=relaxed/relaxed;
 d=1e100.net; s=20230601; t=1710285100; x=1710889900;
 h=references:in-reply-to:cc:to:from:subject:message-id:date
 :x-gm-message-state:from:to:cc:subject:date:message-id:reply-to;
 bh=a/eyBCWIHOzj2hVax0k74rA6GedTR0VzZU2tKXD4zF4=;
 b=C3q0+x807VPH6Sp63NvXRY8T6CBwf5ABIFWBEQHNeZNh02wslm0Lxl1rOjIJvpKKza
 6QFrq4Tg9dvSG5e+bKqgfT8gii4I3EIHYBhzEdzwS9r0c1T356rUK1IviLBQWcakrFPr
 cajBr5EwZt0bPYsHOYqwrBKHyDOJhrVfW+/DYP6dChOg/e5IAxXC+ivsUCKaNTlklR4o
 yMro3ZycpvEfq/r9nOKK7HcxcIJLGv3jA3Srvz1olt3s1C8omk/MpYyZzwQjMDn9hV+m
 QvmKO/OjwRt7GTgh4j5IQOx+1E3/7pynpUBISX9EaBcRTbmQoYTmBHc/f+R/P8BJ4YiE
 sPMQ==
X-Gm-Message-State: AOJu0YwyOiMLmxevqMCPTLJfUd+DoneCd8fOojbK6saIkENlOToSVsYT
 w5KwiLsJ5+bgMlGjYAbkI1WteN/QlWCx0C97rzvhUewmBRa6JkSrD2RzJX086n2jatQWuYI3lFL
 pqvswAfDc+JOl1lowrjmq1a3Pd3FbrvVKFdelCs8u1FfQEzZ92xe8uE4N
X-Google-Smtp-Source: AGHT+IECzWRNw+05G//NpIf8ToHaa+tsaCNx3QLcIQjzBvI4GMk1TmivpfLEjGDllSnWY+lZL/0f4tSkRFtl
X-Received: by 2002:a25:2e4c:0:b0:dcc:a446:551 with SMTP id
 b12-20020a252e4c000000b00dcca4460551mr841822ybn.52.1710285100353; 
 Tue, 12 Mar 2024 16:11:40 -0700 (PDT)
Received: from postal.iol.unh.edu (postal.iol.unh.edu.
 [2606:4100:3880:1234::84]) by smtp-relay.gmail.com with ESMTPS id
 bu30-20020a056902091e00b00dc26f94f84csm415998ybb.25.2024.03.12.16.11.40
 (version=TLS1_2 cipher=ECDHE-ECDSA-AES128-GCM-SHA256 bits=128/128);
 Tue, 12 Mar 2024 16:11:40 -0700 (PDT)
X-Relaying-Domain: iol.unh.edu
Date: Tue, 12 Mar 2024 16:11:40 -0700 (PDT)
Message-ID: <65f0e12c.050a0220.10b9b.9210SMTPIN_ADDED_MISSING@mx.google.com>
Received: from [172.21.0.7] (unknown [172.18.0.240])
 by postal.iol.unh.edu (Postfix) with ESMTP id 012F46052471;
 Tue, 12 Mar 2024 19:11:40 -0400 (EDT)
Subject: |SUCCESS| pw138251-138281 [PATCH] [v4,31/31] net/ena: upgrade driver
From: dpdklab@iol.unh.edu
To: Test Report <test-report@dpdk.org>
Cc: dpdk-test-reports@iol.unh.edu
In-Reply-To: <20240312180716.8515-32-shaibran@amazon.com>
References: <20240312180716.8515-32-shaibran@amazon.com>
Content-Type: text/plain
X-BeenThere: test-report@dpdk.org
X-Mailman-Version: 2.1.29
Precedence: list
List-Id: automatic DPDK test reports <test-report.dpdk.org>
List-Unsubscribe: <https://mails.dpdk.org/options/test-report>,
 <mailto:test-report-request@dpdk.org?subject=unsubscribe>
List-Archive: <http://mails.dpdk.org/archives/test-report/>
List-Post: <mailto:test-report@dpdk.org>
List-Help: <mailto:test-report-request@dpdk.org?subject=help>
List-Subscribe: <https://mails.dpdk.org/listinfo/test-report>,
 <mailto:test-report-request@dpdk.org?subject=subscribe>
Errors-To: test-report-bounces@dpdk.org

Test-Label: iol-unit-arm64-testing
Test-Status: SUCCESS
http://dpdk.org/patch/138281

_Testing PASS_

Submitter: Brandes, Shai <shaibran@amazon.com>
Date: Tuesday, March 12 2024 18:07:16 
DPDK git baseline: Repo:dpdk
  Branch: master
  CommitID:544d6d79a6ff0964a79a57efb102e87fdbd107d9

138251-138281 --> testing pass

Test environment and result as below:

+--------------------------+---------------------------+------------------------------+----------------+--------------+
|       Environment        | cryptodev_sw_zuc_autotest | cryptodev_sw_snow3g_autotest | dpdk_unit_test | lpm_autotest |
+==========================+===========================+==============================+================+==============+
| Debian 12 (arm)          | PASS                      | PASS                         | PASS           | SKIPPED      |
+--------------------------+---------------------------+------------------------------+----------------+--------------+
| CentOS Stream 9 (ARM)    | SKIPPED                   | SKIPPED                      | PASS           | SKIPPED      |
+--------------------------+---------------------------+------------------------------+----------------+--------------+
| Debian 11 (Buster) (ARM) | SKIPPED                   | SKIPPED                      | PASS           | SKIPPED      |
+--------------------------+---------------------------+------------------------------+----------------+--------------+
| Fedora 37 (ARM)          | SKIPPED                   | SKIPPED                      | PASS           | SKIPPED      |
+--------------------------+---------------------------+------------------------------+----------------+--------------+
| Ubuntu 20.04 (ARM)       | SKIPPED                   | SKIPPED                      | PASS           | SKIPPED      |
+--------------------------+---------------------------+------------------------------+----------------+--------------+
| Fedora 38 (ARM)          | SKIPPED                   | SKIPPED                      | PASS           | SKIPPED      |
+--------------------------+---------------------------+------------------------------+----------------+--------------+
| Ubuntu 20.04 ARM SVE     | SKIPPED                   | SKIPPED                      | SKIPPED        | PASS         |
+--------------------------+---------------------------+------------------------------+----------------+--------------+


Debian 12 (arm)
	Kernel: Container Host Kernel
	Compiler: gcc 11

CentOS Stream 9 (ARM)
	Kernel: Container Host Kernel
	Compiler: gcc 11.3.1

Debian 11 (Buster) (ARM)
	Kernel: Container Host Kernel
	Compiler: gcc 10.2.1

Fedora 37 (ARM)
	Kernel: Depends on container host
	Compiler: gcc 12.3.1

Ubuntu 20.04 (ARM)
	Kernel: Container Host Kernel
	Compiler: gcc 9.4.0

Fedora 38 (ARM)
	Kernel: Depends on container host
	Compiler: gcc 13.1.1

Ubuntu 20.04 ARM SVE
	Kernel: 5.4.0-80-generic
	Compiler: gcc 10.3.0 (Ubuntu 10.3.0-1ubuntu1~20.04)

To view detailed results, visit:
https://lab.dpdk.org/results/dashboard/patchsets/29526/

UNH-IOL DPDK Community Lab

To manage your email subscriptions, visit: 
https://lab.dpdk.org/results/dashboard/preferences/subscriptions/