From mboxrd@z Thu Jan  1 00:00:00 1970
Return-Path: <test-report-bounces@dpdk.org>
Received: from mails.dpdk.org (mails.dpdk.org [217.70.189.124])
	by inbox.dpdk.org (Postfix) with ESMTP id CBA6A43C97
	for <public@inbox.dpdk.org>; Wed, 13 Mar 2024 00:15:44 +0100 (CET)
Received: from mails.dpdk.org (localhost [127.0.0.1])
	by mails.dpdk.org (Postfix) with ESMTP id C764E4027F;
	Wed, 13 Mar 2024 00:15:44 +0100 (CET)
Received: from mail-il1-f227.google.com (mail-il1-f227.google.com
 [209.85.166.227])
 by mails.dpdk.org (Postfix) with ESMTP id D0D114026E
 for <test-report@dpdk.org>; Wed, 13 Mar 2024 00:15:43 +0100 (CET)
Received: by mail-il1-f227.google.com with SMTP id
 e9e14a558f8ab-36677320d42so98645ab.2
 for <test-report@dpdk.org>; Tue, 12 Mar 2024 16:15:43 -0700 (PDT)
DKIM-Signature: v=1; a=rsa-sha256; c=relaxed/relaxed;
 d=iol.unh.edu; s=unh-iol; t=1710285343; x=1710890143; darn=dpdk.org;
 h=references:in-reply-to:cc:to:from:subject:message-id:date:from:to
 :cc:subject:date:message-id:reply-to;
 bh=hDUbEIBGDwxT+Dh/vFaOVFNk4iGsqz4PAFivx0NNkI4=;
 b=HJRjD87UVmqCIukTIa0bXEeriGGSRHH2/+gU8a4LC3kySncK0iJRDVFnxz9BfPtHpR
 6STENu+amrPP9rSQc6JKsmrS1eoP+FUf4wu+U+wl8LXJDWp89TDsY4ZyreGX/Ls95cpE
 F5cjmH4HVjAJLCRETUTfbR9xwMEbgCVDP1hWU=
X-Google-DKIM-Signature: v=1; a=rsa-sha256; c=relaxed/relaxed;
 d=1e100.net; s=20230601; t=1710285343; x=1710890143;
 h=references:in-reply-to:cc:to:from:subject:message-id:date
 :x-gm-message-state:from:to:cc:subject:date:message-id:reply-to;
 bh=hDUbEIBGDwxT+Dh/vFaOVFNk4iGsqz4PAFivx0NNkI4=;
 b=I9wezJk6ZovOaeRsGA8Xnnanto/7lygatZcIn08I8MuMC6Wsj/X2s/n6jiFmMoQwcp
 BeeQxy8PsJH7diOTOIggz7AsgMuXHMVpeClqlhyXpRzJKOyRYrQh6OXMqnYW7aDx9RFD
 Koo2RKto4PFLcZqy6dzOztVD6sA/4vFguzNJCkufywSW2LbDOzqpw6gzIDi+ErXLsGrF
 FoCZlCYJA/HoTJqi/SZrmPdr7UcTyOPveaiIa5dRSubit/hTS+BfUtVriYKanv1DK0JE
 yQ8pOWboIRhl2N26IhPWPXkakdSnx8oRdyLs6YZOMXoQAP8EFOqpP9noihB7SaiOdZm5
 rwgQ==
X-Gm-Message-State: AOJu0YyMLMDDfj9nUXprJhVHFW//VPs/tgLkur6E7CPH8ZsGNWtgs80B
 C4se2YnxolMnquOaBBXOw/rzM1yiqJNJOweGhg5sziAbaA6YlSSaef3mRVvPnWNnDY8IXcSp6Bn
 QM7gV5EhJZ9QsRTbxy/EL3j/ERa4DcixeZf82gnIU21IS7VXHH9zUSxIt
X-Google-Smtp-Source: AGHT+IHnNe0URyyNWN1rpxPxJpD1TOIpPlE3kc2RT/rY+cSGwHVibfwoyEQVM3opsfKt1oQ3mBIx7B1TDLqK
X-Received: by 2002:a05:6e02:b2b:b0:365:ee1:237b with SMTP id
 e11-20020a056e020b2b00b003650ee1237bmr4975722ilu.22.1710285343293; 
 Tue, 12 Mar 2024 16:15:43 -0700 (PDT)
Received: from postal.iol.unh.edu (postal.iol.unh.edu.
 [2606:4100:3880:1234::84]) by smtp-relay.gmail.com with ESMTPS id
 j29-20020a056e02221d00b00365ca21bd89sm513561ilf.59.2024.03.12.16.15.43
 (version=TLS1_2 cipher=ECDHE-ECDSA-AES128-GCM-SHA256 bits=128/128);
 Tue, 12 Mar 2024 16:15:43 -0700 (PDT)
X-Relaying-Domain: iol.unh.edu
Date: Tue, 12 Mar 2024 16:15:43 -0700 (PDT)
Message-ID: <65f0e21f.050a0220.54e15.01dbSMTPIN_ADDED_MISSING@mx.google.com>
Received: from [172.17.0.8] (unknown [172.18.0.217])
 by postal.iol.unh.edu (Postfix) with ESMTP id CCC4D6052471;
 Tue, 12 Mar 2024 19:15:42 -0400 (EDT)
Subject: |SUCCESS| pw138251-138281 [PATCH] [v4,31/31] net/ena: upgrade driver
From: dpdklab@iol.unh.edu
To: Test Report <test-report@dpdk.org>
Cc: dpdk-test-reports@iol.unh.edu
In-Reply-To: <20240312180716.8515-32-shaibran@amazon.com>
References: <20240312180716.8515-32-shaibran@amazon.com>
Content-Type: text/plain
X-BeenThere: test-report@dpdk.org
X-Mailman-Version: 2.1.29
Precedence: list
List-Id: automatic DPDK test reports <test-report.dpdk.org>
List-Unsubscribe: <https://mails.dpdk.org/options/test-report>,
 <mailto:test-report-request@dpdk.org?subject=unsubscribe>
List-Archive: <http://mails.dpdk.org/archives/test-report/>
List-Post: <mailto:test-report@dpdk.org>
List-Help: <mailto:test-report-request@dpdk.org?subject=help>
List-Subscribe: <https://mails.dpdk.org/listinfo/test-report>,
 <mailto:test-report-request@dpdk.org?subject=subscribe>
Errors-To: test-report-bounces@dpdk.org

Test-Label: iol-unit-amd64-testing
Test-Status: SUCCESS
http://dpdk.org/patch/138281

_Testing PASS_

Submitter: Brandes, Shai <shaibran@amazon.com>
Date: Tuesday, March 12 2024 18:07:16 
DPDK git baseline: Repo:dpdk
  Branch: master
  CommitID:544d6d79a6ff0964a79a57efb102e87fdbd107d9

138251-138281 --> testing pass

Test environment and result as below:

+------------------+----------------+
|   Environment    | dpdk_unit_test |
+==================+================+
| CentOS Stream 8  | PASS           |
+------------------+----------------+
| Debian Bullseye  | PASS           |
+------------------+----------------+
| CentOS Stream 9  | PASS           |
+------------------+----------------+
| Ubuntu 22.04     | PASS           |
+------------------+----------------+
| Fedora 37        | PASS           |
+------------------+----------------+
| Debian 12 (arm)  | PASS           |
+------------------+----------------+
| Fedora 38        | PASS           |
+------------------+----------------+
| RHEL8            | PASS           |
+------------------+----------------+
| Ubuntu 20.04     | PASS           |
+------------------+----------------+
| openSUSE Leap 15 | PASS           |
+------------------+----------------+


CentOS Stream 8
	Kernel: 4.18.0-240.10.1.el8_3.x86_64
	Compiler: gcc 8.4.1 20200928

Debian Bullseye
	Kernel: 5.4.0-122-generic
	Compiler: gcc 10.2.1-6

CentOS Stream 9
	Kernel: 4.18.0-240.10.1.el8_3.x86_64
	Compiler: gcc 11.3.1 20220421

Ubuntu 22.04
	Kernel: 4.18.0-240.10.1.el8_3.x86_64
	Compiler: gcc 11.3.0

Fedora 37
	Kernel: Depends on container host system
	Compiler: gcc 12.3.1

Debian 12 (arm)
	Kernel: Container Host Kernel
	Compiler: gcc 11

Fedora 38
	Kernel: Depends on container host
	Compiler: gcc 13.1.1

RHEL8
	Kernel: 4.18.0-240.10.1.el8_3.x86_64
	Compiler: gcc 8.3.1 20191121 (Red Hat 8.3.1-5)

Ubuntu 20.04
	Kernel: 5.4.0-153-generic
	Compiler: gcc 9.4.0-1ubuntu1~20.04.1

openSUSE Leap 15
	Kernel: 4.18.0-240.10.1.el8_3.x86_64
	Compiler: gcc 7.5.0

To view detailed results, visit:
https://lab.dpdk.org/results/dashboard/patchsets/29526/

UNH-IOL DPDK Community Lab

To manage your email subscriptions, visit: 
https://lab.dpdk.org/results/dashboard/preferences/subscriptions/