From mboxrd@z Thu Jan  1 00:00:00 1970
Return-Path: <test-report-bounces@dpdk.org>
Received: from mails.dpdk.org (mails.dpdk.org [217.70.189.124])
	by inbox.dpdk.org (Postfix) with ESMTP id D3DC743C9A
	for <public@inbox.dpdk.org>; Wed, 13 Mar 2024 07:53:45 +0100 (CET)
Received: from mails.dpdk.org (localhost [127.0.0.1])
	by mails.dpdk.org (Postfix) with ESMTP id CFB7D40E01;
	Wed, 13 Mar 2024 07:53:45 +0100 (CET)
Received: from mail-vk1-f225.google.com (mail-vk1-f225.google.com
 [209.85.221.225])
 by mails.dpdk.org (Postfix) with ESMTP id 6F0F640633
 for <test-report@dpdk.org>; Wed, 13 Mar 2024 07:53:42 +0100 (CET)
Received: by mail-vk1-f225.google.com with SMTP id
 71dfb90a1353d-4d40f702d67so352873e0c.3
 for <test-report@dpdk.org>; Tue, 12 Mar 2024 23:53:42 -0700 (PDT)
DKIM-Signature: v=1; a=rsa-sha256; c=relaxed/relaxed;
 d=iol.unh.edu; s=unh-iol; t=1710312822; x=1710917622; darn=dpdk.org;
 h=references:in-reply-to:cc:to:from:subject:message-id:date:from:to
 :cc:subject:date:message-id:reply-to;
 bh=4XJmjuCko5wgt0DsxsOi2KJ1qMLEWx346vXEeACNOkg=;
 b=AGpd7CVj5uOz1pN9J+x46hnRyO2pGqxp521ZSvq/jg52td0k/DxAWpJ1pgZ7LFU6Lp
 ZGjbi/tJ3xCbxtotQhdAAj0Gn3mRE0T3R4YZ51W+ggqntVKptKpQFSDVU41Any54UdbN
 Dapc9HyLLb74WtbVa8O9tz5ggAs7ZkuPmLn7A=
X-Google-DKIM-Signature: v=1; a=rsa-sha256; c=relaxed/relaxed;
 d=1e100.net; s=20230601; t=1710312822; x=1710917622;
 h=references:in-reply-to:cc:to:from:subject:message-id:date
 :x-gm-message-state:from:to:cc:subject:date:message-id:reply-to;
 bh=4XJmjuCko5wgt0DsxsOi2KJ1qMLEWx346vXEeACNOkg=;
 b=gp9Ew9ZJpjseKfTYBXBSo2cK2sLSPOXm3gLeRjN66kKzQ0tiamlABrl7vtAvsjE/3/
 rXzYSWzkCXME6L+WI3wgo47ARgSn03R9V3iD9aIBnyNdZ7TrXGwyQ1CVbEkpnJS0qptf
 BPJIJMUuKSARkudsBYJTBKyf/5yENS4lP9+mkZRxXQK0dWWdDbdMhIUlRd4TITr/gTgk
 w85wwklaVPrZsfNfYL0PuBj0UZRSnVETSc+bq0iU8qGQHAFofN9zpsdD0sjw4YqoPNgh
 /T8AjHh0Hq8UdhguSg+aT40GYMQiqYhffB5hiL2TJsK7o/tSr0t6ZwYZpXxOktNIy+r7
 dsiQ==
X-Gm-Message-State: AOJu0YxorKNBg2y0ZadluXcSm/E9ztLvdLitd246cyPBr7RISl0QlgN2
 mn7djR3NLt54utT0BBXvhFt1Efw8ltTZIm5U2muLD1MYZx+FYcCXBTF1tEUdVnVwI14G6r+5XW0
 t23/de19R34u2kGKMjrMl26uoLD6WWlx759V4ULhmjgCpoZPETWngvoBI
X-Google-Smtp-Source: AGHT+IHCyODSeeReEAt2mHdg1JOquS0tHFppW5L5F8/m77XXWLlS9gSTKF2oX52bQK/7ened9srqIcd/V6/d
X-Received: by 2002:ac5:cfd5:0:b0:4c7:e255:728b with SMTP id
 m21-20020ac5cfd5000000b004c7e255728bmr3440212vkf.12.1710312821880; 
 Tue, 12 Mar 2024 23:53:41 -0700 (PDT)
Received: from postal.iol.unh.edu (postal.iol.unh.edu.
 [2606:4100:3880:1234::84]) by smtp-relay.gmail.com with ESMTPS id
 fw22-20020a0561222a1600b004d40536b5bfsm170610vkb.7.2024.03.12.23.53.41
 (version=TLS1_2 cipher=ECDHE-ECDSA-AES128-GCM-SHA256 bits=128/128);
 Tue, 12 Mar 2024 23:53:41 -0700 (PDT)
X-Relaying-Domain: iol.unh.edu
Date: Tue, 12 Mar 2024 23:53:41 -0700 (PDT)
Message-ID: <65f14d75.050a0220.554ba.acd8SMTPIN_ADDED_MISSING@mx.google.com>
Received: from [172.17.0.7] (unknown [172.18.0.217])
 by postal.iol.unh.edu (Postfix) with ESMTP id 7F9D86052471;
 Wed, 13 Mar 2024 02:53:41 -0400 (EDT)
Subject: |SUCCESS| pw138284-138304 [PATCH] [v4,21/21] test/security: add out 
From: dpdklab@iol.unh.edu
To: Test Report <test-report@dpdk.org>
Cc: dpdk-test-reports@iol.unh.edu
In-Reply-To: <20240313055030.1685039-22-asasidharan@marvell.com>
References: <20240313055030.1685039-22-asasidharan@marvell.com>
Content-Type: text/plain
X-BeenThere: test-report@dpdk.org
X-Mailman-Version: 2.1.29
Precedence: list
List-Id: automatic DPDK test reports <test-report.dpdk.org>
List-Unsubscribe: <https://mails.dpdk.org/options/test-report>,
 <mailto:test-report-request@dpdk.org?subject=unsubscribe>
List-Archive: <http://mails.dpdk.org/archives/test-report/>
List-Post: <mailto:test-report@dpdk.org>
List-Help: <mailto:test-report-request@dpdk.org?subject=help>
List-Subscribe: <https://mails.dpdk.org/listinfo/test-report>,
 <mailto:test-report-request@dpdk.org?subject=subscribe>
Errors-To: test-report-bounces@dpdk.org

Test-Label: iol-compile-amd64-testing
Test-Status: SUCCESS
http://dpdk.org/patch/138304

_Testing PASS_

Submitter: Aakash Sasidharan <asasidharan@marvell.com>
Date: Wednesday, March 13 2024 05:50:30 
DPDK git baseline: Repo:dpdk
  Branch: master
  CommitID:a86f381b826660e88794754c41d3aec79ce9b87c

138284-138304 --> testing pass

Test environment and result as below:

+---------------------+--------------------+----------------------+
|     Environment     | dpdk_meson_compile | dpdk_mingw64_compile |
+=====================+====================+======================+
| CentOS Stream 8     | PASS               | SKIPPED              |
+---------------------+--------------------+----------------------+
| Windows Server 2022 | PASS               | SKIPPED              |
+---------------------+--------------------+----------------------+
| FreeBSD 13.2        | PASS               | SKIPPED              |
+---------------------+--------------------+----------------------+
| Windows Server 2019 | PASS               | PASS                 |
+---------------------+--------------------+----------------------+
| CentOS Stream 9     | PASS               | SKIPPED              |
+---------------------+--------------------+----------------------+
| Debian Bullseye     | PASS               | SKIPPED              |
+---------------------+--------------------+----------------------+
| Debian 12 (arm)     | PASS               | SKIPPED              |
+---------------------+--------------------+----------------------+
| Fedora 37           | PASS               | SKIPPED              |
+---------------------+--------------------+----------------------+
| Ubuntu 20.04        | PASS               | SKIPPED              |
+---------------------+--------------------+----------------------+
| Ubuntu 22.04        | PASS               | SKIPPED              |
+---------------------+--------------------+----------------------+
| Fedora 38           | PASS               | SKIPPED              |
+---------------------+--------------------+----------------------+
| RHEL8               | PASS               | SKIPPED              |
+---------------------+--------------------+----------------------+
| Alpine              | PASS               | SKIPPED              |
+---------------------+--------------------+----------------------+


CentOS Stream 8
	Kernel: 4.18.0-240.10.1.el8_3.x86_64
	Compiler: gcc 8.4.1 20200928

Windows Server 2022
	Kernel: OS Build 20348.2031
	Compiler: MSVC VS-Preview

FreeBSD 13.2
	Kernel: 13.2
	Compiler: clang 11.3.0

Windows Server 2019
	Kernel: 10.0
	Compiler: clang 14.0 and gcc 8.1.0 (MinGW)

CentOS Stream 9
	Kernel: 4.18.0-240.10.1.el8_3.x86_64
	Compiler: gcc 11.3.1 20220421

Debian Bullseye
	Kernel: 5.4.0-122-generic
	Compiler: gcc 10.2.1-6

Debian 12 (arm)
	Kernel: Container Host Kernel
	Compiler: gcc 11

Fedora 37
	Kernel: Depends on container host system
	Compiler: gcc 12.3.1

Ubuntu 20.04
	Kernel: 5.4.0-153-generic
	Compiler: gcc 9.4.0-1ubuntu1~20.04.1

Ubuntu 22.04
	Kernel: 4.18.0-240.10.1.el8_3.x86_64
	Compiler: gcc 11.3.0

Fedora 38
	Kernel: Depends on container host
	Compiler: gcc 13.1.1

RHEL8
	Kernel: 4.18.0-240.10.1.el8_3.x86_64
	Compiler: gcc 8.3.1 20191121 (Red Hat 8.3.1-5)

Alpine
	Kernel: 5.4.0-73-generic
	Compiler: gcc (Alpine 10.3.1_git20210424) 10.3.1 20210424

To view detailed results, visit:
https://lab.dpdk.org/results/dashboard/patchsets/29529/

UNH-IOL DPDK Community Lab

To manage your email subscriptions, visit: 
https://lab.dpdk.org/results/dashboard/preferences/subscriptions/