From mboxrd@z Thu Jan  1 00:00:00 1970
Return-Path: <test-report-bounces@dpdk.org>
Received: from mails.dpdk.org (mails.dpdk.org [217.70.189.124])
	by inbox.dpdk.org (Postfix) with ESMTP id A3FE643C9F
	for <public@inbox.dpdk.org>; Wed, 13 Mar 2024 13:21:27 +0100 (CET)
Received: from mails.dpdk.org (localhost [127.0.0.1])
	by mails.dpdk.org (Postfix) with ESMTP id 9E48240A84;
	Wed, 13 Mar 2024 13:21:27 +0100 (CET)
Received: from mail-qt1-f226.google.com (mail-qt1-f226.google.com
 [209.85.160.226])
 by mails.dpdk.org (Postfix) with ESMTP id D78D3402B8
 for <test-report@dpdk.org>; Wed, 13 Mar 2024 13:21:24 +0100 (CET)
Received: by mail-qt1-f226.google.com with SMTP id
 d75a77b69052e-42f061542f4so4524471cf.1
 for <test-report@dpdk.org>; Wed, 13 Mar 2024 05:21:24 -0700 (PDT)
DKIM-Signature: v=1; a=rsa-sha256; c=relaxed/relaxed;
 d=iol.unh.edu; s=unh-iol; t=1710332484; x=1710937284; darn=dpdk.org;
 h=references:in-reply-to:cc:to:from:subject:message-id:date:from:to
 :cc:subject:date:message-id:reply-to;
 bh=nzltW9Aahof+zlZTmorbaw0Fdg7TjwkX0Kv6UuEcxj4=;
 b=ga+9O6klBKu3384neNT2WemmPBTj3DT+SLPwwnonX6crceiOBrrdS26fZb5v8EGzMe
 C+ZeILHqWsb5+PjVnv1lC1IHtA4a4/3P+EzBUS3hwBNKKTZ+CS3iyKyZY/x6UjOFtmQ+
 LdTUg9is3nhxO/mqo2JV7fTMwcmJnj+YfmasE=
X-Google-DKIM-Signature: v=1; a=rsa-sha256; c=relaxed/relaxed;
 d=1e100.net; s=20230601; t=1710332484; x=1710937284;
 h=references:in-reply-to:cc:to:from:subject:message-id:date
 :x-gm-message-state:from:to:cc:subject:date:message-id:reply-to;
 bh=nzltW9Aahof+zlZTmorbaw0Fdg7TjwkX0Kv6UuEcxj4=;
 b=xUNs4QkcmkXoaYlxLiA/BE4Vv/oeOST7ZbHqtvFEYcyUStlBtzRIA41cc5r07CjlQ5
 XYDW3LEZDH6gNcJYn4XduDF3htITAA22PFM3P+EwVcZQz7p6iRpa1srKpZyT9hKGHeUj
 Go5NbX8jORhsSlaZ9awTiGjFH76q5mOZ5b8SmJA85Jt3bFtjf9mYUVccwScAenK4PrZq
 j7K6+y4EFfnj42BHefZQXfOVP7xwxtVoyYcGsBnjwgdyAJGmNLUTYHHXJUWOxZUbjJ/R
 TD+HIupT86WqnpwHSF2YPsHlQDkML2n1CAJvZ9FsR0J5nVTHbbeFQmY3IgiRfpW3NJoq
 4nhg==
X-Gm-Message-State: AOJu0YxTxO6MGNK3TMA9Q88clRp6gs7LAVe8rHlGCGO/E7dAwNE4+okR
 /xCj8VA2Wa7EaqrZ9iRLotfMXgwGTK/2wfX+WxEr8xjbI0U3xYg+ao3WweibtGdDCY4hslWnEqI
 LoNTDwIPFyP0a77OWdbwz8Sdjrb1dMNi5HR6XvcszT5kvl3cZGU2K1y2j
X-Google-Smtp-Source: AGHT+IFu3zp3sgPGUpcS1hhOxJBURLOJDvAeB6zhD4hs5QxYom8FlpUPyFr4kKoQmNL/9jaN81oCnmzlViok
X-Received: by 2002:ac8:7d4f:0:b0:42e:f847:2dd4 with SMTP id
 h15-20020ac87d4f000000b0042ef8472dd4mr3016602qtb.10.1710332484278; 
 Wed, 13 Mar 2024 05:21:24 -0700 (PDT)
Received: from postal.iol.unh.edu (postal.iol.unh.edu.
 [2606:4100:3880:1234::84]) by smtp-relay.gmail.com with ESMTPS id
 p10-20020a05622a00ca00b0042ed3de1793sm494491qtw.25.2024.03.13.05.21.24
 (version=TLS1_2 cipher=ECDHE-ECDSA-AES128-GCM-SHA256 bits=128/128);
 Wed, 13 Mar 2024 05:21:24 -0700 (PDT)
X-Relaying-Domain: iol.unh.edu
Date: Wed, 13 Mar 2024 05:21:24 -0700 (PDT)
Message-ID: <65f19a44.050a0220.76e49.df87SMTPIN_ADDED_MISSING@mx.google.com>
Received: from [172.17.0.6] (unknown [172.18.0.217])
 by postal.iol.unh.edu (Postfix) with ESMTP id E53486052471;
 Wed, 13 Mar 2024 08:21:23 -0400 (EDT)
Subject: |SUCCESS| pw138307 [PATCH] [v3,1/1] net/mana: add vlan tagging suppo
From: dpdklab@iol.unh.edu
To: Test Report <test-report@dpdk.org>
Cc: dpdk-test-reports@iol.unh.edu
In-Reply-To: <20240313090341.373037-1-weh@linux.microsoft.com>
References: <20240313090341.373037-1-weh@linux.microsoft.com>
Content-Type: text/plain
X-BeenThere: test-report@dpdk.org
X-Mailman-Version: 2.1.29
Precedence: list
List-Id: automatic DPDK test reports <test-report.dpdk.org>
List-Unsubscribe: <https://mails.dpdk.org/options/test-report>,
 <mailto:test-report-request@dpdk.org?subject=unsubscribe>
List-Archive: <http://mails.dpdk.org/archives/test-report/>
List-Post: <mailto:test-report@dpdk.org>
List-Help: <mailto:test-report-request@dpdk.org?subject=help>
List-Subscribe: <https://mails.dpdk.org/listinfo/test-report>,
 <mailto:test-report-request@dpdk.org?subject=subscribe>
Errors-To: test-report-bounces@dpdk.org

Test-Label: iol-abi-testing
Test-Status: SUCCESS
http://dpdk.org/patch/138307

_Testing PASS_

Submitter: Wei Hu <weh@linux.microsoft.com>
Date: Wednesday, March 13 2024 09:03:40 
DPDK git baseline: Repo:dpdk
  Branch: master
  CommitID:544d6d79a6ff0964a79a57efb102e87fdbd107d9

138307 --> testing pass

Test environment and result as below:

+-----------------+----------+
|   Environment   | abi_test |
+=================+==========+
| Fedora 37       | PASS     |
+-----------------+----------+
| Ubuntu 22.04    | PASS     |
+-----------------+----------+
| CentOS Stream 8 | PASS     |
+-----------------+----------+
| RHEL8           | PASS     |
+-----------------+----------+


Fedora 37
	Kernel: Depends on container host system
	Compiler: gcc 12.3.1

Ubuntu 22.04
	Kernel: 4.18.0-240.10.1.el8_3.x86_64
	Compiler: gcc 11.3.0

CentOS Stream 8
	Kernel: 4.18.0-240.10.1.el8_3.x86_64
	Compiler: gcc 8.4.1 20200928

RHEL8
	Kernel: 4.18.0-240.10.1.el8_3.x86_64
	Compiler: gcc 8.3.1 20191121 (Red Hat 8.3.1-5)

To view detailed results, visit:
https://lab.dpdk.org/results/dashboard/patchsets/29532/

UNH-IOL DPDK Community Lab

To manage your email subscriptions, visit: 
https://lab.dpdk.org/results/dashboard/preferences/subscriptions/