From mboxrd@z Thu Jan  1 00:00:00 1970
Return-Path: <test-report-bounces@dpdk.org>
Received: from mails.dpdk.org (mails.dpdk.org [217.70.189.124])
	by inbox.dpdk.org (Postfix) with ESMTP id A13C843C9F
	for <public@inbox.dpdk.org>; Wed, 13 Mar 2024 13:29:03 +0100 (CET)
Received: from mails.dpdk.org (localhost [127.0.0.1])
	by mails.dpdk.org (Postfix) with ESMTP id 9B80840A84;
	Wed, 13 Mar 2024 13:29:03 +0100 (CET)
Received: from mail-yb1-f227.google.com (mail-yb1-f227.google.com
 [209.85.219.227])
 by mails.dpdk.org (Postfix) with ESMTP id DA4DB402B8
 for <test-report@dpdk.org>; Wed, 13 Mar 2024 13:28:57 +0100 (CET)
Received: by mail-yb1-f227.google.com with SMTP id
 3f1490d57ef6-dc25e12cc63so782943276.0
 for <test-report@dpdk.org>; Wed, 13 Mar 2024 05:28:57 -0700 (PDT)
DKIM-Signature: v=1; a=rsa-sha256; c=relaxed/relaxed;
 d=iol.unh.edu; s=unh-iol; t=1710332937; x=1710937737; darn=dpdk.org;
 h=references:in-reply-to:cc:to:from:subject:message-id:date:from:to
 :cc:subject:date:message-id:reply-to;
 bh=lOVE7BqbR18RB93itpR2kfNWgrr3in4hc17uTGaTx+0=;
 b=OzA1i5W4NcMEEgVKjGRx93oiStfV67g9hvQdFeqk76Ez+W5GVu5dkvZZDTGO6798ie
 ZteKP+3RTemEMKc3FSmWpvfj8Cq7Mell3BiFq1WtTEHc5vD/q7FE29eMU1JCZMfPDUtO
 XWnpUqrYJX+8f1uJrt56f19cC7hEG8QuxB5R4=
X-Google-DKIM-Signature: v=1; a=rsa-sha256; c=relaxed/relaxed;
 d=1e100.net; s=20230601; t=1710332937; x=1710937737;
 h=references:in-reply-to:cc:to:from:subject:message-id:date
 :x-gm-message-state:from:to:cc:subject:date:message-id:reply-to;
 bh=lOVE7BqbR18RB93itpR2kfNWgrr3in4hc17uTGaTx+0=;
 b=Bdw2BQXrD5Mkm8tHGY6U67IepPlJQIwy9pCIhdx4irOQOo2ZZxL81uDOyoeHH/fiBo
 nQ0QanEfjyu8B9GE8BgcUEjm+to4Yzq0CgJjJGrSp9p4FqpP+PMO7KVfOdg/H6J2nUb0
 PMP7VgpgjeavdPgKj1hCG2HGRh3jl0uf/NnQMfhxSJkkEA5AuC+HqbqPw5Mjoe+mQ2Q2
 y6To9iNqsVzXxf6rR2wCSXYe8G4mYWiBJz573v0LJ1vb4C/RtKZV1LkwezEWszMMQQGl
 Xrf3ZzHWcvH0PQ9yqCfIHZoHsQ75GWzxyvQmYVnf44B5suPPc7ASBbqttiDZJ4WVZbUX
 rYgQ==
X-Gm-Message-State: AOJu0YygeTcy6NDPND5KqvJkqX4RyR2QdthfYgnjy/uW/5v44sZYVX8T
 0fYzXCYHbHzM9DqV2ZBZWy7TfVJiYnF3k/12LZT81hKrWdiQeKmU5wLvEB3xs1TMpVKHGtQ9vjU
 O7ubfLG1RfEjIE5GYbeYmm2iR8GscrikUyoQD6Rwz
X-Google-Smtp-Source: AGHT+IFwi+J3AyYscgqrOoklD8rPxNDJeZSYemRyBYuvMwMUIcQbgflGYYCRk99/QGXP5K7wWq4lfUyPBE21
X-Received: by 2002:a25:dfd2:0:b0:dc7:45e4:46f8 with SMTP id
 w201-20020a25dfd2000000b00dc745e446f8mr1471700ybg.6.1710332937285; 
 Wed, 13 Mar 2024 05:28:57 -0700 (PDT)
Received: from postal.iol.unh.edu (postal.iol.unh.edu. [132.177.123.84])
 by smtp-relay.gmail.com with ESMTPS id
 k7-20020a056902158700b00dc246c69794sm438567ybu.16.2024.03.13.05.28.57
 (version=TLS1_2 cipher=ECDHE-ECDSA-AES128-GCM-SHA256 bits=128/128);
 Wed, 13 Mar 2024 05:28:57 -0700 (PDT)
X-Relaying-Domain: iol.unh.edu
Date: Wed, 13 Mar 2024 05:28:57 -0700 (PDT)
Message-ID: <65f19c09.050a0220.3763e.9f9dSMTPIN_ADDED_MISSING@mx.google.com>
Received: from [172.17.0.8] (unknown [172.18.0.217])
 by postal.iol.unh.edu (Postfix) with ESMTP id E585A6052471;
 Wed, 13 Mar 2024 08:28:56 -0400 (EDT)
Subject: |SUCCESS| pw138307 [PATCH] [v3,1/1] net/mana: add vlan tagging suppo
From: dpdklab@iol.unh.edu
To: Test Report <test-report@dpdk.org>
Cc: dpdk-test-reports@iol.unh.edu
In-Reply-To: <20240313090341.373037-1-weh@linux.microsoft.com>
References: <20240313090341.373037-1-weh@linux.microsoft.com>
Content-Type: text/plain
X-BeenThere: test-report@dpdk.org
X-Mailman-Version: 2.1.29
Precedence: list
List-Id: automatic DPDK test reports <test-report.dpdk.org>
List-Unsubscribe: <https://mails.dpdk.org/options/test-report>,
 <mailto:test-report-request@dpdk.org?subject=unsubscribe>
List-Archive: <http://mails.dpdk.org/archives/test-report/>
List-Post: <mailto:test-report@dpdk.org>
List-Help: <mailto:test-report-request@dpdk.org?subject=help>
List-Subscribe: <https://mails.dpdk.org/listinfo/test-report>,
 <mailto:test-report-request@dpdk.org?subject=subscribe>
Errors-To: test-report-bounces@dpdk.org

Test-Label: iol-compile-amd64-testing
Test-Status: SUCCESS
http://dpdk.org/patch/138307

_Testing PASS_

Submitter: Wei Hu <weh@linux.microsoft.com>
Date: Wednesday, March 13 2024 09:03:40 
DPDK git baseline: Repo:dpdk
  Branch: master
  CommitID:544d6d79a6ff0964a79a57efb102e87fdbd107d9

138307 --> testing pass

Test environment and result as below:

+---------------------+--------------------+----------------------+
|     Environment     | dpdk_meson_compile | dpdk_mingw64_compile |
+=====================+====================+======================+
| Debian Bullseye     | PASS               | SKIPPED              |
+---------------------+--------------------+----------------------+
| CentOS Stream 9     | PASS               | SKIPPED              |
+---------------------+--------------------+----------------------+
| FreeBSD 13.2        | PASS               | SKIPPED              |
+---------------------+--------------------+----------------------+
| CentOS Stream 8     | PASS               | SKIPPED              |
+---------------------+--------------------+----------------------+
| Windows Server 2019 | PASS               | PASS                 |
+---------------------+--------------------+----------------------+
| Windows Server 2022 | PASS               | SKIPPED              |
+---------------------+--------------------+----------------------+
| Ubuntu 20.04        | PASS               | SKIPPED              |
+---------------------+--------------------+----------------------+
| Debian 12 (arm)     | PASS               | SKIPPED              |
+---------------------+--------------------+----------------------+
| Fedora 38           | PASS               | SKIPPED              |
+---------------------+--------------------+----------------------+
| openSUSE Leap 15    | PASS               | SKIPPED              |
+---------------------+--------------------+----------------------+
| Fedora 37           | PASS               | SKIPPED              |
+---------------------+--------------------+----------------------+
| Ubuntu 22.04        | PASS               | SKIPPED              |
+---------------------+--------------------+----------------------+
| Alpine              | PASS               | SKIPPED              |
+---------------------+--------------------+----------------------+


Debian Bullseye
	Kernel: 5.4.0-122-generic
	Compiler: gcc 10.2.1-6

CentOS Stream 9
	Kernel: 4.18.0-240.10.1.el8_3.x86_64
	Compiler: gcc 11.3.1 20220421

FreeBSD 13.2
	Kernel: 13.2
	Compiler: clang 11.3.0

CentOS Stream 8
	Kernel: 4.18.0-240.10.1.el8_3.x86_64
	Compiler: gcc 8.4.1 20200928

Windows Server 2019
	Kernel: 10.0
	Compiler: clang 14.0 and gcc 8.1.0 (MinGW)

Windows Server 2022
	Kernel: OS Build 20348.2031
	Compiler: MSVC VS-Preview

Ubuntu 20.04
	Kernel: 5.4.0-153-generic
	Compiler: gcc 9.4.0-1ubuntu1~20.04.1

Debian 12 (arm)
	Kernel: Container Host Kernel
	Compiler: gcc 11

Fedora 38
	Kernel: Depends on container host
	Compiler: gcc 13.1.1

openSUSE Leap 15
	Kernel: 4.18.0-240.10.1.el8_3.x86_64
	Compiler: gcc 7.5.0

Fedora 37
	Kernel: Depends on container host system
	Compiler: gcc 12.3.1

Ubuntu 22.04
	Kernel: 4.18.0-240.10.1.el8_3.x86_64
	Compiler: gcc 11.3.0

Alpine
	Kernel: 5.4.0-73-generic
	Compiler: gcc (Alpine 10.3.1_git20210424) 10.3.1 20210424

To view detailed results, visit:
https://lab.dpdk.org/results/dashboard/patchsets/29532/

UNH-IOL DPDK Community Lab

To manage your email subscriptions, visit: 
https://lab.dpdk.org/results/dashboard/preferences/subscriptions/