From mboxrd@z Thu Jan  1 00:00:00 1970
Return-Path: <test-report-bounces@dpdk.org>
Received: from mails.dpdk.org (mails.dpdk.org [217.70.189.124])
	by inbox.dpdk.org (Postfix) with ESMTP id AD6CB43CA0
	for <public@inbox.dpdk.org>; Wed, 13 Mar 2024 14:36:10 +0100 (CET)
Received: from mails.dpdk.org (localhost [127.0.0.1])
	by mails.dpdk.org (Postfix) with ESMTP id A8C61406BC;
	Wed, 13 Mar 2024 14:36:10 +0100 (CET)
Received: from mail-io1-f98.google.com (mail-io1-f98.google.com
 [209.85.166.98]) by mails.dpdk.org (Postfix) with ESMTP id A78E2402B8
 for <test-report@dpdk.org>; Wed, 13 Mar 2024 14:36:09 +0100 (CET)
Received: by mail-io1-f98.google.com with SMTP id
 ca18e2360f4ac-7c8c5e1c5d0so58092339f.1
 for <test-report@dpdk.org>; Wed, 13 Mar 2024 06:36:09 -0700 (PDT)
DKIM-Signature: v=1; a=rsa-sha256; c=relaxed/relaxed;
 d=iol.unh.edu; s=unh-iol; t=1710336969; x=1710941769; darn=dpdk.org;
 h=references:in-reply-to:cc:to:from:subject:message-id:date:from:to
 :cc:subject:date:message-id:reply-to;
 bh=+GukFlsMlJQtdEHlSpD0ZEOmTAnwUUKGka2+qMJVJUw=;
 b=dQnhCI/KEUMpz6rdCdsDxkc+0tfyEL2te6Je/vKh+rXerVJGFUDqJOirbj2H97b1I3
 dKFH3F9UUMaRPSGOyTDQSU6ts3l991BLP7bcODyAVeFBNjW7OlrWoh/nQIxCJmPz0kKb
 I24MEa7OMLM0cncpJZ9FShn7zCg2QKxpNTrQw=
X-Google-DKIM-Signature: v=1; a=rsa-sha256; c=relaxed/relaxed;
 d=1e100.net; s=20230601; t=1710336969; x=1710941769;
 h=references:in-reply-to:cc:to:from:subject:message-id:date
 :x-gm-message-state:from:to:cc:subject:date:message-id:reply-to;
 bh=+GukFlsMlJQtdEHlSpD0ZEOmTAnwUUKGka2+qMJVJUw=;
 b=PFtWRs7PiYkfT0dhQhIW7fb4O0v+05LIUMmbnao4ocqToIpRiDiwmZdJpTPbDArqcU
 qVsuaKqrKZi+MQBgC/yuoV/vlvyRXoe+Q37731jUG46UT7KjzcugD4Eo3gY2Bb77lVi8
 9a7yGD2rskK7KJGA6TYGM3uz2rswzUnG1W5FZnXxf7LWw8m/6Oenon7ExbxzysbJ1zBV
 CNGKhIMIfUTGrJGFo0TVCPagYsuYJOcOmXHmISIBarTTu5eQX7zIMNcwApOt+gd9Z8l8
 FcV7GkMIiFdHhwkNcw+HjSMkewNyrA7tGvTtkF52TW7fIaYtMy8z0rc7VJEbMsg/Tet1
 KANQ==
X-Gm-Message-State: AOJu0YwoFH7nECF5Yosftw3d5HFUxz24Tj9yI5Fpb88s0auCzQpfv4dD
 LtnIii1rhoi+ftXiYrs63Acdgt8FdN4wtp9gYlMPH8hf+UJ3jg1WdWWirp0379rPNp/5gsGQhEP
 KZcBie/uTVLrITAvTOejb8e/J+1EvoNhKPvO/JCC9
X-Google-Smtp-Source: AGHT+IEnVSS2PbkuywBtANP35Ip1ifBpQ14OAAqZiOIUbeifA57LdqmEQRwiVQCNFLVntT5J5ySjxtfCExCj
X-Received: by 2002:a5e:aa10:0:b0:7c8:d7fd:7f54 with SMTP id
 s16-20020a5eaa10000000b007c8d7fd7f54mr3596065ioe.3.1710336969047; 
 Wed, 13 Mar 2024 06:36:09 -0700 (PDT)
Received: from postal.iol.unh.edu (postal.iol.unh.edu. [132.177.123.84])
 by smtp-relay.gmail.com with ESMTPS id
 i4-20020a05663813c400b00476db136470sm227682jaj.8.2024.03.13.06.36.08
 (version=TLS1_2 cipher=ECDHE-ECDSA-AES128-GCM-SHA256 bits=128/128);
 Wed, 13 Mar 2024 06:36:09 -0700 (PDT)
X-Relaying-Domain: iol.unh.edu
Date: Wed, 13 Mar 2024 06:36:09 -0700 (PDT)
Message-ID: <65f1abc9.050a0220.48444.c735SMTPIN_ADDED_MISSING@mx.google.com>
Received: from [172.21.0.6] (unknown [172.18.0.240])
 by postal.iol.unh.edu (Postfix) with ESMTP id 5A9EF6052471;
 Wed, 13 Mar 2024 09:36:08 -0400 (EDT)
Subject: |SUCCESS| pw138329-138330 [PATCH] [v2,2/2] net/virtio: fix notificat
From: dpdklab@iol.unh.edu
To: Test Report <test-report@dpdk.org>
Cc: dpdk-test-reports@iol.unh.edu
In-Reply-To: <20240313125932.1878279-3-maxime.coquelin@redhat.com>
References: <20240313125932.1878279-3-maxime.coquelin@redhat.com>
Content-Type: text/plain
X-BeenThere: test-report@dpdk.org
X-Mailman-Version: 2.1.29
Precedence: list
List-Id: automatic DPDK test reports <test-report.dpdk.org>
List-Unsubscribe: <https://mails.dpdk.org/options/test-report>,
 <mailto:test-report-request@dpdk.org?subject=unsubscribe>
List-Archive: <http://mails.dpdk.org/archives/test-report/>
List-Post: <mailto:test-report@dpdk.org>
List-Help: <mailto:test-report-request@dpdk.org?subject=help>
List-Subscribe: <https://mails.dpdk.org/listinfo/test-report>,
 <mailto:test-report-request@dpdk.org?subject=subscribe>
Errors-To: test-report-bounces@dpdk.org

Test-Label: iol-compile-arm64-testing
Test-Status: SUCCESS
http://dpdk.org/patch/138330

_Testing PASS_

Submitter: Maxime Coquelin <maxime.coquelin@redhat.com>
Date: Wednesday, March 13 2024 12:59:32 
DPDK git baseline: Repo:dpdk
  Branch: master
  CommitID:deedfb86a7a6e10064d3cccd593f62072de96e36

138329-138330 --> testing pass

Test environment and result as below:

+-----------------------+--------------------+
|      Environment      | dpdk_meson_compile |
+=======================+====================+
| Ubuntu 20.04 ARM SVE  | PASS               |
+-----------------------+--------------------+
| Debian 12 with MUSDK  | PASS               |
+-----------------------+--------------------+
| Fedora 37 (ARM)       | PASS               |
+-----------------------+--------------------+
| Fedora 38 (ARM)       | PASS               |
+-----------------------+--------------------+
| CentOS Stream 9 (ARM) | PASS               |
+-----------------------+--------------------+


Ubuntu 20.04 ARM SVE
	Kernel: 5.4.0-80-generic
	Compiler: gcc 10.3.0 (Ubuntu 10.3.0-1ubuntu1~20.04)

Debian 12 with MUSDK
	Kernel: Container Host Kernel
	Compiler: gcc 12

Fedora 37 (ARM)
	Kernel: Depends on container host
	Compiler: gcc 12.3.1

Fedora 38 (ARM)
	Kernel: Depends on container host
	Compiler: gcc 13.1.1

CentOS Stream 9 (ARM)
	Kernel: Container Host Kernel
	Compiler: gcc 11.3.1

To view detailed results, visit:
https://lab.dpdk.org/results/dashboard/patchsets/29534/

UNH-IOL DPDK Community Lab

To manage your email subscriptions, visit: 
https://lab.dpdk.org/results/dashboard/preferences/subscriptions/