From mboxrd@z Thu Jan  1 00:00:00 1970
Return-Path: <test-report-bounces@dpdk.org>
Received: from mails.dpdk.org (mails.dpdk.org [217.70.189.124])
	by inbox.dpdk.org (Postfix) with ESMTP id 5F44643CA0
	for <public@inbox.dpdk.org>; Wed, 13 Mar 2024 14:43:42 +0100 (CET)
Received: from mails.dpdk.org (localhost [127.0.0.1])
	by mails.dpdk.org (Postfix) with ESMTP id 58C82406BC;
	Wed, 13 Mar 2024 14:43:42 +0100 (CET)
Received: from mail-pj1-f97.google.com (mail-pj1-f97.google.com
 [209.85.216.97]) by mails.dpdk.org (Postfix) with ESMTP id 9F9A842DD6
 for <test-report@dpdk.org>; Wed, 13 Mar 2024 14:43:33 +0100 (CET)
Received: by mail-pj1-f97.google.com with SMTP id
 98e67ed59e1d1-29bfc3ca816so2590898a91.0
 for <test-report@dpdk.org>; Wed, 13 Mar 2024 06:43:33 -0700 (PDT)
DKIM-Signature: v=1; a=rsa-sha256; c=relaxed/relaxed;
 d=iol.unh.edu; s=unh-iol; t=1710337413; x=1710942213; darn=dpdk.org;
 h=references:in-reply-to:cc:to:from:subject:message-id:date:from:to
 :cc:subject:date:message-id:reply-to;
 bh=Xevmc0PEgSaWRy6aBg/03NX3VX3v3iqXivsJNTZ+qG8=;
 b=jZoe1hfM1G5LbJc0/T2FM0T4g9GrWA0VDaYfLR/tQATlv3a57drR00k5oYFi+7IsV9
 7WouW110c70SYVPcxnX9a6vP9rfWgV3JINbH3tsnqE2O4Ip1rOXL/2ERfziEo4tZ5U94
 0NQpNuws7Wv9npJ1DybXE+sl0s7DiihJHi9Eo=
X-Google-DKIM-Signature: v=1; a=rsa-sha256; c=relaxed/relaxed;
 d=1e100.net; s=20230601; t=1710337413; x=1710942213;
 h=references:in-reply-to:cc:to:from:subject:message-id:date
 :x-gm-message-state:from:to:cc:subject:date:message-id:reply-to;
 bh=Xevmc0PEgSaWRy6aBg/03NX3VX3v3iqXivsJNTZ+qG8=;
 b=N8In0sFWKs7dDfkII5SEgnrpEH41nEqqBcYjETP5pyk/s7XTilYixnBKM6GiF168/0
 NRY9IOdCZ/PYGwKjjlsh/GiUF8BXKriJecT2JR8jJcYpMRtTNWFRjSAdnF2xDEB5dS3+
 lmhZ5h6s/JX5W7Z8jzyJOh5npqwnodOoPudW1vPKB4vgcVLlQjQmyX37FA/u9ZI/dDND
 13sdxqJMI/wkc+rOwDFCOU6BcvqejGdje7u+xTfAFk28Nzg6+PDV4Iu7q+GGF0E65Ntn
 gLL8wJxZVuw2/J7pRnTErYAegeO3txLJqOD+BFYPRwoaRguWe6qRHtbIa2MR1sADMz3L
 TUxw==
X-Gm-Message-State: AOJu0YypypE4cyisF8bBpaFTJbW2MGNAdvTmdOxFbZD9HNC9I8FQ9Lev
 3joBfz2jwnVaOnpWwVG/H3kDtn9sWkgLGnEV4FU+DWBi8qNOQo4g78lajLyYiSlEmfMytXgNBIp
 je/T4po0FWPDfgdneiy81ckMOnQVL56nsf8yUPi04
X-Google-Smtp-Source: AGHT+IHV74MEz6Phi3ZuFD9gQNjEWD3LufW/QGn8IpumZuxWIxudO+jI6e8e2Am1BK35Km84xuY1Gn2nFiQD
X-Received: by 2002:a17:90a:7563:b0:29a:d7ba:2c99 with SMTP id
 q90-20020a17090a756300b0029ad7ba2c99mr10822956pjk.10.1710337412892; 
 Wed, 13 Mar 2024 06:43:32 -0700 (PDT)
Received: from postal.iol.unh.edu (postal.iol.unh.edu. [132.177.123.84])
 by smtp-relay.gmail.com with ESMTPS id
 z14-20020a17090ad78e00b0029bb7173529sm82822pju.16.2024.03.13.06.43.32
 (version=TLS1_2 cipher=ECDHE-ECDSA-AES128-GCM-SHA256 bits=128/128);
 Wed, 13 Mar 2024 06:43:32 -0700 (PDT)
X-Relaying-Domain: iol.unh.edu
Date: Wed, 13 Mar 2024 06:43:32 -0700 (PDT)
Message-ID: <65f1ad84.170a0220.8e0e2.5a99SMTPIN_ADDED_MISSING@mx.google.com>
Received: from [172.21.0.7] (unknown [172.18.0.240])
 by postal.iol.unh.edu (Postfix) with ESMTP id 1781A6052471;
 Wed, 13 Mar 2024 09:43:32 -0400 (EDT)
Subject: |SUCCESS| pw138329-138330 [PATCH] [v2,2/2] net/virtio: fix notificat
From: dpdklab@iol.unh.edu
To: Test Report <test-report@dpdk.org>
Cc: dpdk-test-reports@iol.unh.edu
In-Reply-To: <20240313125932.1878279-3-maxime.coquelin@redhat.com>
References: <20240313125932.1878279-3-maxime.coquelin@redhat.com>
Content-Type: text/plain
X-BeenThere: test-report@dpdk.org
X-Mailman-Version: 2.1.29
Precedence: list
List-Id: automatic DPDK test reports <test-report.dpdk.org>
List-Unsubscribe: <https://mails.dpdk.org/options/test-report>,
 <mailto:test-report-request@dpdk.org?subject=unsubscribe>
List-Archive: <http://mails.dpdk.org/archives/test-report/>
List-Post: <mailto:test-report@dpdk.org>
List-Help: <mailto:test-report-request@dpdk.org?subject=help>
List-Subscribe: <https://mails.dpdk.org/listinfo/test-report>,
 <mailto:test-report-request@dpdk.org?subject=subscribe>
Errors-To: test-report-bounces@dpdk.org

Test-Label: iol-compile-amd64-testing
Test-Status: SUCCESS
http://dpdk.org/patch/138330

_Testing PASS_

Submitter: Maxime Coquelin <maxime.coquelin@redhat.com>
Date: Wednesday, March 13 2024 12:59:32 
DPDK git baseline: Repo:dpdk
  Branch: master
  CommitID:deedfb86a7a6e10064d3cccd593f62072de96e36

138329-138330 --> testing pass

Test environment and result as below:

+---------------------+--------------------+----------------------+
|     Environment     | dpdk_meson_compile | dpdk_mingw64_compile |
+=====================+====================+======================+
| Windows Server 2022 | PASS               | PASS                 |
+---------------------+--------------------+----------------------+
| FreeBSD 13.2        | PASS               | SKIPPED              |
+---------------------+--------------------+----------------------+
| Windows Server 2019 | PASS               | PASS                 |
+---------------------+--------------------+----------------------+
| Fedora 38           | PASS               | SKIPPED              |
+---------------------+--------------------+----------------------+
| CentOS Stream 8     | PASS               | SKIPPED              |
+---------------------+--------------------+----------------------+


Windows Server 2022
	Kernel: OS Build 20348.2031
	Compiler: MSVC VS-Preview

FreeBSD 13.2
	Kernel: 13.2
	Compiler: clang 11.3.0

Windows Server 2019
	Kernel: 10.0
	Compiler: clang 14.0 and gcc 8.1.0 (MinGW)

Fedora 38
	Kernel: Depends on container host
	Compiler: clang 16.0.3

CentOS Stream 8
	Kernel: 4.18.0-240.10.1.el8_3.x86_64
	Compiler: gcc 8.4.1 20200928

To view detailed results, visit:
https://lab.dpdk.org/results/dashboard/patchsets/29534/

UNH-IOL DPDK Community Lab

To manage your email subscriptions, visit: 
https://lab.dpdk.org/results/dashboard/preferences/subscriptions/