From mboxrd@z Thu Jan  1 00:00:00 1970
Return-Path: <test-report-bounces@dpdk.org>
Received: from mails.dpdk.org (mails.dpdk.org [217.70.189.124])
	by inbox.dpdk.org (Postfix) with ESMTP id 95D5F43CA0
	for <public@inbox.dpdk.org>; Wed, 13 Mar 2024 14:48:26 +0100 (CET)
Received: from mails.dpdk.org (localhost [127.0.0.1])
	by mails.dpdk.org (Postfix) with ESMTP id 8D9AA406BC;
	Wed, 13 Mar 2024 14:48:26 +0100 (CET)
Received: from mail-oi1-f228.google.com (mail-oi1-f228.google.com
 [209.85.167.228])
 by mails.dpdk.org (Postfix) with ESMTP id CC103402B8
 for <test-report@dpdk.org>; Wed, 13 Mar 2024 14:48:24 +0100 (CET)
Received: by mail-oi1-f228.google.com with SMTP id
 5614622812f47-3c1f55ba3ecso3582673b6e.3
 for <test-report@dpdk.org>; Wed, 13 Mar 2024 06:48:24 -0700 (PDT)
DKIM-Signature: v=1; a=rsa-sha256; c=relaxed/relaxed;
 d=iol.unh.edu; s=unh-iol; t=1710337704; x=1710942504; darn=dpdk.org;
 h=references:in-reply-to:cc:to:from:subject:message-id:date:from:to
 :cc:subject:date:message-id:reply-to;
 bh=3Kymtq6Yz/qSU5KVMRX3fq/eAmHe32/wcF1T/mXA+qc=;
 b=O6LtX4pe+IfeZ/42NH7rD6GDFKn2r2MFin8oPgf0bqokpRPJ1BC64grlo8bEr4Fipp
 FAhmjeTKpXzm/wwN6ZzjyPzcNFkTu53OyMXhQXKIJSsFDnLDClDgHsTNKd5yUUJJD8d5
 4adrrWAEQsNzm175UrOC7AdO/lM8lQdzetM80=
X-Google-DKIM-Signature: v=1; a=rsa-sha256; c=relaxed/relaxed;
 d=1e100.net; s=20230601; t=1710337704; x=1710942504;
 h=references:in-reply-to:cc:to:from:subject:message-id:date
 :x-gm-message-state:from:to:cc:subject:date:message-id:reply-to;
 bh=3Kymtq6Yz/qSU5KVMRX3fq/eAmHe32/wcF1T/mXA+qc=;
 b=Bbku+d5HFNRPTJSEfIpHFoBsSFZ705i5xd9Yz86++byMwM4ZqrZyb8DxXQeQ/EqJHd
 DRXs+LaKTSv5jBa5u0Mxns441KGzUTK2sUErUEK4/mns4PqH4lB0KvhDnJH5bVHMKm2M
 HTX7BGob3/jgGuQoIxDLJKsv8nRAGEyogp/UJiWHlgVqJ4nHK3Sl0YXaEFjR+7Hxutxd
 0dtX+x04uDYnFy+GMVDB28USN+E45JYNComUu5vqSPjORjODQYFzYEVHadd8HRcRiJ7H
 OEqD/hz3pIyh6+LplARvD/uq1mc8o52JWWeev1bx4WDMQPO4nXE8fxVSagbXEW94sQmD
 nuIw==
X-Gm-Message-State: AOJu0YyyR8SrrNUCWdvZ4lJTWdlhh6Q6SIVs5IxhuWY6VRpTmLYfWFQ5
 HFtbqfFYnfvx/Rft9B/PAU74HPe+/hiJ0hoKqZl6aRt2rD8SNddpFYTBUSw1FB+Z5c+JAElk0tK
 ZMO+1+EDPQt0pJEgNGc0931uJ/Xqi+fsGpRM99LHS
X-Google-Smtp-Source: AGHT+IExBxxMA00nUGTVUsqUOaUFy0AMdL3XUS5nOd+2Vr5p3k4dsbGXLBJRDx4hZafgH7wGP9iPA2aCbKHE
X-Received: by 2002:a05:6870:b506:b0:221:37d1:215c with SMTP id
 v6-20020a056870b50600b0022137d1215cmr14115451oap.6.1710337704108; 
 Wed, 13 Mar 2024 06:48:24 -0700 (PDT)
Received: from postal.iol.unh.edu (postal.iol.unh.edu. [132.177.123.84])
 by smtp-relay.gmail.com with ESMTPS id
 cr1-20020a056830670100b006e5033dc012sm828974otb.13.2024.03.13.06.48.23
 (version=TLS1_2 cipher=ECDHE-ECDSA-AES128-GCM-SHA256 bits=128/128);
 Wed, 13 Mar 2024 06:48:24 -0700 (PDT)
X-Relaying-Domain: iol.unh.edu
Date: Wed, 13 Mar 2024 06:48:24 -0700 (PDT)
Message-ID: <65f1aea8.050a0220.ba1ae.3fccSMTPIN_ADDED_MISSING@mx.google.com>
Received: from [172.21.0.6] (unknown [172.18.0.240])
 by postal.iol.unh.edu (Postfix) with ESMTP id 823596052471;
 Wed, 13 Mar 2024 09:48:23 -0400 (EDT)
Subject: |SUCCESS| pw138329-138330 [PATCH] [v2,2/2] net/virtio: fix notificat
From: dpdklab@iol.unh.edu
To: Test Report <test-report@dpdk.org>
Cc: dpdk-test-reports@iol.unh.edu
In-Reply-To: <20240313125932.1878279-3-maxime.coquelin@redhat.com>
References: <20240313125932.1878279-3-maxime.coquelin@redhat.com>
Content-Type: text/plain
X-BeenThere: test-report@dpdk.org
X-Mailman-Version: 2.1.29
Precedence: list
List-Id: automatic DPDK test reports <test-report.dpdk.org>
List-Unsubscribe: <https://mails.dpdk.org/options/test-report>,
 <mailto:test-report-request@dpdk.org?subject=unsubscribe>
List-Archive: <http://mails.dpdk.org/archives/test-report/>
List-Post: <mailto:test-report@dpdk.org>
List-Help: <mailto:test-report-request@dpdk.org?subject=help>
List-Subscribe: <https://mails.dpdk.org/listinfo/test-report>,
 <mailto:test-report-request@dpdk.org?subject=subscribe>
Errors-To: test-report-bounces@dpdk.org

Test-Label: iol-compile-amd64-testing
Test-Status: SUCCESS
http://dpdk.org/patch/138330

_Testing PASS_

Submitter: Maxime Coquelin <maxime.coquelin@redhat.com>
Date: Wednesday, March 13 2024 12:59:32 
DPDK git baseline: Repo:dpdk
  Branch: master
  CommitID:deedfb86a7a6e10064d3cccd593f62072de96e36

138329-138330 --> testing pass

Test environment and result as below:

+---------------------+--------------------+----------------------+
|     Environment     | dpdk_meson_compile | dpdk_mingw64_compile |
+=====================+====================+======================+
| Windows Server 2022 | PASS               | PASS                 |
+---------------------+--------------------+----------------------+
| FreeBSD 13.2        | PASS               | SKIPPED              |
+---------------------+--------------------+----------------------+
| Windows Server 2019 | PASS               | PASS                 |
+---------------------+--------------------+----------------------+
| Fedora 38           | PASS               | SKIPPED              |
+---------------------+--------------------+----------------------+
| CentOS Stream 8     | PASS               | SKIPPED              |
+---------------------+--------------------+----------------------+
| CentOS Stream 9     | PASS               | SKIPPED              |
+---------------------+--------------------+----------------------+
| Fedora 37           | PASS               | SKIPPED              |
+---------------------+--------------------+----------------------+
| Debian 12 (arm)     | PASS               | SKIPPED              |
+---------------------+--------------------+----------------------+


Windows Server 2022
	Kernel: OS Build 20348.2031
	Compiler: MSVC VS-Preview

FreeBSD 13.2
	Kernel: 13.2
	Compiler: clang 11.3.0

Windows Server 2019
	Kernel: 10.0
	Compiler: clang 14.0 and gcc 8.1.0 (MinGW)

Fedora 38
	Kernel: Depends on container host
	Compiler: clang 16.0.3

CentOS Stream 8
	Kernel: 4.18.0-240.10.1.el8_3.x86_64
	Compiler: gcc 8.4.1 20200928

CentOS Stream 9
	Kernel: 4.18.0-240.10.1.el8_3.x86_64
	Compiler: gcc 11.3.1 20220421

Fedora 37
	Kernel: Depends on container host system
	Compiler: gcc 12.3.1

Debian 12 (arm)
	Kernel: Container Host Kernel
	Compiler: gcc 11

To view detailed results, visit:
https://lab.dpdk.org/results/dashboard/patchsets/29534/

UNH-IOL DPDK Community Lab

To manage your email subscriptions, visit: 
https://lab.dpdk.org/results/dashboard/preferences/subscriptions/