From: dpdklab@iol.unh.edu
To: Test Report <test-report@dpdk.org>
Cc: dpdk-test-reports@iol.unh.edu
Subject: |SUCCESS| pw138411 [PATCH] [v2] net/hns3: support new device
Date: Thu, 14 Mar 2024 20:39:07 -0700 (PDT) [thread overview]
Message-ID: <65f3c2db.810a0220.65624.c7efSMTPIN_ADDED_MISSING@mx.google.com> (raw)
In-Reply-To: <20240315025448.2820722-1-haijie1@huawei.com>
Test-Label: iol-compile-arm64-testing
Test-Status: SUCCESS
http://dpdk.org/patch/138411
_Testing PASS_
Submitter: Jie Hai <haijie1@huawei.com>
Date: Friday, March 15 2024 02:54:48
DPDK git baseline: Repo:dpdk
Branch: master
CommitID:136cbcbe91ea5d7bdb337b168947828947647b45
138411 --> testing pass
Test environment and result as below:
+------------------------------------+--------------------+
| Environment | dpdk_meson_compile |
+====================================+====================+
| Ubuntu 20.04 ARM SVE | PASS |
+------------------------------------+--------------------+
| Debian 12 with MUSDK | PASS |
+------------------------------------+--------------------+
| Fedora 37 (ARM) | PASS |
+------------------------------------+--------------------+
| Fedora 38 (ARM) | PASS |
+------------------------------------+--------------------+
| Debian 12 (arm) | PASS |
+------------------------------------+--------------------+
| CentOS Stream 9 (ARM) | PASS |
+------------------------------------+--------------------+
| Ubuntu 20.04 ARM GCC Cross Compile | PASS |
+------------------------------------+--------------------+
| Ubuntu 20.04 (ARM) | PASS |
+------------------------------------+--------------------+
| Debian 11 (Buster) (ARM) | PASS |
+------------------------------------+--------------------+
Ubuntu 20.04 ARM SVE
Kernel: 5.4.0-80-generic
Compiler: gcc 10.3.0 (Ubuntu 10.3.0-1ubuntu1~20.04)
Debian 12 with MUSDK
Kernel: Container Host Kernel
Compiler: gcc 12
Fedora 37 (ARM)
Kernel: Depends on container host
Compiler: gcc 12.3.1
Fedora 38 (ARM)
Kernel: Depends on container host
Compiler: gcc 13.1.1
Debian 12 (arm)
Kernel: Container Host Kernel
Compiler: gcc 11
CentOS Stream 9 (ARM)
Kernel: Container Host Kernel
Compiler: gcc 11.3.1
Ubuntu 20.04 ARM GCC Cross Compile
Kernel: 5.4.0-72-generic
Compiler: aarch64-linux-gnu-gcc (Ubuntu 9.3.0-17ubuntu1~20.04) 9.3.0
Ubuntu 20.04 (ARM)
Kernel: Container Host Kernel
Compiler: gcc 9.4.0
Debian 11 (Buster) (ARM)
Kernel: Container Host Kernel
Compiler: gcc 10.2.1
To view detailed results, visit:
https://lab.dpdk.org/results/dashboard/patchsets/29566/
UNH-IOL DPDK Community Lab
To manage your email subscriptions, visit:
https://lab.dpdk.org/results/dashboard/preferences/subscriptions/
next prev parent reply other threads:[~2024-03-15 3:39 UTC|newest]
Thread overview: 73+ messages / expand[flat|nested] mbox.gz Atom feed top
[not found] <20240315025448.2820722-1-haijie1@huawei.com>
2024-03-15 2:36 ` |SUCCESS| pw138411 [PATCH v2] " qemudev
2024-03-15 2:40 ` qemudev
2024-03-15 3:00 ` checkpatch
2024-03-15 3:36 ` |SUCCESS| pw138411 [PATCH] [v2] " dpdklab
2024-03-15 3:37 ` dpdklab
2024-03-15 3:37 ` dpdklab
2024-03-15 3:37 ` dpdklab
2024-03-15 3:38 ` dpdklab
2024-03-15 3:38 ` dpdklab
2024-03-15 3:38 ` dpdklab
2024-03-15 3:38 ` dpdklab
2024-03-15 3:39 ` dpdklab [this message]
2024-03-15 3:39 ` dpdklab
2024-03-15 3:39 ` dpdklab
2024-03-15 3:40 ` dpdklab
2024-03-15 3:40 ` dpdklab
2024-03-15 3:40 ` dpdklab
2024-03-15 3:40 ` dpdklab
2024-03-15 3:40 ` dpdklab
2024-03-15 3:40 ` dpdklab
2024-03-15 3:40 ` dpdklab
2024-03-15 3:41 ` dpdklab
2024-03-15 3:41 ` dpdklab
2024-03-15 3:42 ` dpdklab
2024-03-15 3:42 ` dpdklab
2024-03-15 3:42 ` dpdklab
2024-03-15 3:43 ` dpdklab
2024-03-15 3:43 ` dpdklab
2024-03-15 3:48 ` dpdklab
2024-03-15 3:48 ` dpdklab
2024-03-15 3:48 ` dpdklab
2024-03-15 3:48 ` dpdklab
2024-03-15 3:48 ` dpdklab
2024-03-15 3:49 ` dpdklab
2024-03-15 3:49 ` dpdklab
2024-03-15 3:49 ` dpdklab
2024-03-15 3:49 ` dpdklab
2024-03-15 3:49 ` dpdklab
2024-03-15 3:50 ` dpdklab
2024-03-15 3:53 ` dpdklab
2024-03-15 3:53 ` dpdklab
2024-03-15 3:53 ` dpdklab
2024-03-15 3:53 ` dpdklab
2024-03-15 3:54 ` dpdklab
2024-03-15 3:54 ` dpdklab
2024-03-15 3:54 ` dpdklab
2024-03-15 3:54 ` dpdklab
2024-03-15 3:55 ` dpdklab
2024-03-15 3:55 ` dpdklab
2024-03-15 3:55 ` dpdklab
2024-03-15 3:55 ` dpdklab
2024-03-15 3:55 ` dpdklab
2024-03-15 3:55 ` dpdklab
2024-03-15 3:56 ` dpdklab
2024-03-15 3:56 ` dpdklab
2024-03-15 3:56 ` dpdklab
2024-03-15 3:56 ` dpdklab
2024-03-15 3:57 ` dpdklab
2024-03-15 3:57 ` dpdklab
2024-03-15 3:58 ` dpdklab
2024-03-15 3:59 ` dpdklab
2024-03-15 3:59 ` dpdklab
2024-03-15 4:04 ` dpdklab
2024-03-15 4:10 ` dpdklab
2024-03-15 4:17 ` dpdklab
2024-03-15 4:18 ` dpdklab
2024-03-15 4:19 ` dpdklab
2024-03-15 4:20 ` dpdklab
2024-03-15 4:23 ` |SUCCESS| pw138411 [PATCH v2] " 0-day Robot
2024-03-15 4:28 ` |SUCCESS| pw138411 [PATCH] [v2] " dpdklab
2024-03-15 5:07 ` dpdklab
2024-03-18 17:52 ` dpdklab
2024-03-18 18:25 ` dpdklab
Reply instructions:
You may reply publicly to this message via plain-text email
using any one of the following methods:
* Save the following mbox file, import it into your mail client,
and reply-to-all from there: mbox
Avoid top-posting and favor interleaved quoting:
https://en.wikipedia.org/wiki/Posting_style#Interleaved_style
* Reply using the --to, --cc, and --in-reply-to
switches of git-send-email(1):
git send-email \
--in-reply-to=65f3c2db.810a0220.65624.c7efSMTPIN_ADDED_MISSING@mx.google.com \
--to=dpdklab@iol.unh.edu \
--cc=dpdk-test-reports@iol.unh.edu \
--cc=test-report@dpdk.org \
/path/to/YOUR_REPLY
https://kernel.org/pub/software/scm/git/docs/git-send-email.html
* If your mail client supports setting the In-Reply-To header
via mailto: links, try the mailto: link
Be sure your reply has a Subject: header at the top and a blank line
before the message body.
This is a public inbox, see mirroring instructions
for how to clone and mirror all data and code used for this inbox;
as well as URLs for NNTP newsgroup(s).