From: dpdklab@iol.unh.edu
To: Test Report <test-report@dpdk.org>
Cc: dpdk-test-reports@iol.unh.edu,
Andrew Rybchenko <andrew.rybchenko@oktetlabs.ru>,
Ferruh Yigit <ferruh.yigit@amd.com>
Subject: |SUCCESS| [GIT MASTER] c7f6bdc5942d8827c46710a83f9288ce5e3c9458
Date: Fri, 22 Mar 2024 01:33:45 -0700 (PDT) [thread overview]
Message-ID: <65fd4269.0d0a0220.a573e.1e7bSMTPIN_ADDED_MISSING@mx.google.com> (raw)
_Testing PASS_
Branch: dpdk-next-net
c7f6bdc5942d8827c46710a83f9288ce5e3c9458 --> testing pass
Test environment and result as below:
+--------------------------+----------------+---------------------------+--------------+------------------------------+
| Environment | dpdk_unit_test | cryptodev_sw_zuc_autotest | lpm_autotest | cryptodev_sw_snow3g_autotest |
+==========================+================+===========================+==============+==============================+
| CentOS Stream 9 (ARM) | PASS | SKIPPED | SKIPPED | SKIPPED |
+--------------------------+----------------+---------------------------+--------------+------------------------------+
| Debian 11 (Buster) (ARM) | PASS | SKIPPED | SKIPPED | SKIPPED |
+--------------------------+----------------+---------------------------+--------------+------------------------------+
| Fedora 38 (ARM) | PASS | SKIPPED | SKIPPED | SKIPPED |
+--------------------------+----------------+---------------------------+--------------+------------------------------+
| Fedora 37 (ARM) | PASS | SKIPPED | SKIPPED | SKIPPED |
+--------------------------+----------------+---------------------------+--------------+------------------------------+
| Debian 12 (arm) | PASS | PASS | SKIPPED | PASS |
+--------------------------+----------------+---------------------------+--------------+------------------------------+
| Ubuntu 20.04 (ARM) | PASS | SKIPPED | SKIPPED | SKIPPED |
+--------------------------+----------------+---------------------------+--------------+------------------------------+
| Fedora 38 (ARM Clang) | PASS | SKIPPED | SKIPPED | SKIPPED |
+--------------------------+----------------+---------------------------+--------------+------------------------------+
| Ubuntu 20.04 ARM SVE | SKIPPED | SKIPPED | PASS | SKIPPED |
+--------------------------+----------------+---------------------------+--------------+------------------------------+
CentOS Stream 9 (ARM)
Kernel: Container Host Kernel
Compiler: gcc 11.4.1
Debian 11 (Buster) (ARM)
Kernel: Container Host Kernel
Compiler: gcc 10.2.1
Fedora 38 (ARM)
Kernel: Depends on container host
Compiler: gcc 13.2.1
Fedora 37 (ARM)
Kernel: Depends on container host
Compiler: gcc 12.3.1
Debian 12 (arm)
Kernel: Container Host Kernel
Compiler: gcc 12.2.0
Ubuntu 20.04 (ARM)
Kernel: Container Host Kernel
Compiler: gcc 9.4.0
Fedora 38 (ARM Clang)
Kernel: Depends on container host
Compiler: clang 16.0.6
Ubuntu 20.04 ARM SVE
Kernel: 5.4.0-167-generic
Compiler: gcc (Ubuntu 10.5.0-1ubuntu1~20.04) 10.5.0
To view detailed results, visit:
https://lab.dpdk.org/results/dashboard/tarballs/28590/
UNH-IOL DPDK Community Lab
To manage your email subscriptions, visit:
https://lab.dpdk.org/results/dashboard/preferences/subscriptions/
next reply other threads:[~2024-03-22 8:33 UTC|newest]
Thread overview: 64+ messages / expand[flat|nested] mbox.gz Atom feed top
2024-03-22 8:33 dpdklab [this message]
-- strict thread matches above, loose matches on Subject: below --
2024-03-23 23:28 dpdklab
2024-03-23 22:52 dpdklab
2024-03-22 10:12 dpdklab
2024-03-22 9:02 dpdklab
2024-03-22 8:50 dpdklab
2024-03-22 8:36 dpdklab
2024-03-22 8:22 dpdklab
2024-03-22 7:57 dpdklab
2024-03-22 7:56 dpdklab
2024-03-22 7:56 dpdklab
2024-03-22 7:55 dpdklab
2024-03-22 7:55 dpdklab
2024-03-22 7:55 dpdklab
2024-03-22 7:55 dpdklab
2024-03-22 7:55 dpdklab
2024-03-22 7:54 dpdklab
2024-03-22 7:54 dpdklab
2024-03-22 7:54 dpdklab
2024-03-22 7:53 dpdklab
2024-03-22 7:52 dpdklab
2024-03-22 7:52 dpdklab
2024-03-22 7:52 dpdklab
2024-03-22 7:49 dpdklab
2024-03-22 7:49 dpdklab
2024-03-22 7:48 dpdklab
2024-03-22 7:48 dpdklab
2024-03-22 7:48 dpdklab
2024-03-22 7:47 dpdklab
2024-03-22 7:47 dpdklab
2024-03-22 7:47 dpdklab
2024-03-22 7:46 dpdklab
2024-03-22 7:46 dpdklab
2024-03-22 7:46 dpdklab
2024-03-22 7:46 dpdklab
2024-03-22 7:45 dpdklab
2024-03-22 7:45 dpdklab
2024-03-22 7:44 dpdklab
2024-03-22 7:44 dpdklab
2024-03-22 7:44 dpdklab
2024-03-22 7:44 dpdklab
2024-03-22 7:43 dpdklab
2024-03-22 7:43 dpdklab
2024-03-22 7:42 dpdklab
2024-03-22 7:42 dpdklab
2024-03-22 7:42 dpdklab
2024-03-22 7:41 dpdklab
2024-03-22 7:39 dpdklab
2024-03-22 7:39 dpdklab
2024-03-22 7:38 dpdklab
2024-03-22 7:38 dpdklab
2024-03-22 7:36 dpdklab
2024-03-22 7:35 dpdklab
2024-03-22 7:32 dpdklab
2024-03-22 7:26 dpdklab
2024-03-22 7:22 dpdklab
2024-03-22 7:11 dpdklab
2024-03-22 7:07 dpdklab
2024-03-22 7:06 dpdklab
2024-03-22 7:05 dpdklab
2024-03-22 7:05 dpdklab
2024-03-22 7:03 dpdklab
2024-03-22 6:55 dpdklab
2024-03-22 6:54 dpdklab
Reply instructions:
You may reply publicly to this message via plain-text email
using any one of the following methods:
* Save the following mbox file, import it into your mail client,
and reply-to-all from there: mbox
Avoid top-posting and favor interleaved quoting:
https://en.wikipedia.org/wiki/Posting_style#Interleaved_style
* Reply using the --to, --cc, and --in-reply-to
switches of git-send-email(1):
git send-email \
--in-reply-to=65fd4269.0d0a0220.a573e.1e7bSMTPIN_ADDED_MISSING@mx.google.com \
--to=dpdklab@iol.unh.edu \
--cc=andrew.rybchenko@oktetlabs.ru \
--cc=dpdk-test-reports@iol.unh.edu \
--cc=ferruh.yigit@amd.com \
--cc=test-report@dpdk.org \
/path/to/YOUR_REPLY
https://kernel.org/pub/software/scm/git/docs/git-send-email.html
* If your mail client supports setting the In-Reply-To header
via mailto: links, try the mailto: link
Be sure your reply has a Subject: header at the top and a blank line
before the message body.
This is a public inbox, see mirroring instructions
for how to clone and mirror all data and code used for this inbox;
as well as URLs for NNTP newsgroup(s).