From: dpdklab@iol.unh.edu
To: Test Report <test-report@dpdk.org>
Cc: dpdk-test-reports@iol.unh.edu
Subject: |SUCCESS| pw138743 [PATCH] Spelling: Fixed a spelling.
Date: Fri, 22 Mar 2024 16:10:58 -0700 (PDT) [thread overview]
Message-ID: <65fe1002.170a0220.d6a7b.3754SMTPIN_ADDED_MISSING@mx.google.com> (raw)
In-Reply-To: <20240321230225.3483-1-embm29@gmail.com>
Test-Label: iol-compile-amd64-testing
Test-Status: SUCCESS
http://dpdk.org/patch/138743
_Testing PASS_
Submitter: EmiAoki <embm29@gmail.com>
Date: Thursday, March 21 2024 23:02:25
DPDK git baseline: Repo:dpdk
Branch: master
CommitID:0219d467bcb1d19b386b5bae8eecd3514ba13fdb
138743 --> testing pass
Test environment and result as below:
+---------------------+--------------------+----------------------+-------------------+
| Environment | dpdk_meson_compile | dpdk_mingw64_compile | dpdk_msvc_compile |
+=====================+====================+======================+===================+
| FreeBSD 13.2 | PASS | SKIPPED | SKIPPED |
+---------------------+--------------------+----------------------+-------------------+
| Windows Server 2022 | PASS | PASS | PASS |
+---------------------+--------------------+----------------------+-------------------+
| Windows Server 2019 | PASS | PASS | SKIPPED |
+---------------------+--------------------+----------------------+-------------------+
FreeBSD 13.2
Kernel: 13.2
Compiler: clang 14.0.5
Windows Server 2022
Kernel: 10.0.20348.2031
Compiler: clang 15.0.7, gcc 8.1.0 (MinGW), and MSVC VS 17.9
Windows Server 2019
Kernel: 10.0.17763
Compiler: clang 14.0 and gcc 8.1.0 (MinGW)
To view detailed results, visit:
https://lab.dpdk.org/results/dashboard/patchsets/29635/
UNH-IOL DPDK Community Lab
To manage your email subscriptions, visit:
https://lab.dpdk.org/results/dashboard/preferences/subscriptions/
next prev parent reply other threads:[~2024-03-22 23:11 UTC|newest]
Thread overview: 81+ messages / expand[flat|nested] mbox.gz Atom feed top
[not found] <20240321230225.3483-1-embm29@gmail.com>
2024-03-22 12:45 ` qemudev
2024-03-22 12:50 ` |WARNING| " checkpatch
2024-03-22 12:50 ` |SUCCESS| " qemudev
2024-03-22 17:05 ` 0-day Robot
2024-03-22 21:31 ` dpdklab
2024-03-22 21:45 ` dpdklab
2024-03-22 22:09 ` dpdklab
2024-03-22 22:24 ` dpdklab
2024-03-22 22:26 ` dpdklab
2024-03-22 22:27 ` dpdklab
2024-03-22 22:28 ` dpdklab
2024-03-22 22:28 ` dpdklab
2024-03-22 22:28 ` dpdklab
2024-03-22 22:32 ` dpdklab
2024-03-22 22:34 ` dpdklab
2024-03-22 22:34 ` dpdklab
2024-03-22 22:42 ` dpdklab
2024-03-22 22:42 ` dpdklab
2024-03-22 22:44 ` dpdklab
2024-03-22 22:44 ` dpdklab
2024-03-22 22:45 ` dpdklab
2024-03-22 22:51 ` dpdklab
2024-03-22 23:03 ` dpdklab
2024-03-22 23:05 ` dpdklab
2024-03-22 23:06 ` dpdklab
2024-03-22 23:06 ` dpdklab
2024-03-22 23:07 ` dpdklab
2024-03-22 23:08 ` dpdklab
2024-03-22 23:08 ` dpdklab
2024-03-22 23:08 ` dpdklab
2024-03-22 23:08 ` dpdklab
2024-03-22 23:08 ` dpdklab
2024-03-22 23:09 ` dpdklab
2024-03-22 23:09 ` dpdklab
2024-03-22 23:10 ` dpdklab
2024-03-22 23:10 ` dpdklab
2024-03-22 23:10 ` dpdklab [this message]
2024-03-22 23:15 ` dpdklab
2024-03-22 23:17 ` dpdklab
2024-03-22 23:43 ` dpdklab
2024-03-22 23:55 ` dpdklab
2024-03-22 23:56 ` dpdklab
2024-03-22 23:56 ` dpdklab
2024-03-22 23:56 ` dpdklab
2024-03-22 23:59 ` dpdklab
2024-03-23 0:00 ` dpdklab
2024-03-23 0:00 ` dpdklab
2024-03-23 0:00 ` dpdklab
2024-03-23 0:00 ` dpdklab
2024-03-23 0:00 ` dpdklab
2024-03-23 0:01 ` dpdklab
2024-03-23 0:01 ` dpdklab
2024-03-23 0:02 ` dpdklab
2024-03-23 0:02 ` dpdklab
2024-03-23 0:02 ` dpdklab
2024-03-23 0:02 ` dpdklab
2024-03-23 0:02 ` dpdklab
2024-03-23 0:02 ` dpdklab
2024-03-23 0:03 ` dpdklab
2024-03-23 0:03 ` dpdklab
2024-03-23 0:03 ` dpdklab
2024-03-23 0:03 ` dpdklab
2024-03-23 0:03 ` dpdklab
2024-03-23 0:04 ` dpdklab
2024-03-23 0:04 ` dpdklab
2024-03-23 0:04 ` dpdklab
2024-03-23 0:04 ` dpdklab
2024-03-23 0:04 ` dpdklab
2024-03-23 0:05 ` dpdklab
2024-03-23 0:06 ` dpdklab
2024-03-23 0:07 ` dpdklab
2024-03-23 0:07 ` dpdklab
2024-03-23 0:09 ` dpdklab
2024-03-23 0:10 ` dpdklab
2024-03-23 0:14 ` dpdklab
2024-03-23 1:27 ` dpdklab
2024-03-23 1:39 ` dpdklab
2024-03-23 2:45 ` dpdklab
2024-03-23 3:10 ` dpdklab
2024-03-24 14:06 ` dpdklab
2024-03-24 14:42 ` dpdklab
Reply instructions:
You may reply publicly to this message via plain-text email
using any one of the following methods:
* Save the following mbox file, import it into your mail client,
and reply-to-all from there: mbox
Avoid top-posting and favor interleaved quoting:
https://en.wikipedia.org/wiki/Posting_style#Interleaved_style
* Reply using the --to, --cc, and --in-reply-to
switches of git-send-email(1):
git send-email \
--in-reply-to=65fe1002.170a0220.d6a7b.3754SMTPIN_ADDED_MISSING@mx.google.com \
--to=dpdklab@iol.unh.edu \
--cc=dpdk-test-reports@iol.unh.edu \
--cc=test-report@dpdk.org \
/path/to/YOUR_REPLY
https://kernel.org/pub/software/scm/git/docs/git-send-email.html
* If your mail client supports setting the In-Reply-To header
via mailto: links, try the mailto: link
Be sure your reply has a Subject: header at the top and a blank line
before the message body.
This is a public inbox, see mirroring instructions
for how to clone and mirror all data and code used for this inbox;
as well as URLs for NNTP newsgroup(s).