From mboxrd@z Thu Jan  1 00:00:00 1970
Return-Path: <test-report-bounces@dpdk.org>
Received: from mails.dpdk.org (mails.dpdk.org [217.70.189.124])
	by inbox.dpdk.org (Postfix) with ESMTP id 133C843DE5
	for <public@inbox.dpdk.org>; Wed,  3 Apr 2024 10:58:43 +0200 (CEST)
Received: from mails.dpdk.org (localhost [127.0.0.1])
	by mails.dpdk.org (Postfix) with ESMTP id 0EC94402CE;
	Wed,  3 Apr 2024 10:58:43 +0200 (CEST)
Received: from mail-oa1-f100.google.com (mail-oa1-f100.google.com
 [209.85.160.100])
 by mails.dpdk.org (Postfix) with ESMTP id 42A114025C
 for <test-report@dpdk.org>; Wed,  3 Apr 2024 10:58:42 +0200 (CEST)
Received: by mail-oa1-f100.google.com with SMTP id
 586e51a60fabf-229661f57cbso3441616fac.1
 for <test-report@dpdk.org>; Wed, 03 Apr 2024 01:58:42 -0700 (PDT)
DKIM-Signature: v=1; a=rsa-sha256; c=relaxed/relaxed;
 d=iol.unh.edu; s=unh-iol; t=1712134721; x=1712739521; darn=dpdk.org;
 h=references:in-reply-to:cc:to:from:subject:message-id:date:from:to
 :cc:subject:date:message-id:reply-to;
 bh=oyWDJNovZvvFLIUU/h6nOUA65E9Q9s5hdCBxH2XFNaE=;
 b=ZFkqcll4g5UAC0DqBy2G5ZXEKg/rS8Bc5Q2NcLrQL6jIfv2XHle4I9aA+HSOiPIcaN
 4QRSuUcR94FHBZt/yL7NAcxfQBJlVhjiWjIkh2YSkidHoPsX2vFlHR7GozwyMpBD11kB
 I4Da8uHZ3i01eVySoIebl5JPq93IJLMROoO/4=
X-Google-DKIM-Signature: v=1; a=rsa-sha256; c=relaxed/relaxed;
 d=1e100.net; s=20230601; t=1712134721; x=1712739521;
 h=references:in-reply-to:cc:to:from:subject:message-id:date
 :x-gm-message-state:from:to:cc:subject:date:message-id:reply-to;
 bh=oyWDJNovZvvFLIUU/h6nOUA65E9Q9s5hdCBxH2XFNaE=;
 b=cnte8Mr8MrEZES3g+qpfY8Op0folhbpzbCrGo4I4//atzMgD2h/JZPcDaDAHAwEqzQ
 L2NlECQRT5KR9h5b4It2o6pm3PfBrCs0v/Iyt8OJsByCiZWJcwx3oped6zUBTCzE/Y3a
 n0YhfeEsXYruLOcuECISWsM+VYe/5M6cmbdTrE1Cb7+Sozg9FTlCDcx70Cub+IBj/OmW
 rxjLcdiLYmV1m/8uwPMn9dqHh5DwFoP5nJV6utEhzd12rflFAyLZGapMKqD8u6GMGJS2
 mHXCeVwwFGXD8PR51ugJSGqUMo4PaMlsFVhbhOeayF9eNQQl6y6Tpl4x1IPyxcbo1rrv
 juFA==
X-Gm-Message-State: AOJu0YzPFI4ei95UbdoBH+o163OI08xMRXlcefjIPmhlDCgkN6Wgm+T3
 h0M0rZTnlu0qxKmih4iU/QusFm6fl/ym12tMjc+jPvDIsknPo9w2SBZ8CZozCtHFi6oAx5AfsGk
 KDkLgUtie1ERYfYuwatzYPsIFig7IW4HgDbkxQ9+tWAOXu4bPrGWzn4Xy
X-Google-Smtp-Source: AGHT+IEXXtAlUw9omD55h2jna4a0EsuYRMLbd4B8NNKa5Cd415aQSgrCH/EmnEQWqkuwouZ1bFe7qligYSow
X-Received: by 2002:a05:6870:a910:b0:22a:1036:4d86 with SMTP id
 eq16-20020a056870a91000b0022a10364d86mr14914347oab.20.1712134721600; 
 Wed, 03 Apr 2024 01:58:41 -0700 (PDT)
Received: from postal.iol.unh.edu (postal.iol.unh.edu.
 [2606:4100:3880:1234::84]) by smtp-relay.gmail.com with ESMTPS id
 eb47-20020a056870a8af00b00221a9712409sm396419oab.26.2024.04.03.01.58.41
 (version=TLS1_2 cipher=ECDHE-ECDSA-AES128-GCM-SHA256 bits=128/128);
 Wed, 03 Apr 2024 01:58:41 -0700 (PDT)
X-Relaying-Domain: iol.unh.edu
Date: Wed, 03 Apr 2024 01:58:41 -0700 (PDT)
Message-ID: <660d1a41.050a0220.d21ed.560fSMTPIN_ADDED_MISSING@mx.google.com>
Received: from [172.17.0.7] (unknown [172.18.0.217])
 by postal.iol.unh.edu (Postfix) with ESMTP id 156366052471;
 Wed,  3 Apr 2024 04:58:41 -0400 (EDT)
Subject: |SUCCESS| pw139067 [PATCH] vhost: fix crash caused by accessing a fr
From: dpdklab@iol.unh.edu
To: Test Report <test-report@dpdk.org>
Cc: dpdk-test-reports@iol.unh.edu
In-Reply-To: <TYAP286MB0649A160A9852720E0F3D67BD83D2@TYAP286MB0649.JPNP286.PROD.OUTLOOK.COM>
References: <TYAP286MB0649A160A9852720E0F3D67BD83D2@TYAP286MB0649.JPNP286.PROD.OUTLOOK.COM>
Content-Type: text/plain
X-BeenThere: test-report@dpdk.org
X-Mailman-Version: 2.1.29
Precedence: list
List-Id: automatic DPDK test reports <test-report.dpdk.org>
List-Unsubscribe: <https://mails.dpdk.org/options/test-report>,
 <mailto:test-report-request@dpdk.org?subject=unsubscribe>
List-Archive: <http://mails.dpdk.org/archives/test-report/>
List-Post: <mailto:test-report@dpdk.org>
List-Help: <mailto:test-report-request@dpdk.org?subject=help>
List-Subscribe: <https://mails.dpdk.org/listinfo/test-report>,
 <mailto:test-report-request@dpdk.org?subject=subscribe>
Errors-To: test-report-bounces@dpdk.org

Test-Label: iol-abi-testing
Test-Status: SUCCESS
http://dpdk.org/patch/139067

_Testing PASS_

Submitter: Gongming Chen <chengongming1900@outlook.com>
Date: Wednesday, April 03 2024 03:25:28 
DPDK git baseline: Repo:dpdk
  Branch: master
  CommitID:deedfb86a7a6e10064d3cccd593f62072de96e36

139067 --> testing pass

Test environment and result as below:

+------------------+----------+
|   Environment    | abi_test |
+==================+==========+
| Debian Bullseye  | PASS     |
+------------------+----------+
| CentOS Stream 9  | PASS     |
+------------------+----------+
| CentOS Stream 8  | PASS     |
+------------------+----------+
| Fedora 39        | PASS     |
+------------------+----------+
| Fedora 38        | PASS     |
+------------------+----------+
| openSUSE Leap 15 | PASS     |
+------------------+----------+
| Fedora 37        | PASS     |
+------------------+----------+
| RHEL8            | PASS     |
+------------------+----------+
| Debian 12        | PASS     |
+------------------+----------+
| Ubuntu 22.04     | PASS     |
+------------------+----------+


Debian Bullseye
	Kernel: 5.4.0-167-generic
	Compiler: gcc 10.2.1-6

CentOS Stream 9
	Kernel: 5.4.0-167-generic
	Compiler: gcc 11.4.1 20230605

CentOS Stream 8
	Kernel: 5.4.0-167-generic
	Compiler: gcc 8.5.0 20210514

Fedora 39
	Kernel: Depends on container host
	Compiler: clang 17.0.6

Fedora 38
	Kernel: Depends on container host
	Compiler: clang 16.0.6

openSUSE Leap 15
	Kernel: 5.4.0-167-generic
	Compiler: gcc 7.5.0

Fedora 37
	Kernel: Depends on container host system
	Compiler: gcc 12.3.1

RHEL8
	Kernel: 5.4.0-167-generic
	Compiler: gcc 8.5.0 20210514 (Red Hat 8.5.0-20)

Debian 12
	Kernel: Container Host Kernel
	Compiler: gcc 10.2.1

Ubuntu 22.04
	Kernel: 5.4.0-167-generic
	Compiler: gcc 11.4.0

To view detailed results, visit:
https://lab.dpdk.org/results/dashboard/patchsets/29698/

UNH-IOL DPDK Community Lab

To manage your email subscriptions, visit: 
https://lab.dpdk.org/results/dashboard/preferences/subscriptions/