From mboxrd@z Thu Jan  1 00:00:00 1970
Return-Path: <test-report-bounces@dpdk.org>
Received: from mails.dpdk.org (mails.dpdk.org [217.70.189.124])
	by inbox.dpdk.org (Postfix) with ESMTP id D684D43DF1
	for <public@inbox.dpdk.org>; Thu,  4 Apr 2024 01:24:18 +0200 (CEST)
Received: from mails.dpdk.org (localhost [127.0.0.1])
	by mails.dpdk.org (Postfix) with ESMTP id D1D8A402D8;
	Thu,  4 Apr 2024 01:24:18 +0200 (CEST)
Received: from mail-yb1-f225.google.com (mail-yb1-f225.google.com
 [209.85.219.225])
 by mails.dpdk.org (Postfix) with ESMTP id 0038E402D1
 for <test-report@dpdk.org>; Thu,  4 Apr 2024 01:24:17 +0200 (CEST)
Received: by mail-yb1-f225.google.com with SMTP id
 3f1490d57ef6-dcbc6a6808fso439741276.2
 for <test-report@dpdk.org>; Wed, 03 Apr 2024 16:24:17 -0700 (PDT)
DKIM-Signature: v=1; a=rsa-sha256; c=relaxed/relaxed;
 d=iol.unh.edu; s=unh-iol; t=1712186657; x=1712791457; darn=dpdk.org;
 h=references:in-reply-to:cc:to:from:subject:message-id:date:from:to
 :cc:subject:date:message-id:reply-to;
 bh=mw+8PO1onMjNK7+1L7vR0KoFxh6BXMyz+EW1KxsksI0=;
 b=h6dm0b2PhKtmQGDFEfZo1zsg5K3JI249KCXnfFGIKNZiiHt4/s6tykFhBJRH508lgy
 8nfL+AoAHgb434NxjDQFOmgdJW3owRzhDMPD4WSnYHgXMuJa0kS4+dPOxRcQI62WPzXY
 kIH7d/3phyCvUUuhtp41u1v/1FdK/vY7Z9K7w=
X-Google-DKIM-Signature: v=1; a=rsa-sha256; c=relaxed/relaxed;
 d=1e100.net; s=20230601; t=1712186657; x=1712791457;
 h=references:in-reply-to:cc:to:from:subject:message-id:date
 :x-gm-message-state:from:to:cc:subject:date:message-id:reply-to;
 bh=mw+8PO1onMjNK7+1L7vR0KoFxh6BXMyz+EW1KxsksI0=;
 b=r7qcNkyoU4kTkOfS9/BNtwkj1KwysQ8++zP+UeDzGztoo6kQ53s7k4IFCZcBHWaMfb
 JGRmUTqbjH9JTK8K+H0EpuKzGgUccjYXjmqVBjqIkL1u4kAb4ZKCr2eo3n3JF1m1li6d
 CwwnIK+Uj1Gbqx79CI5YeuxcjkAsHrsj63E6O5/fEjBryVoGS/4mbsC48E90E5N4xseg
 n1F7AxeXXIZQ8cOoGx0gXgbIVs2Kc6A5iC/NRK+Bt3caYub100jRjTXf6ABan7dTpV5O
 BrfeiXeyLTI/PHrwOqgEYq310XTvZIo5BuP2yp0mM1yd/19hWW84P8XAvwydfMtdhEhU
 SB2w==
X-Gm-Message-State: AOJu0YyVuMnYpQXHDGS+WxxnjodXO2ZOGWI5AINVfqtQUgJf+xtRNzZK
 2/nP9c5mDVWXmiCN5sIWRJXpPAEaBI8h+PiGoHHKzbRe/UcMXAN3blO3DMDJPQHJHyeOkHPHsjp
 uUdPWfiPOB7cUpWKEwkbGL8Csj4uUOh6Wa7H1O18Z
X-Google-Smtp-Source: AGHT+IHV8MIP3jjmEL/cxg8D52/eCq5REvM6jh3zqIHXq2/Elwv5knwa9VAHbW1tkbUBYMlGSVAQJz5zo+fS
X-Received: by 2002:a25:912:0:b0:dcd:905:3d17 with SMTP id
 18-20020a250912000000b00dcd09053d17mr970704ybj.32.1712186657364; 
 Wed, 03 Apr 2024 16:24:17 -0700 (PDT)
Received: from postal.iol.unh.edu (postal.iol.unh.edu. [132.177.123.84])
 by smtp-relay.gmail.com with ESMTPS id
 v13-20020a25ab8d000000b00dcf5a12cd33sm692970ybi.18.2024.04.03.16.24.17
 (version=TLS1_2 cipher=ECDHE-ECDSA-AES128-GCM-SHA256 bits=128/128);
 Wed, 03 Apr 2024 16:24:17 -0700 (PDT)
X-Relaying-Domain: iol.unh.edu
Date: Wed, 03 Apr 2024 16:24:17 -0700 (PDT)
Message-ID: <660de521.250a0220.b2ee1.724fSMTPIN_ADDED_MISSING@mx.google.com>
Received: from [172.21.0.6] (unknown [172.18.0.240])
 by postal.iol.unh.edu (Postfix) with ESMTP id 02A3D6052471;
 Wed,  3 Apr 2024 19:24:17 -0400 (EDT)
Subject: |SUCCESS| pw139091-139092 [PATCH] [v2,2/2] test: add functional test
From: dpdklab@iol.unh.edu
To: Test Report <test-report@dpdk.org>
Cc: dpdk-test-reports@iol.unh.edu
In-Reply-To: <20240403221319.499014-3-stephen@networkplumber.org>
References: <20240403221319.499014-3-stephen@networkplumber.org>
Content-Type: text/plain
X-BeenThere: test-report@dpdk.org
X-Mailman-Version: 2.1.29
Precedence: list
List-Id: automatic DPDK test reports <test-report.dpdk.org>
List-Unsubscribe: <https://mails.dpdk.org/options/test-report>,
 <mailto:test-report-request@dpdk.org?subject=unsubscribe>
List-Archive: <http://mails.dpdk.org/archives/test-report/>
List-Post: <mailto:test-report@dpdk.org>
List-Help: <mailto:test-report-request@dpdk.org?subject=help>
List-Subscribe: <https://mails.dpdk.org/listinfo/test-report>,
 <mailto:test-report-request@dpdk.org?subject=subscribe>
Errors-To: test-report-bounces@dpdk.org

Test-Label: iol-abi-testing
Test-Status: SUCCESS
http://dpdk.org/patch/139092

_Testing PASS_

Submitter: Stephen Hemminger <stephen@networkplumber.org>
Date: Wednesday, April 03 2024 22:11:08 
DPDK git baseline: Repo:dpdk
  Branch: master
  CommitID:e2e546ab5bf5e024986ccb5310ab43982f3bb40c

139091-139092 --> testing pass

Test environment and result as below:

+------------------+----------+
|   Environment    | abi_test |
+==================+==========+
| Fedora 38        | PASS     |
+------------------+----------+
| Fedora 39        | PASS     |
+------------------+----------+
| openSUSE Leap 15 | PASS     |
+------------------+----------+
| Debian Bullseye  | PASS     |
+------------------+----------+
| CentOS Stream 8  | PASS     |
+------------------+----------+
| Ubuntu 22.04     | PASS     |
+------------------+----------+
| RHEL8            | PASS     |
+------------------+----------+
| CentOS Stream 9  | PASS     |
+------------------+----------+
| Debian 12        | PASS     |
+------------------+----------+
| Fedora 37        | PASS     |
+------------------+----------+


Fedora 38
	Kernel: Depends on container host
	Compiler: clang 16.0.6

Fedora 39
	Kernel: Depends on container host
	Compiler: clang 17.0.6

openSUSE Leap 15
	Kernel: 5.4.0-167-generic
	Compiler: gcc 7.5.0

Debian Bullseye
	Kernel: 5.4.0-167-generic
	Compiler: gcc 10.2.1-6

CentOS Stream 8
	Kernel: 5.4.0-167-generic
	Compiler: gcc 8.5.0 20210514

Ubuntu 22.04
	Kernel: 5.4.0-167-generic
	Compiler: gcc 11.4.0

RHEL8
	Kernel: 5.4.0-167-generic
	Compiler: gcc 8.5.0 20210514 (Red Hat 8.5.0-20)

CentOS Stream 9
	Kernel: 5.4.0-167-generic
	Compiler: gcc 11.4.1 20230605

Debian 12
	Kernel: Container Host Kernel
	Compiler: gcc 10.2.1

Fedora 37
	Kernel: Depends on container host system
	Compiler: gcc 12.3.1

To view detailed results, visit:
https://lab.dpdk.org/results/dashboard/patchsets/29710/

UNH-IOL DPDK Community Lab

To manage your email subscriptions, visit: 
https://lab.dpdk.org/results/dashboard/preferences/subscriptions/