From mboxrd@z Thu Jan  1 00:00:00 1970
Return-Path: <test-report-bounces@dpdk.org>
Received: from mails.dpdk.org (mails.dpdk.org [217.70.189.124])
	by inbox.dpdk.org (Postfix) with ESMTP id D6B0943DF1
	for <public@inbox.dpdk.org>; Thu,  4 Apr 2024 01:27:16 +0200 (CEST)
Received: from mails.dpdk.org (localhost [127.0.0.1])
	by mails.dpdk.org (Postfix) with ESMTP id D29A5402D1;
	Thu,  4 Apr 2024 01:27:16 +0200 (CEST)
Received: from mail-yw1-f227.google.com (mail-yw1-f227.google.com
 [209.85.128.227])
 by mails.dpdk.org (Postfix) with ESMTP id 2E0594029B
 for <test-report@dpdk.org>; Thu,  4 Apr 2024 01:27:15 +0200 (CEST)
Received: by mail-yw1-f227.google.com with SMTP id
 00721157ae682-615053a5252so3429347b3.1
 for <test-report@dpdk.org>; Wed, 03 Apr 2024 16:27:15 -0700 (PDT)
DKIM-Signature: v=1; a=rsa-sha256; c=relaxed/relaxed;
 d=iol.unh.edu; s=unh-iol; t=1712186834; x=1712791634; darn=dpdk.org;
 h=references:in-reply-to:cc:to:from:subject:message-id:date:from:to
 :cc:subject:date:message-id:reply-to;
 bh=UvcEF2ONtpuhtVH11RwKDoOqF2nvMk5se+0hwbFXzNQ=;
 b=JoKl2TvVpkRxx1aW2cArcet6Kax4nkchtXW03lEMTnyHVb9BzISo4enEtkfbhyrwd/
 Msbi5/+PGgbT9uUGKejq/lGpcW1Bw8iqVXSychxr0smLaATezd8url5xOKRtH6J25LW/
 +LPKIry1lUwcd5krqt5H7C/WFrKUz6DcquY6I=
X-Google-DKIM-Signature: v=1; a=rsa-sha256; c=relaxed/relaxed;
 d=1e100.net; s=20230601; t=1712186834; x=1712791634;
 h=references:in-reply-to:cc:to:from:subject:message-id:date
 :x-gm-message-state:from:to:cc:subject:date:message-id:reply-to;
 bh=UvcEF2ONtpuhtVH11RwKDoOqF2nvMk5se+0hwbFXzNQ=;
 b=XfAIIGjnCS8aHeYMTFnY6IqQaC16l8zW4Xw4WS0Mpp+eyEZHEeK5e7A76i4N1X8uqQ
 qjm6Ij6jijY6Z2hTK8S1DecQAPA9+/1uBk3EN2oiH5cUC8+nR4fGujTTtwL3PX5ChK6g
 K3oIjA/5F5+HxWZ5u11b4BjDYG5V46hQlRVD8yuIMMMUidJ1LzM29Ur5/JjdBu0zBpwh
 7HqJ3BYl81VKvWdkdpHl145rDCoZMePT8sPD38BhYwNKDLn1cEwLeDvF3SXBdkdBvEXs
 mWN3RZE+hbOsGm6XFMGZ/XxPYLbo+Z6U4h+U/yAX22ZrUlFa19BDuh17nUjxDI/oOB4k
 I1uw==
X-Gm-Message-State: AOJu0Yyf0SJ/i5quhVjs9x6FYWvj9rjyI4H5v1ytcYiwrfdL8522T5C0
 jnu4PyITaBpNiESMJcuPtT4MIFsYPuzI1WzNMzBGQ3mBpdqXUcj7HPAOLF7+RihwURJZad1sfiZ
 gDBYAERpXrmxhy3ImkeRe+eRqaYwZQMjYkj8HcZzo
X-Google-Smtp-Source: AGHT+IEF6cRosxgsWC8P5GXD/QzemhPY/sA1J5M96kfJSniy3orMAdweEsR+MROqVFdg9tRnyNFWMub2YZGP
X-Received: by 2002:a81:84c6:0:b0:615:4cd6:1290 with SMTP id
 u189-20020a8184c6000000b006154cd61290mr920362ywf.4.1712186834294; 
 Wed, 03 Apr 2024 16:27:14 -0700 (PDT)
Received: from postal.iol.unh.edu (postal.iol.unh.edu. [132.177.123.84])
 by smtp-relay.gmail.com with ESMTPS id
 cb9-20020a05690c090900b0061441d410e7sm741128ywb.55.2024.04.03.16.27.14
 (version=TLS1_2 cipher=ECDHE-ECDSA-AES128-GCM-SHA256 bits=128/128);
 Wed, 03 Apr 2024 16:27:14 -0700 (PDT)
X-Relaying-Domain: iol.unh.edu
Date: Wed, 03 Apr 2024 16:27:14 -0700 (PDT)
Message-ID: <660de5d2.050a0220.88d48.a67eSMTPIN_ADDED_MISSING@mx.google.com>
Received: from [172.21.0.6] (unknown [172.18.0.240])
 by postal.iol.unh.edu (Postfix) with ESMTP id 03EF76052471;
 Wed,  3 Apr 2024 19:27:14 -0400 (EDT)
Subject: |SUCCESS| pw139091-139092 [PATCH] [v2,2/2] test: add functional test
From: dpdklab@iol.unh.edu
To: Test Report <test-report@dpdk.org>
Cc: dpdk-test-reports@iol.unh.edu
In-Reply-To: <20240403221319.499014-3-stephen@networkplumber.org>
References: <20240403221319.499014-3-stephen@networkplumber.org>
Content-Type: text/plain
X-BeenThere: test-report@dpdk.org
X-Mailman-Version: 2.1.29
Precedence: list
List-Id: automatic DPDK test reports <test-report.dpdk.org>
List-Unsubscribe: <https://mails.dpdk.org/options/test-report>,
 <mailto:test-report-request@dpdk.org?subject=unsubscribe>
List-Archive: <http://mails.dpdk.org/archives/test-report/>
List-Post: <mailto:test-report@dpdk.org>
List-Help: <mailto:test-report-request@dpdk.org?subject=help>
List-Subscribe: <https://mails.dpdk.org/listinfo/test-report>,
 <mailto:test-report-request@dpdk.org?subject=subscribe>
Errors-To: test-report-bounces@dpdk.org

Test-Label: iol-unit-amd64-testing
Test-Status: SUCCESS
http://dpdk.org/patch/139092

_Testing PASS_

Submitter: Stephen Hemminger <stephen@networkplumber.org>
Date: Wednesday, April 03 2024 22:11:08 
DPDK git baseline: Repo:dpdk
  Branch: master
  CommitID:e2e546ab5bf5e024986ccb5310ab43982f3bb40c

139091-139092 --> testing pass

Test environment and result as below:

+-----------------+----------------+
|   Environment   | dpdk_unit_test |
+=================+================+
| CentOS Stream 9 | PASS           |
+-----------------+----------------+
| CentOS Stream 8 | PASS           |
+-----------------+----------------+
| Debian Bullseye | PASS           |
+-----------------+----------------+
| Debian 12       | PASS           |
+-----------------+----------------+
| Fedora 37       | PASS           |
+-----------------+----------------+


CentOS Stream 9
	Kernel: 5.4.0-167-generic
	Compiler: gcc 11.4.1 20230605

CentOS Stream 8
	Kernel: 5.4.0-167-generic
	Compiler: gcc 8.5.0 20210514

Debian Bullseye
	Kernel: 5.4.0-167-generic
	Compiler: gcc 10.2.1-6

Debian 12
	Kernel: Container Host Kernel
	Compiler: gcc 10.2.1

Fedora 37
	Kernel: Depends on container host system
	Compiler: gcc 12.3.1

To view detailed results, visit:
https://lab.dpdk.org/results/dashboard/patchsets/29710/

UNH-IOL DPDK Community Lab

To manage your email subscriptions, visit: 
https://lab.dpdk.org/results/dashboard/preferences/subscriptions/