From mboxrd@z Thu Jan  1 00:00:00 1970
Return-Path: <test-report-bounces@dpdk.org>
Received: from mails.dpdk.org (mails.dpdk.org [217.70.189.124])
	by inbox.dpdk.org (Postfix) with ESMTP id 1350643DF1
	for <public@inbox.dpdk.org>; Thu,  4 Apr 2024 01:27:50 +0200 (CEST)
Received: from mails.dpdk.org (localhost [127.0.0.1])
	by mails.dpdk.org (Postfix) with ESMTP id 0BD36402D1;
	Thu,  4 Apr 2024 01:27:50 +0200 (CEST)
Received: from mail-oa1-f99.google.com (mail-oa1-f99.google.com
 [209.85.160.99]) by mails.dpdk.org (Postfix) with ESMTP id 8D9954029B
 for <test-report@dpdk.org>; Thu,  4 Apr 2024 01:27:48 +0200 (CEST)
Received: by mail-oa1-f99.google.com with SMTP id
 586e51a60fabf-22ea805f3edso190072fac.1
 for <test-report@dpdk.org>; Wed, 03 Apr 2024 16:27:48 -0700 (PDT)
DKIM-Signature: v=1; a=rsa-sha256; c=relaxed/relaxed;
 d=iol.unh.edu; s=unh-iol; t=1712186868; x=1712791668; darn=dpdk.org;
 h=references:in-reply-to:cc:to:from:subject:message-id:date:from:to
 :cc:subject:date:message-id:reply-to;
 bh=mw+8PO1onMjNK7+1L7vR0KoFxh6BXMyz+EW1KxsksI0=;
 b=V4qq7bvgzUk4pMhark+ryhyERkq+aPDOWQFXw3ZV01ZVMziL/mFciYeaGHdLfyKQ9o
 DIYQpDANBUbaVHdSvMu2Eua4nTOTVuPRQ6wyQhltPniTtS7ipm0SmEigTd7oRRdBr5Tx
 ZPpuIZyn54i6FYvuVTHBJY9NP3R6pOGCHa56k=
X-Google-DKIM-Signature: v=1; a=rsa-sha256; c=relaxed/relaxed;
 d=1e100.net; s=20230601; t=1712186868; x=1712791668;
 h=references:in-reply-to:cc:to:from:subject:message-id:date
 :x-gm-message-state:from:to:cc:subject:date:message-id:reply-to;
 bh=mw+8PO1onMjNK7+1L7vR0KoFxh6BXMyz+EW1KxsksI0=;
 b=Hw6218lEFCfeD+42hYr/SYs9yiSgHCVofDGGgHp9FIU8dFP8JMhhpMJ6ExpodnXXaP
 PeaH+/nAd5Of8Ss8xoGSFHKqJgkfi5NfWNlTyiYCrQfbSpYWPOz4EyvxmDWkFsKyCAKo
 bhF/S9FCjnNH7V6Ui6nan3ez8PIBFW+gJzVUSCc5OQ4Z/lNRFyfHYoablu19g8haFfiw
 OuIDURcHpx2clvxuMJGVYXXSUiFCzSZcse/yUkPZUGVVxzlj0J1hM3yXcft2EjvpuNxQ
 CRj4OqhUABJHGoYEUFORz4otB5PDqQCdZr/k6/H2/oz15DmJ1QEy6WWcudOgGMms/yG9
 CBUQ==
X-Gm-Message-State: AOJu0YyQI5ayzvkClEKWa6V7szuSDqg60xNSOs1M9owlbTHoqf6g0V+z
 twor9UR+KKrZg05KcdmPmPFf0j9ugengZ+yPpZ+Q6XCh3bRP/bvzc/6q6z4YzOP1vHPpgS8Hedo
 84iFLkhBPyzGU8sZt9aw7Nu/+nVv2CRQvFSZqeXXh0dDVVyGf3apw5/4k
X-Google-Smtp-Source: AGHT+IGKEYbG2Ps4qzcLBQKIP1V9SYZ+Rpg5Fu+/uFs7zg88Spl9L4KkcFFJegF8/Mz/yfcra0K9oy3zNoG5
X-Received: by 2002:a05:6871:80b:b0:22e:85ae:cac4 with SMTP id
 q11-20020a056871080b00b0022e85aecac4mr923161oap.1.1712186867861; 
 Wed, 03 Apr 2024 16:27:47 -0700 (PDT)
Received: from postal.iol.unh.edu (postal.iol.unh.edu.
 [2606:4100:3880:1234::84]) by smtp-relay.gmail.com with ESMTPS id
 zf37-20020a0568716aa500b00220ba95201csm440756oab.22.2024.04.03.16.27.47
 (version=TLS1_2 cipher=ECDHE-ECDSA-AES128-GCM-SHA256 bits=128/128);
 Wed, 03 Apr 2024 16:27:47 -0700 (PDT)
X-Relaying-Domain: iol.unh.edu
Date: Wed, 03 Apr 2024 16:27:47 -0700 (PDT)
Message-ID: <660de5f3.050a0220.142ff.7927SMTPIN_ADDED_MISSING@mx.google.com>
Received: from [172.21.0.6] (unknown [172.18.0.240])
 by postal.iol.unh.edu (Postfix) with ESMTP id 563D66052471;
 Wed,  3 Apr 2024 19:27:47 -0400 (EDT)
Subject: |SUCCESS| pw139091-139092 [PATCH] [v2,2/2] test: add functional test
From: dpdklab@iol.unh.edu
To: Test Report <test-report@dpdk.org>
Cc: dpdk-test-reports@iol.unh.edu
In-Reply-To: <20240403221319.499014-3-stephen@networkplumber.org>
References: <20240403221319.499014-3-stephen@networkplumber.org>
Content-Type: text/plain
X-BeenThere: test-report@dpdk.org
X-Mailman-Version: 2.1.29
Precedence: list
List-Id: automatic DPDK test reports <test-report.dpdk.org>
List-Unsubscribe: <https://mails.dpdk.org/options/test-report>,
 <mailto:test-report-request@dpdk.org?subject=unsubscribe>
List-Archive: <http://mails.dpdk.org/archives/test-report/>
List-Post: <mailto:test-report@dpdk.org>
List-Help: <mailto:test-report-request@dpdk.org?subject=help>
List-Subscribe: <https://mails.dpdk.org/listinfo/test-report>,
 <mailto:test-report-request@dpdk.org?subject=subscribe>
Errors-To: test-report-bounces@dpdk.org

Test-Label: iol-abi-testing
Test-Status: SUCCESS
http://dpdk.org/patch/139092

_Testing PASS_

Submitter: Stephen Hemminger <stephen@networkplumber.org>
Date: Wednesday, April 03 2024 22:11:08 
DPDK git baseline: Repo:dpdk
  Branch: master
  CommitID:e2e546ab5bf5e024986ccb5310ab43982f3bb40c

139091-139092 --> testing pass

Test environment and result as below:

+------------------+----------+
|   Environment    | abi_test |
+==================+==========+
| Fedora 38        | PASS     |
+------------------+----------+
| Fedora 39        | PASS     |
+------------------+----------+
| openSUSE Leap 15 | PASS     |
+------------------+----------+
| Debian Bullseye  | PASS     |
+------------------+----------+
| CentOS Stream 8  | PASS     |
+------------------+----------+
| Ubuntu 22.04     | PASS     |
+------------------+----------+
| RHEL8            | PASS     |
+------------------+----------+
| CentOS Stream 9  | PASS     |
+------------------+----------+
| Debian 12        | PASS     |
+------------------+----------+
| Fedora 37        | PASS     |
+------------------+----------+


Fedora 38
	Kernel: Depends on container host
	Compiler: clang 16.0.6

Fedora 39
	Kernel: Depends on container host
	Compiler: clang 17.0.6

openSUSE Leap 15
	Kernel: 5.4.0-167-generic
	Compiler: gcc 7.5.0

Debian Bullseye
	Kernel: 5.4.0-167-generic
	Compiler: gcc 10.2.1-6

CentOS Stream 8
	Kernel: 5.4.0-167-generic
	Compiler: gcc 8.5.0 20210514

Ubuntu 22.04
	Kernel: 5.4.0-167-generic
	Compiler: gcc 11.4.0

RHEL8
	Kernel: 5.4.0-167-generic
	Compiler: gcc 8.5.0 20210514 (Red Hat 8.5.0-20)

CentOS Stream 9
	Kernel: 5.4.0-167-generic
	Compiler: gcc 11.4.1 20230605

Debian 12
	Kernel: Container Host Kernel
	Compiler: gcc 10.2.1

Fedora 37
	Kernel: Depends on container host system
	Compiler: gcc 12.3.1

To view detailed results, visit:
https://lab.dpdk.org/results/dashboard/patchsets/29710/

UNH-IOL DPDK Community Lab

To manage your email subscriptions, visit: 
https://lab.dpdk.org/results/dashboard/preferences/subscriptions/