From mboxrd@z Thu Jan  1 00:00:00 1970
Return-Path: <test-report-bounces@dpdk.org>
Received: from mails.dpdk.org (mails.dpdk.org [217.70.189.124])
	by inbox.dpdk.org (Postfix) with ESMTP id 9469943DF2
	for <public@inbox.dpdk.org>; Thu,  4 Apr 2024 03:18:45 +0200 (CEST)
Received: from mails.dpdk.org (localhost [127.0.0.1])
	by mails.dpdk.org (Postfix) with ESMTP id 90B14402D4;
	Thu,  4 Apr 2024 03:18:45 +0200 (CEST)
Received: from mail-ua1-f97.google.com (mail-ua1-f97.google.com
 [209.85.222.97]) by mails.dpdk.org (Postfix) with ESMTP id 550F94029B
 for <test-report@dpdk.org>; Thu,  4 Apr 2024 03:18:44 +0200 (CEST)
Received: by mail-ua1-f97.google.com with SMTP id
 a1e0cc1a2514c-7e36fa66672so158966241.2
 for <test-report@dpdk.org>; Wed, 03 Apr 2024 18:18:44 -0700 (PDT)
DKIM-Signature: v=1; a=rsa-sha256; c=relaxed/relaxed;
 d=iol.unh.edu; s=unh-iol; t=1712193523; x=1712798323; darn=dpdk.org;
 h=references:in-reply-to:cc:to:from:subject:message-id:date:from:to
 :cc:subject:date:message-id:reply-to;
 bh=uY/0tXiveWfguymlcSORoV2b8PibZScOsS/Ks16Z7YE=;
 b=g/woiiB9Gj/UKVmiS/icI7GjtLT2QGRgIO+j4/FCSSz6uYkQG/iDA3z/75dL3EKlKR
 u1Lk/EHlCLRcy1rX5bm2k7tpc/yjDYontQ7aGCKn8NwctkYZJVHwm1PInup2WX4uQgO1
 4aeJZfZJSeC+o/nH4oAL0lwPCz2bhVmx0PSCo=
X-Google-DKIM-Signature: v=1; a=rsa-sha256; c=relaxed/relaxed;
 d=1e100.net; s=20230601; t=1712193523; x=1712798323;
 h=references:in-reply-to:cc:to:from:subject:message-id:date
 :x-gm-message-state:from:to:cc:subject:date:message-id:reply-to;
 bh=uY/0tXiveWfguymlcSORoV2b8PibZScOsS/Ks16Z7YE=;
 b=cnenA2+bi8a2SXELLMpW+DPGwIDc7ygRqNDw4dc0UpNnLnQuW3Ph5UaBCktOe3JcOR
 xbBGt0e5gQx/P1vhk3Ig663Q1EUngqxj2C4jQHh3DyJOkp860nsftsQdZs70kd5/Smhm
 AOGDRO2xE2u5WVagEw4EwzS5l62nMAhTUzYLDrM/YuXlJndJeNXzLmCi4aMuOZof3Iwn
 w02YWCoT/2FZVtivR6TfISRmBFDU1trYP1Oo3aIP2I5AN1yC3jktypkAXu+AeZqEtbl0
 L20rwgbl19dIOQ6edDjcI6NdsIgHUmIzaHKJxGZHK65GtNujVbn8yFSEC7OxygayIc2V
 dTCw==
X-Gm-Message-State: AOJu0Yxdcr9P/WKiua97IZFr31VCekzFW/FhRRuKv9199zXOSTjIr8mG
 PzZbicAfvbXF7L+GMzttGwB9pnfr64uQSaad0wvnep8S6AqpHOPI+Gq4hTPa4ZDSvNXx3rsEGWj
 8tGtD7Qf8qnb1GQgqLwtELpSlyp1bx/cKBWB/B6tQ
X-Google-Smtp-Source: AGHT+IHuIzH1sK5RBc66RzvZQp5Ot+BgSI8AW5F8yQVY7Y3Pdr0+0DThvVg0jkzBevc3cppgg5cQAZO5yOI6
X-Received: by 2002:a05:6122:189a:b0:4c8:8d45:5325 with SMTP id
 bi26-20020a056122189a00b004c88d455325mr790998vkb.7.1712193523798; 
 Wed, 03 Apr 2024 18:18:43 -0700 (PDT)
Received: from postal.iol.unh.edu (postal.iol.unh.edu. [132.177.123.84])
 by smtp-relay.gmail.com with ESMTPS id
 j19-20020a056122219300b004d892c3638esm1045454vkd.13.2024.04.03.18.18.43
 (version=TLS1_2 cipher=ECDHE-ECDSA-AES128-GCM-SHA256 bits=128/128);
 Wed, 03 Apr 2024 18:18:43 -0700 (PDT)
X-Relaying-Domain: iol.unh.edu
Date: Wed, 03 Apr 2024 18:18:43 -0700 (PDT)
Message-ID: <660dfff3.050a0220.89c65.79cdSMTPIN_ADDED_MISSING@mx.google.com>
Received: from [172.21.0.7] (unknown [172.18.0.240])
 by postal.iol.unh.edu (Postfix) with ESMTP id 702AB6052471;
 Wed,  3 Apr 2024 21:18:43 -0400 (EDT)
Subject: |SUCCESS| pw139091-139092 [PATCH] [v2,2/2] test: add functional test
From: dpdklab@iol.unh.edu
To: Test Report <test-report@dpdk.org>
Cc: dpdk-test-reports@iol.unh.edu
In-Reply-To: <20240403221319.499014-3-stephen@networkplumber.org>
References: <20240403221319.499014-3-stephen@networkplumber.org>
Content-Type: text/plain
X-BeenThere: test-report@dpdk.org
X-Mailman-Version: 2.1.29
Precedence: list
List-Id: automatic DPDK test reports <test-report.dpdk.org>
List-Unsubscribe: <https://mails.dpdk.org/options/test-report>,
 <mailto:test-report-request@dpdk.org?subject=unsubscribe>
List-Archive: <http://mails.dpdk.org/archives/test-report/>
List-Post: <mailto:test-report@dpdk.org>
List-Help: <mailto:test-report-request@dpdk.org?subject=help>
List-Subscribe: <https://mails.dpdk.org/listinfo/test-report>,
 <mailto:test-report-request@dpdk.org?subject=subscribe>
Errors-To: test-report-bounces@dpdk.org

Test-Label: iol-compile-arm64-testing
Test-Status: SUCCESS
http://dpdk.org/patch/139092

_Testing PASS_

Submitter: Stephen Hemminger <stephen@networkplumber.org>
Date: Wednesday, April 03 2024 22:11:08 
DPDK git baseline: Repo:dpdk
  Branch: master
  CommitID:e2e546ab5bf5e024986ccb5310ab43982f3bb40c

139091-139092 --> testing pass

Test environment and result as below:

+----------------------------------------+--------------------+
|              Environment               | dpdk_meson_compile |
+========================================+====================+
| Ubuntu 20.04 ARM SVE                   | PASS               |
+----------------------------------------+--------------------+
| Debian 12 with MUSDK                   | PASS               |
+----------------------------------------+--------------------+
| CentOS Stream 9 (ARM)                  | PASS               |
+----------------------------------------+--------------------+
| Ubuntu 20.04 aarch32 GCC Cross Compile | PASS               |
+----------------------------------------+--------------------+
| Ubuntu 20.04 ARM Clang Cross Compile   | PASS               |
+----------------------------------------+--------------------+
| Ubuntu 20.04 ARM GCC Cross Compile     | PASS               |
+----------------------------------------+--------------------+
| Fedora 39 (ARM Clang)                  | PASS               |
+----------------------------------------+--------------------+
| Fedora 37 (ARM)                        | PASS               |
+----------------------------------------+--------------------+
| Fedora 38 (ARM)                        | PASS               |
+----------------------------------------+--------------------+
| Fedora 39 (ARM)                        | PASS               |
+----------------------------------------+--------------------+
| Debian 11 (Buster) (ARM)               | PASS               |
+----------------------------------------+--------------------+
| Debian 12 (arm)                        | PASS               |
+----------------------------------------+--------------------+


Ubuntu 20.04 ARM SVE
	Kernel: 5.4.0-167-generic
	Compiler: gcc (Ubuntu 10.5.0-1ubuntu1~20.04) 10.5.0

Debian 12 with MUSDK
	Kernel: Container Host Kernel
	Compiler: gcc 12.2.0

CentOS Stream 9 (ARM)
	Kernel: Container Host Kernel
	Compiler: gcc 11.4.1

Ubuntu 20.04 aarch32 GCC Cross Compile
	Kernel: 5.4.0-167-generic
	Compiler: gcc 9.4.0

Ubuntu 20.04 ARM Clang Cross Compile
	Kernel: 5.4.0-72-generic
	Compiler: clang 10.0.0-4ubuntu1

Ubuntu 20.04 ARM GCC Cross Compile
	Kernel: 5.4.0-167-generic
	Compiler: aarch64-linux-gnu-gcc (Ubuntu 9.4.0-1ubuntu1~20.04.2) 9.4.0

Fedora 39 (ARM Clang)
	Kernel: Depends on container host
	Compiler: clang 17.0.6

Fedora 37 (ARM)
	Kernel: Depends on container host
	Compiler: gcc 12.3.1

Fedora 38 (ARM)
	Kernel: Depends on container host
	Compiler: gcc 13.2.1

Fedora 39 (ARM)
	Kernel: Depends on container host
	Compiler: gcc 13.2.1

Debian 11 (Buster) (ARM)
	Kernel: Container Host Kernel
	Compiler: gcc 10.2.1

Debian 12 (arm)
	Kernel: Container Host Kernel
	Compiler: gcc 12.2.0

To view detailed results, visit:
https://lab.dpdk.org/results/dashboard/patchsets/29710/

UNH-IOL DPDK Community Lab

To manage your email subscriptions, visit: 
https://lab.dpdk.org/results/dashboard/preferences/subscriptions/