From mboxrd@z Thu Jan  1 00:00:00 1970
Return-Path: <test-report-bounces@dpdk.org>
Received: from mails.dpdk.org (mails.dpdk.org [217.70.189.124])
	by inbox.dpdk.org (Postfix) with ESMTP id 769ED43DFF
	for <public@inbox.dpdk.org>; Thu,  4 Apr 2024 21:57:46 +0200 (CEST)
Received: from mails.dpdk.org (localhost [127.0.0.1])
	by mails.dpdk.org (Postfix) with ESMTP id 72D3D4064A;
	Thu,  4 Apr 2024 21:57:46 +0200 (CEST)
Received: from mail-oa1-f100.google.com (mail-oa1-f100.google.com
 [209.85.160.100])
 by mails.dpdk.org (Postfix) with ESMTP id 626E9402BF
 for <test-report@dpdk.org>; Thu,  4 Apr 2024 21:57:45 +0200 (CEST)
Received: by mail-oa1-f100.google.com with SMTP id
 586e51a60fabf-22ecd83f1f2so104750fac.1
 for <test-report@dpdk.org>; Thu, 04 Apr 2024 12:57:45 -0700 (PDT)
DKIM-Signature: v=1; a=rsa-sha256; c=relaxed/relaxed;
 d=iol.unh.edu; s=unh-iol; t=1712260664; x=1712865464; darn=dpdk.org;
 h=references:in-reply-to:cc:to:from:subject:message-id:date:from:to
 :cc:subject:date:message-id:reply-to;
 bh=eNsCH0lZ97UAci4wdGc+pfp1ibEGkz2oMQZ6mRBHya8=;
 b=V9JabtSbSEF8w1LRdLBiacpJmJuzDR4waV1ztvsIkm66rpDJdXUJCL4Je7QgJB5MGO
 Nak1ZKG1fPW0NNo4dEbeRjZpi9NB0/HhH8Y9r4ASC4xOYfTkM6fDBiypOZywwgL9+zFK
 RwR2Wb/AePijvjeyedHYewPJidOtnzj8J6eGs=
X-Google-DKIM-Signature: v=1; a=rsa-sha256; c=relaxed/relaxed;
 d=1e100.net; s=20230601; t=1712260664; x=1712865464;
 h=references:in-reply-to:cc:to:from:subject:message-id:date
 :x-gm-message-state:from:to:cc:subject:date:message-id:reply-to;
 bh=eNsCH0lZ97UAci4wdGc+pfp1ibEGkz2oMQZ6mRBHya8=;
 b=ZiUQoP2vL7Un52ltc+RQ7ZxPnTbtXTDXNtzlzxCGVxDHCD4lhTKjWhtKOJTCQkvjY4
 tRKSjkwF0H5F+0ON38UL63iaZHxkHKEFgNPpq3nwF6HA4tlXIaPNctezyWosR7Uz3j8t
 UpIbsKKEkR31DuRolOrniRbSP2HbCqRFBW3f11jTyCI8XoAkktUde2twdsZe8tlnj03B
 eaGNNBYHPvZzno8v6ySEZJrs8sbxt2LWvdxjdMvpps3Q1TdJ4d2WmKhZ6YWiUNoGmBp+
 vfVAJo22W4k+bAM2j6bcP4IzCAGyYuW3w7Pi1mlnPujmwoEvN59wqrrlQYDmtY18wrZk
 t2fw==
X-Gm-Message-State: AOJu0YzhTD8SyxOWn73izdLvdcgT6B6VFPdxjbNmITm39EaM80PdZilY
 cs9iSFzgww0YV0LBVHklA9dix1kjNr5O+a/KGYWGw8/B6idymqsu/qa/gAAA8At3BiD07QRl7oE
 pHFyKYh0XmZ92dvhA+D5qOnS1ZaKYMyn5/aGHphzMpCqvnf8HXEXwSDcX
X-Google-Smtp-Source: AGHT+IEpPtp518q1p75AOjo+OIGHXrzLUpW3/CgTANMXjQEYscm5xhbifNnTbwRHatdtNUR69WCgx98b9+lb
X-Received: by 2002:a05:6870:e388:b0:22e:b77e:1fa9 with SMTP id
 x8-20020a056870e38800b0022eb77e1fa9mr3111529oad.23.1712260664775; 
 Thu, 04 Apr 2024 12:57:44 -0700 (PDT)
Received: from postal.iol.unh.edu (postal.iol.unh.edu.
 [2606:4100:3880:1234::84]) by smtp-relay.gmail.com with ESMTPS id
 zc17-20020a056871271100b0022243177f54sm465207oab.36.2024.04.04.12.57.44
 (version=TLS1_2 cipher=ECDHE-ECDSA-AES128-GCM-SHA256 bits=128/128);
 Thu, 04 Apr 2024 12:57:44 -0700 (PDT)
X-Relaying-Domain: iol.unh.edu
Date: Thu, 04 Apr 2024 12:57:44 -0700 (PDT)
Message-ID: <660f0638.050a0220.e619b.9334SMTPIN_ADDED_MISSING@mx.google.com>
Received: from [172.21.0.6] (unknown [172.18.0.240])
 by postal.iol.unh.edu (Postfix) with ESMTP id 45E476052471;
 Thu,  4 Apr 2024 15:57:44 -0400 (EDT)
Subject: |SUCCESS| pw139107-139110 [PATCH] [v11,4/4] cryptodev: remove rte ma
From: dpdklab@iol.unh.edu
To: Test Report <test-report@dpdk.org>
Cc: dpdk-test-reports@iol.unh.edu
In-Reply-To: <1712253115-8755-5-git-send-email-roretzla@linux.microsoft.com>
References: <1712253115-8755-5-git-send-email-roretzla@linux.microsoft.com>
Content-Type: text/plain
X-BeenThere: test-report@dpdk.org
X-Mailman-Version: 2.1.29
Precedence: list
List-Id: automatic DPDK test reports <test-report.dpdk.org>
List-Unsubscribe: <https://mails.dpdk.org/options/test-report>,
 <mailto:test-report-request@dpdk.org?subject=unsubscribe>
List-Archive: <http://mails.dpdk.org/archives/test-report/>
List-Post: <mailto:test-report@dpdk.org>
List-Help: <mailto:test-report-request@dpdk.org?subject=help>
List-Subscribe: <https://mails.dpdk.org/listinfo/test-report>,
 <mailto:test-report-request@dpdk.org?subject=subscribe>
Errors-To: test-report-bounces@dpdk.org

Test-Label: iol-compile-arm64-testing
Test-Status: SUCCESS
http://dpdk.org/patch/139110

_Testing PASS_

Submitter: Tyler Retzlaff <roretzla@linux.microsoft.com>
Date: Thursday, April 04 2024 17:51:55 
DPDK git baseline: Repo:dpdk
  Branch: master
  CommitID:e2e546ab5bf5e024986ccb5310ab43982f3bb40c

139107-139110 --> testing pass

Test environment and result as below:

+----------------------------------------+--------------------+
|              Environment               | dpdk_meson_compile |
+========================================+====================+
| Ubuntu 20.04 ARM SVE                   | PASS               |
+----------------------------------------+--------------------+
| Debian 12 with MUSDK                   | PASS               |
+----------------------------------------+--------------------+
| Debian 11 (Buster) (ARM)               | PASS               |
+----------------------------------------+--------------------+
| Debian 12 (arm)                        | PASS               |
+----------------------------------------+--------------------+
| Ubuntu 20.04 aarch32 GCC Cross Compile | PASS               |
+----------------------------------------+--------------------+
| Ubuntu 20.04 ARM Clang Cross Compile   | PASS               |
+----------------------------------------+--------------------+
| CentOS Stream 9 (ARM)                  | PASS               |
+----------------------------------------+--------------------+
| Ubuntu 20.04 ARM GCC Cross Compile     | PASS               |
+----------------------------------------+--------------------+


Ubuntu 20.04 ARM SVE
	Kernel: 5.4.0-167-generic
	Compiler: gcc (Ubuntu 10.5.0-1ubuntu1~20.04) 10.5.0

Debian 12 with MUSDK
	Kernel: Container Host Kernel
	Compiler: gcc 12.2.0

Debian 11 (Buster) (ARM)
	Kernel: Container Host Kernel
	Compiler: gcc 10.2.1

Debian 12 (arm)
	Kernel: Container Host Kernel
	Compiler: gcc 12.2.0

Ubuntu 20.04 aarch32 GCC Cross Compile
	Kernel: 5.4.0-167-generic
	Compiler: gcc 9.4.0

Ubuntu 20.04 ARM Clang Cross Compile
	Kernel: 5.4.0-72-generic
	Compiler: clang 10.0.0-4ubuntu1

CentOS Stream 9 (ARM)
	Kernel: Container Host Kernel
	Compiler: gcc 11.4.1

Ubuntu 20.04 ARM GCC Cross Compile
	Kernel: 5.4.0-167-generic
	Compiler: aarch64-linux-gnu-gcc (Ubuntu 9.4.0-1ubuntu1~20.04.2) 9.4.0

To view detailed results, visit:
https://lab.dpdk.org/results/dashboard/patchsets/29717/

UNH-IOL DPDK Community Lab

To manage your email subscriptions, visit: 
https://lab.dpdk.org/results/dashboard/preferences/subscriptions/