From mboxrd@z Thu Jan  1 00:00:00 1970
Return-Path: <test-report-bounces@dpdk.org>
Received: from mails.dpdk.org (mails.dpdk.org [217.70.189.124])
	by inbox.dpdk.org (Postfix) with ESMTP id 40CA643E00
	for <public@inbox.dpdk.org>; Thu,  4 Apr 2024 22:00:22 +0200 (CEST)
Received: from mails.dpdk.org (localhost [127.0.0.1])
	by mails.dpdk.org (Postfix) with ESMTP id 3B4EA4064A;
	Thu,  4 Apr 2024 22:00:22 +0200 (CEST)
Received: from mail-il1-f227.google.com (mail-il1-f227.google.com
 [209.85.166.227])
 by mails.dpdk.org (Postfix) with ESMTP id BB5D3402BF
 for <test-report@dpdk.org>; Thu,  4 Apr 2024 22:00:21 +0200 (CEST)
Received: by mail-il1-f227.google.com with SMTP id
 e9e14a558f8ab-368a360bb1aso8253885ab.0
 for <test-report@dpdk.org>; Thu, 04 Apr 2024 13:00:21 -0700 (PDT)
DKIM-Signature: v=1; a=rsa-sha256; c=relaxed/relaxed;
 d=iol.unh.edu; s=unh-iol; t=1712260821; x=1712865621; darn=dpdk.org;
 h=references:in-reply-to:cc:to:from:subject:message-id:date:from:to
 :cc:subject:date:message-id:reply-to;
 bh=0/DpkmYXhF8k1awhvi/62k3aK3lxU4XbK3CncF56uXo=;
 b=S51aZoJrqdZsZoKRWKHb+2WbI6UzV6/MXuA4RlP5QVYBqqSiVQ2Ts5S9hbavNVwUxF
 uvlp3uO/pZOC9gXu2eIMdLGGuojBREJikDCSJqAJHz3DsRuNvd8NJy2RCsySqgRectpj
 9VfsTln2SwVxHN3pVh6KMN6Vqb3nJpzmF38/k=
X-Google-DKIM-Signature: v=1; a=rsa-sha256; c=relaxed/relaxed;
 d=1e100.net; s=20230601; t=1712260821; x=1712865621;
 h=references:in-reply-to:cc:to:from:subject:message-id:date
 :x-gm-message-state:from:to:cc:subject:date:message-id:reply-to;
 bh=0/DpkmYXhF8k1awhvi/62k3aK3lxU4XbK3CncF56uXo=;
 b=rvVr0iOWqETgK2sgmNsxZiJAx4G4ofCvZcNwDs2HKxobanK1OTZ/OM8CB9iO7hSWCS
 bJV23Q33zHEhCoTDsYovXnGZP2wmObdd3bgWFDRA/THR7Ff2r7HXxC35WRnd3cRAlAsW
 W9BVU3WQFIrTG1nWqjnbpPOhh1fTJ44d89hHdZadOS55wPl/tgnD4VrQt2/xJjAImJY8
 +QGXSPWfhX+Z6srdDszRFiF1obU5VW7mUEtZrpc3s8/I5o/1mmZJuCSVKi6r91kzhcAr
 5JWymQJQqZIhxQKuoR26BYVqJlFDEBgOpA6bC9mYParYC3Cc0543QHmwTcc+P+R4i0PI
 fNSg==
X-Gm-Message-State: AOJu0YyOsGs3AXJdUNe7/gemY9tQVsOO3y51yGO+K/V6qv9eWAoa+K/H
 HlD2eA7ee/8F4mdqHdEDASgugOHlmu9sqo/fudbCwZSDAyGStvbCNWm51UJhSJqsFWNTSz9yGU7
 x97ZGBBjMGd+kYyAiz2jCWdjENEz+Ldndhj4H3HSrRSKWTjGiwtrBFTHB
X-Google-Smtp-Source: AGHT+IHoRHYLa9ZEmWPzQDqFsPBwXx6BHAs2rSnoJ14byGp6wt+i88nUylVkZl/Wr7cT18QQhEnIT1Zh4npi
X-Received: by 2002:a05:6e02:3690:b0:365:cd40:c1e7 with SMTP id
 cj16-20020a056e02369000b00365cd40c1e7mr516287ilb.11.1712260821087; 
 Thu, 04 Apr 2024 13:00:21 -0700 (PDT)
Received: from postal.iol.unh.edu (postal.iol.unh.edu.
 [2606:4100:3880:1234::84]) by smtp-relay.gmail.com with ESMTPS id
 r16-20020a056638131000b0047f999ce073sm9012jad.56.2024.04.04.13.00.20
 (version=TLS1_2 cipher=ECDHE-ECDSA-AES128-GCM-SHA256 bits=128/128);
 Thu, 04 Apr 2024 13:00:21 -0700 (PDT)
X-Relaying-Domain: iol.unh.edu
Date: Thu, 04 Apr 2024 13:00:21 -0700 (PDT)
Message-ID: <660f06d5.050a0220.88be1.0759SMTPIN_ADDED_MISSING@mx.google.com>
Received: from [172.21.0.6] (unknown [172.18.0.240])
 by postal.iol.unh.edu (Postfix) with ESMTP id 7A2616052471;
 Thu,  4 Apr 2024 16:00:20 -0400 (EDT)
Subject: |SUCCESS| pw139107-139110 [PATCH] [v11,4/4] cryptodev: remove rte ma
From: dpdklab@iol.unh.edu
To: Test Report <test-report@dpdk.org>
Cc: dpdk-test-reports@iol.unh.edu
In-Reply-To: <1712253115-8755-5-git-send-email-roretzla@linux.microsoft.com>
References: <1712253115-8755-5-git-send-email-roretzla@linux.microsoft.com>
Content-Type: text/plain
X-BeenThere: test-report@dpdk.org
X-Mailman-Version: 2.1.29
Precedence: list
List-Id: automatic DPDK test reports <test-report.dpdk.org>
List-Unsubscribe: <https://mails.dpdk.org/options/test-report>,
 <mailto:test-report-request@dpdk.org?subject=unsubscribe>
List-Archive: <http://mails.dpdk.org/archives/test-report/>
List-Post: <mailto:test-report@dpdk.org>
List-Help: <mailto:test-report-request@dpdk.org?subject=help>
List-Subscribe: <https://mails.dpdk.org/listinfo/test-report>,
 <mailto:test-report-request@dpdk.org?subject=subscribe>
Errors-To: test-report-bounces@dpdk.org

Test-Label: iol-compile-arm64-testing
Test-Status: SUCCESS
http://dpdk.org/patch/139110

_Testing PASS_

Submitter: Tyler Retzlaff <roretzla@linux.microsoft.com>
Date: Thursday, April 04 2024 17:51:55 
DPDK git baseline: Repo:dpdk
  Branch: master
  CommitID:e2e546ab5bf5e024986ccb5310ab43982f3bb40c

139107-139110 --> testing pass

Test environment and result as below:

+----------------------------------------+--------------------+
|              Environment               | dpdk_meson_compile |
+========================================+====================+
| Ubuntu 20.04 ARM SVE                   | PASS               |
+----------------------------------------+--------------------+
| Debian 12 with MUSDK                   | PASS               |
+----------------------------------------+--------------------+
| Debian 11 (Buster) (ARM)               | PASS               |
+----------------------------------------+--------------------+
| Debian 12 (arm)                        | PASS               |
+----------------------------------------+--------------------+
| Ubuntu 20.04 aarch32 GCC Cross Compile | PASS               |
+----------------------------------------+--------------------+
| Ubuntu 20.04 ARM Clang Cross Compile   | PASS               |
+----------------------------------------+--------------------+
| CentOS Stream 9 (ARM)                  | PASS               |
+----------------------------------------+--------------------+
| Ubuntu 20.04 ARM GCC Cross Compile     | PASS               |
+----------------------------------------+--------------------+
| Fedora 38 (ARM Clang)                  | PASS               |
+----------------------------------------+--------------------+


Ubuntu 20.04 ARM SVE
	Kernel: 5.4.0-167-generic
	Compiler: gcc (Ubuntu 10.5.0-1ubuntu1~20.04) 10.5.0

Debian 12 with MUSDK
	Kernel: Container Host Kernel
	Compiler: gcc 12.2.0

Debian 11 (Buster) (ARM)
	Kernel: Container Host Kernel
	Compiler: gcc 10.2.1

Debian 12 (arm)
	Kernel: Container Host Kernel
	Compiler: gcc 12.2.0

Ubuntu 20.04 aarch32 GCC Cross Compile
	Kernel: 5.4.0-167-generic
	Compiler: gcc 9.4.0

Ubuntu 20.04 ARM Clang Cross Compile
	Kernel: 5.4.0-72-generic
	Compiler: clang 10.0.0-4ubuntu1

CentOS Stream 9 (ARM)
	Kernel: Container Host Kernel
	Compiler: gcc 11.4.1

Ubuntu 20.04 ARM GCC Cross Compile
	Kernel: 5.4.0-167-generic
	Compiler: aarch64-linux-gnu-gcc (Ubuntu 9.4.0-1ubuntu1~20.04.2) 9.4.0

Fedora 38 (ARM Clang)
	Kernel: Depends on container host
	Compiler: clang 16.0.6

To view detailed results, visit:
https://lab.dpdk.org/results/dashboard/patchsets/29717/

UNH-IOL DPDK Community Lab

To manage your email subscriptions, visit: 
https://lab.dpdk.org/results/dashboard/preferences/subscriptions/