From: dpdklab@iol.unh.edu
To: Test Report <test-report@dpdk.org>
Cc: dpdk-test-reports@iol.unh.edu
Subject: |SUCCESS| pw139184 [PATCH] config/arm: add Ampere AmpereOneX platfor
Date: Mon, 08 Apr 2024 06:17:52 -0700 (PDT) [thread overview]
Message-ID: <6613ee80.050a0220.a930a.089dSMTPIN_ADDED_MISSING@mx.google.com> (raw)
In-Reply-To: <20240407063604.79303-1-jiangyutang@os.amperecomputing.com>
Test-Label: iol-compile-arm64-testing
Test-Status: SUCCESS
http://dpdk.org/patch/139184
_Testing PASS_
Submitter: Yutang Jiang <jiangyutang@os.amperecomputing.com>
Date: Sunday, April 07 2024 06:36:04
DPDK git baseline: Repo:dpdk
Branch: master
CommitID:e2e546ab5bf5e024986ccb5310ab43982f3bb40c
139184 --> testing pass
Test environment and result as below:
+------------------------------------+--------------------+
| Environment | dpdk_meson_compile |
+====================================+====================+
| Ubuntu 20.04 ARM SVE | PASS |
+------------------------------------+--------------------+
| Debian 12 with MUSDK | PASS |
+------------------------------------+--------------------+
| Ubuntu 20.04 (ARM) | PASS |
+------------------------------------+--------------------+
| Fedora 37 (ARM) | PASS |
+------------------------------------+--------------------+
| Debian 12 (arm) | PASS |
+------------------------------------+--------------------+
| Fedora 38 (ARM) | PASS |
+------------------------------------+--------------------+
| Fedora 39 (ARM) | PASS |
+------------------------------------+--------------------+
| Ubuntu 20.04 ARM GCC Cross Compile | PASS |
+------------------------------------+--------------------+
| Debian 11 (Buster) (ARM) | PASS |
+------------------------------------+--------------------+
| CentOS Stream 9 (ARM) | PASS |
+------------------------------------+--------------------+
Ubuntu 20.04 ARM SVE
Kernel: 5.4.0-167-generic
Compiler: gcc (Ubuntu 10.5.0-1ubuntu1~20.04) 10.5.0
Debian 12 with MUSDK
Kernel: Container Host Kernel
Compiler: gcc 12.2.0
Ubuntu 20.04 (ARM)
Kernel: Container Host Kernel
Compiler: gcc 9.4.0
Fedora 37 (ARM)
Kernel: Depends on container host
Compiler: gcc 12.3.1
Debian 12 (arm)
Kernel: Container Host Kernel
Compiler: gcc 12.2.0
Fedora 38 (ARM)
Kernel: Depends on container host
Compiler: gcc 13.2.1
Fedora 39 (ARM)
Kernel: Depends on container host
Compiler: gcc 13.2.1
Ubuntu 20.04 ARM GCC Cross Compile
Kernel: 5.4.0-167-generic
Compiler: aarch64-linux-gnu-gcc (Ubuntu 9.4.0-1ubuntu1~20.04.2) 9.4.0
Debian 11 (Buster) (ARM)
Kernel: Container Host Kernel
Compiler: gcc 10.2.1
CentOS Stream 9 (ARM)
Kernel: Container Host Kernel
Compiler: gcc 11.4.1
To view detailed results, visit:
https://lab.dpdk.org/results/dashboard/patchsets/29738/
UNH-IOL DPDK Community Lab
To manage your email subscriptions, visit:
https://lab.dpdk.org/results/dashboard/preferences/subscriptions/
next prev parent reply other threads:[~2024-04-08 13:17 UTC|newest]
Thread overview: 86+ messages / expand[flat|nested] mbox.gz Atom feed top
[not found] <20240407063604.79303-1-jiangyutang@os.amperecomputing.com>
2024-04-08 8:06 ` |SUCCESS| pw139184 [PATCH] config/arm: add Ampere AmpereOneX platform qemudev
2024-04-08 8:10 ` qemudev
2024-04-08 8:29 ` |WARNING| " checkpatch
2024-04-08 13:11 ` |SUCCESS| pw139184 [PATCH] config/arm: add Ampere AmpereOneX platfor dpdklab
2024-04-08 13:12 ` dpdklab
2024-04-08 13:12 ` dpdklab
2024-04-08 13:12 ` dpdklab
2024-04-08 13:12 ` dpdklab
2024-04-08 13:12 ` dpdklab
2024-04-08 13:13 ` dpdklab
2024-04-08 13:13 ` dpdklab
2024-04-08 13:13 ` dpdklab
2024-04-08 13:13 ` dpdklab
2024-04-08 13:13 ` dpdklab
2024-04-08 13:14 ` dpdklab
2024-04-08 13:14 ` dpdklab
2024-04-08 13:14 ` dpdklab
2024-04-08 13:15 ` dpdklab
2024-04-08 13:15 ` dpdklab
2024-04-08 13:15 ` dpdklab
2024-04-08 13:16 ` dpdklab
2024-04-08 13:16 ` dpdklab
2024-04-08 13:16 ` dpdklab
2024-04-08 13:16 ` dpdklab
2024-04-08 13:17 ` dpdklab
2024-04-08 13:17 ` dpdklab
2024-04-08 13:17 ` dpdklab
2024-04-08 13:17 ` dpdklab
2024-04-08 13:17 ` dpdklab [this message]
2024-04-08 13:18 ` dpdklab
2024-04-08 13:18 ` dpdklab
2024-04-08 13:18 ` dpdklab
2024-04-08 13:18 ` dpdklab
2024-04-08 13:19 ` dpdklab
2024-04-08 13:19 ` dpdklab
2024-04-08 13:19 ` dpdklab
2024-04-08 13:20 ` dpdklab
2024-04-08 13:20 ` dpdklab
2024-04-08 13:20 ` dpdklab
2024-04-08 13:21 ` dpdklab
2024-04-08 13:21 ` dpdklab
2024-04-08 13:22 ` dpdklab
2024-04-08 13:22 ` dpdklab
2024-04-08 13:23 ` dpdklab
2024-04-08 13:23 ` dpdklab
2024-04-08 13:24 ` dpdklab
2024-04-08 13:24 ` dpdklab
2024-04-08 13:24 ` dpdklab
2024-04-08 13:25 ` dpdklab
2024-04-08 13:25 ` dpdklab
2024-04-08 13:25 ` dpdklab
2024-04-08 13:26 ` dpdklab
2024-04-08 13:26 ` dpdklab
2024-04-08 13:27 ` dpdklab
2024-04-08 13:27 ` dpdklab
2024-04-08 13:27 ` dpdklab
2024-04-08 13:27 ` dpdklab
2024-04-08 13:28 ` dpdklab
2024-04-08 13:28 ` dpdklab
2024-04-08 13:28 ` dpdklab
2024-04-08 13:29 ` dpdklab
2024-04-08 13:29 ` dpdklab
2024-04-08 13:29 ` dpdklab
2024-04-08 13:30 ` dpdklab
2024-04-08 13:30 ` dpdklab
2024-04-08 13:31 ` dpdklab
2024-04-08 13:32 ` dpdklab
2024-04-08 13:32 ` dpdklab
2024-04-08 13:32 ` dpdklab
2024-04-08 13:32 ` dpdklab
2024-04-08 13:33 ` dpdklab
2024-04-08 13:34 ` dpdklab
2024-04-08 13:35 ` dpdklab
2024-04-08 13:37 ` dpdklab
2024-04-08 13:38 ` dpdklab
2024-04-08 13:38 ` dpdklab
2024-04-08 13:39 ` dpdklab
2024-04-08 13:41 ` dpdklab
2024-04-08 13:43 ` dpdklab
2024-04-08 13:47 ` dpdklab
2024-04-08 13:54 ` dpdklab
2024-04-08 14:07 ` dpdklab
2024-04-08 14:07 ` dpdklab
2024-04-08 14:09 ` dpdklab
2024-04-08 14:24 ` dpdklab
2024-04-08 15:52 ` dpdklab
Reply instructions:
You may reply publicly to this message via plain-text email
using any one of the following methods:
* Save the following mbox file, import it into your mail client,
and reply-to-all from there: mbox
Avoid top-posting and favor interleaved quoting:
https://en.wikipedia.org/wiki/Posting_style#Interleaved_style
* Reply using the --to, --cc, and --in-reply-to
switches of git-send-email(1):
git send-email \
--in-reply-to=6613ee80.050a0220.a930a.089dSMTPIN_ADDED_MISSING@mx.google.com \
--to=dpdklab@iol.unh.edu \
--cc=dpdk-test-reports@iol.unh.edu \
--cc=test-report@dpdk.org \
/path/to/YOUR_REPLY
https://kernel.org/pub/software/scm/git/docs/git-send-email.html
* If your mail client supports setting the In-Reply-To header
via mailto: links, try the mailto: link
Be sure your reply has a Subject: header at the top and a blank line
before the message body.
This is a public inbox, see mirroring instructions
for how to clone and mirror all data and code used for this inbox;
as well as URLs for NNTP newsgroup(s).