From mboxrd@z Thu Jan  1 00:00:00 1970
Return-Path: <test-report-bounces@dpdk.org>
Received: from mails.dpdk.org (mails.dpdk.org [217.70.189.124])
	by inbox.dpdk.org (Postfix) with ESMTP id 88C7443E26
	for <public@inbox.dpdk.org>; Tue,  9 Apr 2024 11:47:47 +0200 (CEST)
Received: from mails.dpdk.org (localhost [127.0.0.1])
	by mails.dpdk.org (Postfix) with ESMTP id 745F8402C0;
	Tue,  9 Apr 2024 11:47:47 +0200 (CEST)
Received: from mail-qk1-f228.google.com (mail-qk1-f228.google.com
 [209.85.222.228])
 by mails.dpdk.org (Postfix) with ESMTP id 3D047402B9
 for <test-report@dpdk.org>; Tue,  9 Apr 2024 11:47:45 +0200 (CEST)
Received: by mail-qk1-f228.google.com with SMTP id
 af79cd13be357-78d543db3a4so198497085a.0
 for <test-report@dpdk.org>; Tue, 09 Apr 2024 02:47:45 -0700 (PDT)
DKIM-Signature: v=1; a=rsa-sha256; c=relaxed/relaxed;
 d=iol.unh.edu; s=unh-iol; t=1712656065; x=1713260865; darn=dpdk.org;
 h=references:in-reply-to:cc:to:from:subject:message-id:date:from:to
 :cc:subject:date:message-id:reply-to;
 bh=tJwt5mCbiHBDFNQ9InaHCAch4aUh9Oc6Bn3PhcB23vE=;
 b=SQZqx2lLlDZ7obVw4eQGHJ6ZsYDedQMMXYepkvLzO+OeHBsFd3xRWedqgAnnwuMazB
 Hq6DrQjUJzCYiTzx/X+ltQOyal89xNI6aHSys1hokLtUcsDoGn+TASOU4/gvSqEW3IOR
 EpyDvY1YmKm1t360ZnNi9VoHoancHaFzp/g10=
X-Google-DKIM-Signature: v=1; a=rsa-sha256; c=relaxed/relaxed;
 d=1e100.net; s=20230601; t=1712656065; x=1713260865;
 h=references:in-reply-to:cc:to:from:subject:message-id:date
 :x-gm-message-state:from:to:cc:subject:date:message-id:reply-to;
 bh=tJwt5mCbiHBDFNQ9InaHCAch4aUh9Oc6Bn3PhcB23vE=;
 b=jcG8la1xfFOYQAeGPTc/Ld2Nhq0JUFxj8LlLoAaOCHL+sKmmB2eWXm2lc07KiU65Uu
 UwcviKeJYC5huDeF4gjbH6iPgJneJsDuu0+ea2P7R2WvqlEUTxpSJc4xtX0w6FhT/jFg
 /JXthgXaItX8eyeNmgkuJ9bIZhQwefUrWY9xkf33aJprb3UphfW2ZuYrL2sKwdAH6588
 1OcqB9PrhRQdK/5CdcTWBcX8jzMZc9aiy214sZk34Toez1yE53fYXLc3R7cNZkGfXY5z
 hzy89HRAM+f9FkxTQ8sRCAEm2bHQsFoNDVkuCZTbyq+cUuo1/8pt375udn9kHRSXzSJP
 88kQ==
X-Gm-Message-State: AOJu0YxjryjhSc/jO4S5zuf2WLz1A0xVec+SRPnb4hAtqYO94X48wrmF
 MU7TMg2ZglCRB4ObB+uijTL2ZhMiSoQdszpFbzOo6XGxuJ5/sgkY8kI+mM4cxoPnnSqyjP4IU//
 2pB9mhak5zoh1K+nzn64HHN3Nq5Ck8mQSCc3ZR5o9q3zf068TkpMc0jCT
X-Google-Smtp-Source: AGHT+IGNROcMt/u7aKBAUR8j043zqucmRZRaZ9MtuSK57SLRO7IPhAOlfAZ/GDpuSW6rbgJjiRHdimQEuPq/
X-Received: by 2002:a05:6214:29ce:b0:699:2863:e461 with SMTP id
 gh14-20020a05621429ce00b006992863e461mr12503103qvb.1.1712656064766; 
 Tue, 09 Apr 2024 02:47:44 -0700 (PDT)
Received: from postal.iol.unh.edu (postal.iol.unh.edu.
 [2606:4100:3880:1234::84]) by smtp-relay.gmail.com with ESMTPS id
 z16-20020a0cfed0000000b006992ca206d5sm561771qvs.27.2024.04.09.02.47.44
 (version=TLS1_2 cipher=ECDHE-ECDSA-AES128-GCM-SHA256 bits=128/128);
 Tue, 09 Apr 2024 02:47:44 -0700 (PDT)
X-Relaying-Domain: iol.unh.edu
Date: Tue, 09 Apr 2024 02:47:44 -0700 (PDT)
Message-ID: <66150ec0.0c0a0220.cef9.7f5fSMTPIN_ADDED_MISSING@mx.google.com>
Received: from [172.17.0.2] (unknown [172.18.0.217])
 by postal.iol.unh.edu (Postfix) with ESMTP id 71B1A6052514;
 Tue,  9 Apr 2024 05:47:44 -0400 (EDT)
Subject: |SUCCESS| pw139209-139208 [PATCH] [v2,2/2] net/ngbe: add vectorized 
From: dpdklab@iol.unh.edu
To: Test Report <test-report@dpdk.org>
Cc: dpdk-test-reports@iol.unh.edu
In-Reply-To: <20240409063135.21780-3-jiawenwu@trustnetic.com>
References: <20240409063135.21780-3-jiawenwu@trustnetic.com>
Content-Type: text/plain
X-BeenThere: test-report@dpdk.org
X-Mailman-Version: 2.1.29
Precedence: list
List-Id: automatic DPDK test reports <test-report.dpdk.org>
List-Unsubscribe: <https://mails.dpdk.org/options/test-report>,
 <mailto:test-report-request@dpdk.org?subject=unsubscribe>
List-Archive: <http://mails.dpdk.org/archives/test-report/>
List-Post: <mailto:test-report@dpdk.org>
List-Help: <mailto:test-report-request@dpdk.org?subject=help>
List-Subscribe: <https://mails.dpdk.org/listinfo/test-report>,
 <mailto:test-report-request@dpdk.org?subject=subscribe>
Errors-To: test-report-bounces@dpdk.org

Test-Label: iol-unit-amd64-testing
Test-Status: SUCCESS
http://dpdk.org/patch/139208

_Testing PASS_

Submitter: Jiawen Wu <jiawenwu@trustnetic.com>
Date: Tuesday, April 09 2024 06:31:35 
DPDK git baseline: Repo:dpdk
  Branch: master
  CommitID:e2e546ab5bf5e024986ccb5310ab43982f3bb40c

139209-139208 --> testing pass

Test environment and result as below:

+-----------------+----------------+
|   Environment   | dpdk_unit_test |
+=================+================+
| CentOS Stream 8 | PASS           |
+-----------------+----------------+
| CentOS Stream 9 | PASS           |
+-----------------+----------------+
| Fedora 37       | PASS           |
+-----------------+----------------+
| Fedora 38       | PASS           |
+-----------------+----------------+
| Fedora 39       | PASS           |
+-----------------+----------------+
| Debian Bullseye | PASS           |
+-----------------+----------------+
| Debian 12       | PASS           |
+-----------------+----------------+
| RHEL8           | PASS           |
+-----------------+----------------+
| Ubuntu 20.04    | PASS           |
+-----------------+----------------+


CentOS Stream 8
	Kernel: 5.4.0-167-generic
	Compiler: gcc 8.5.0 20210514

CentOS Stream 9
	Kernel: 5.4.0-167-generic
	Compiler: gcc 11.4.1 20230605

Fedora 37
	Kernel: Depends on container host system
	Compiler: gcc 12.3.1

Fedora 38
	Kernel: Depends on container host
	Compiler: gcc 13.2.1

Fedora 39
	Kernel: Depends on container host
	Compiler: gcc 13.2.1

Debian Bullseye
	Kernel: 5.4.0-167-generic
	Compiler: gcc 10.2.1-6

Debian 12
	Kernel: Container Host Kernel
	Compiler: gcc 10.2.1

RHEL8
	Kernel: 5.4.0-167-generic
	Compiler: gcc 8.5.0 20210514 (Red Hat 8.5.0-20)

Ubuntu 20.04
	Kernel: 5.4.0-167-generic
	Compiler: gcc 9.4.0-1ubuntu1~20.04.1

To view detailed results, visit:
https://lab.dpdk.org/results/dashboard/patchsets/29746/

UNH-IOL DPDK Community Lab

To manage your email subscriptions, visit: 
https://lab.dpdk.org/results/dashboard/preferences/subscriptions/