From: dpdklab@iol.unh.edu
To: Test Report <test-report@dpdk.org>
Cc: dpdk-test-reports@iol.unh.edu
Subject: |SUCCESS| pw139429 [PATCH] hash: cast away atomic qualification
Date: Tue, 16 Apr 2024 14:48:02 -0700 (PDT) [thread overview]
Message-ID: <661ef212.050a0220.c05c7.a730SMTPIN_ADDED_MISSING@mx.google.com> (raw)
In-Reply-To: <1713283609-32101-1-git-send-email-roretzla@linux.microsoft.com>
Test-Label: iol-unit-arm64-testing
Test-Status: SUCCESS
http://dpdk.org/patch/139429
_Testing PASS_
Submitter: Tyler Retzlaff <roretzla@linux.microsoft.com>
Date: Tuesday, April 16 2024 16:06:49
DPDK git baseline: Repo:dpdk
Branch: master
CommitID:e2e546ab5bf5e024986ccb5310ab43982f3bb40c
139429 --> testing pass
Test environment and result as below:
+-----------------------------+------------------------------+---------------------------+----------------+--------------+
| Environment | cryptodev_sw_snow3g_autotest | cryptodev_sw_zuc_autotest | dpdk_unit_test | lpm_autotest |
+=============================+==============================+===========================+================+==============+
| Debian 12 (arm) | PASS | PASS | PASS | SKIPPED |
+-----------------------------+------------------------------+---------------------------+----------------+--------------+
| CentOS Stream 9 (ARM) | SKIPPED | SKIPPED | PASS | SKIPPED |
+-----------------------------+------------------------------+---------------------------+----------------+--------------+
| Fedora 37 (ARM) | SKIPPED | SKIPPED | PASS | SKIPPED |
+-----------------------------+------------------------------+---------------------------+----------------+--------------+
| Debian 11 (Buster) (ARM) | SKIPPED | SKIPPED | PASS | SKIPPED |
+-----------------------------+------------------------------+---------------------------+----------------+--------------+
| 32-bit Ubuntu 20.04.4 (ARM) | SKIPPED | SKIPPED | PASS | SKIPPED |
+-----------------------------+------------------------------+---------------------------+----------------+--------------+
| Fedora 39 (ARM Clang) | SKIPPED | SKIPPED | PASS | SKIPPED |
+-----------------------------+------------------------------+---------------------------+----------------+--------------+
| Fedora 39 (ARM) | SKIPPED | SKIPPED | PASS | SKIPPED |
+-----------------------------+------------------------------+---------------------------+----------------+--------------+
| Fedora 38 (ARM) | SKIPPED | SKIPPED | PASS | SKIPPED |
+-----------------------------+------------------------------+---------------------------+----------------+--------------+
| Ubuntu 20.04 (ARM) | SKIPPED | SKIPPED | PASS | SKIPPED |
+-----------------------------+------------------------------+---------------------------+----------------+--------------+
| Fedora 38 (ARM Clang) | SKIPPED | SKIPPED | PASS | SKIPPED |
+-----------------------------+------------------------------+---------------------------+----------------+--------------+
| Ubuntu 20.04 ARM SVE | SKIPPED | SKIPPED | SKIPPED | PASS |
+-----------------------------+------------------------------+---------------------------+----------------+--------------+
Debian 12 (arm)
Kernel: Container Host Kernel
Compiler: gcc 12.2.0
CentOS Stream 9 (ARM)
Kernel: Container Host Kernel
Compiler: gcc 11.4.1
Fedora 37 (ARM)
Kernel: Depends on container host
Compiler: gcc 12.3.1
Debian 11 (Buster) (ARM)
Kernel: Container Host Kernel
Compiler: gcc 10.2.1
32-bit Ubuntu 20.04.4 (ARM)
Kernel: 5.4.0-155-generic aarch64
Compiler: gcc 9.4
Fedora 39 (ARM Clang)
Kernel: Depends on container host
Compiler: clang 17.0.6
Fedora 39 (ARM)
Kernel: Depends on container host
Compiler: gcc 13.2.1
Fedora 38 (ARM)
Kernel: Depends on container host
Compiler: gcc 13.2.1
Ubuntu 20.04 (ARM)
Kernel: Container Host Kernel
Compiler: gcc 9.4.0
Fedora 38 (ARM Clang)
Kernel: Depends on container host
Compiler: clang 16.0.6
Ubuntu 20.04 ARM SVE
Kernel: 5.4.0-167-generic
Compiler: gcc (Ubuntu 10.5.0-1ubuntu1~20.04) 10.5.0
To view detailed results, visit:
https://lab.dpdk.org/results/dashboard/patchsets/29795/
UNH-IOL DPDK Community Lab
To manage your email subscriptions, visit:
https://lab.dpdk.org/results/dashboard/preferences/subscriptions/
next prev parent reply other threads:[~2024-04-16 21:48 UTC|newest]
Thread overview: 87+ messages / expand[flat|nested] mbox.gz Atom feed top
[not found] <1713283609-32101-1-git-send-email-roretzla@linux.microsoft.com>
2024-04-16 15:43 ` qemudev
2024-04-16 15:47 ` qemudev
2024-04-16 16:07 ` checkpatch
2024-04-16 17:05 ` 0-day Robot
2024-04-16 20:12 ` dpdklab
2024-04-16 20:12 ` dpdklab
2024-04-16 20:13 ` dpdklab
2024-04-16 20:13 ` dpdklab
2024-04-16 20:14 ` dpdklab
2024-04-16 20:17 ` dpdklab
2024-04-16 20:17 ` dpdklab
2024-04-16 20:19 ` dpdklab
2024-04-16 20:20 ` dpdklab
2024-04-16 20:20 ` dpdklab
2024-04-16 20:22 ` dpdklab
2024-04-16 20:26 ` dpdklab
2024-04-16 20:40 ` dpdklab
2024-04-16 20:43 ` dpdklab
2024-04-16 20:43 ` dpdklab
2024-04-16 20:43 ` dpdklab
2024-04-16 20:45 ` dpdklab
2024-04-16 20:47 ` dpdklab
2024-04-16 21:19 ` dpdklab
2024-04-16 21:21 ` dpdklab
2024-04-16 21:22 ` dpdklab
2024-04-16 21:25 ` dpdklab
2024-04-16 21:26 ` dpdklab
2024-04-16 21:26 ` dpdklab
2024-04-16 21:27 ` dpdklab
2024-04-16 21:27 ` dpdklab
2024-04-16 21:28 ` dpdklab
2024-04-16 21:29 ` dpdklab
2024-04-16 21:30 ` dpdklab
2024-04-16 21:31 ` dpdklab
2024-04-16 21:32 ` dpdklab
2024-04-16 21:32 ` dpdklab
2024-04-16 21:32 ` dpdklab
2024-04-16 21:33 ` dpdklab
2024-04-16 21:33 ` dpdklab
2024-04-16 21:35 ` dpdklab
2024-04-16 21:35 ` dpdklab
2024-04-16 21:35 ` dpdklab
2024-04-16 21:36 ` dpdklab
2024-04-16 21:36 ` dpdklab
2024-04-16 21:36 ` dpdklab
2024-04-16 21:37 ` dpdklab
2024-04-16 21:38 ` dpdklab
2024-04-16 21:38 ` dpdklab
2024-04-16 21:38 ` dpdklab
2024-04-16 21:39 ` dpdklab
2024-04-16 21:39 ` dpdklab
2024-04-16 21:39 ` dpdklab
2024-04-16 21:39 ` dpdklab
2024-04-16 21:39 ` dpdklab
2024-04-16 21:40 ` dpdklab
2024-04-16 21:40 ` dpdklab
2024-04-16 21:40 ` dpdklab
2024-04-16 21:41 ` dpdklab
2024-04-16 21:41 ` dpdklab
2024-04-16 21:41 ` dpdklab
2024-04-16 21:42 ` dpdklab
2024-04-16 21:42 ` dpdklab
2024-04-16 21:42 ` dpdklab
2024-04-16 21:43 ` dpdklab
2024-04-16 21:43 ` dpdklab
2024-04-16 21:44 ` dpdklab
2024-04-16 21:44 ` dpdklab
2024-04-16 21:44 ` dpdklab
2024-04-16 21:45 ` dpdklab
2024-04-16 21:45 ` dpdklab
2024-04-16 21:46 ` dpdklab
2024-04-16 21:46 ` dpdklab
2024-04-16 21:48 ` dpdklab [this message]
2024-04-16 21:48 ` dpdklab
2024-04-16 21:50 ` dpdklab
2024-04-16 21:51 ` dpdklab
2024-04-16 22:03 ` dpdklab
2024-04-16 22:04 ` dpdklab
2024-04-16 22:08 ` dpdklab
2024-04-16 22:12 ` dpdklab
2024-04-16 22:15 ` dpdklab
2024-04-16 22:16 ` dpdklab
2024-04-16 22:33 ` dpdklab
2024-04-16 22:35 ` dpdklab
2024-04-16 22:51 ` dpdklab
2024-04-16 23:27 ` dpdklab
2024-04-16 23:52 ` dpdklab
Reply instructions:
You may reply publicly to this message via plain-text email
using any one of the following methods:
* Save the following mbox file, import it into your mail client,
and reply-to-all from there: mbox
Avoid top-posting and favor interleaved quoting:
https://en.wikipedia.org/wiki/Posting_style#Interleaved_style
* Reply using the --to, --cc, and --in-reply-to
switches of git-send-email(1):
git send-email \
--in-reply-to=661ef212.050a0220.c05c7.a730SMTPIN_ADDED_MISSING@mx.google.com \
--to=dpdklab@iol.unh.edu \
--cc=dpdk-test-reports@iol.unh.edu \
--cc=test-report@dpdk.org \
/path/to/YOUR_REPLY
https://kernel.org/pub/software/scm/git/docs/git-send-email.html
* If your mail client supports setting the In-Reply-To header
via mailto: links, try the mailto: link
Be sure your reply has a Subject: header at the top and a blank line
before the message body.
This is a public inbox, see mirroring instructions
for how to clone and mirror all data and code used for this inbox;
as well as URLs for NNTP newsgroup(s).