From mboxrd@z Thu Jan  1 00:00:00 1970
Return-Path: <test-report-bounces@dpdk.org>
Received: from mails.dpdk.org (mails.dpdk.org [217.70.189.124])
	by inbox.dpdk.org (Postfix) with ESMTP id E148243EAF
	for <public@inbox.dpdk.org>; Fri, 19 Apr 2024 13:26:00 +0200 (CEST)
Received: from mails.dpdk.org (localhost [127.0.0.1])
	by mails.dpdk.org (Postfix) with ESMTP id DD16F402DF;
	Fri, 19 Apr 2024 13:26:00 +0200 (CEST)
Received: from mail-yw1-f228.google.com (mail-yw1-f228.google.com
 [209.85.128.228])
 by mails.dpdk.org (Postfix) with ESMTP id 921D7402D0
 for <test-report@dpdk.org>; Fri, 19 Apr 2024 13:25:59 +0200 (CEST)
Received: by mail-yw1-f228.google.com with SMTP id
 00721157ae682-61ae4743d36so21748927b3.2
 for <test-report@dpdk.org>; Fri, 19 Apr 2024 04:25:59 -0700 (PDT)
DKIM-Signature: v=1; a=rsa-sha256; c=relaxed/relaxed;
 d=iol.unh.edu; s=unh-iol; t=1713525959; x=1714130759; darn=dpdk.org;
 h=references:in-reply-to:cc:to:from:subject:message-id:date:from:to
 :cc:subject:date:message-id:reply-to;
 bh=/EaPMbhq/qSHVx44i+vxwoBHvEEwuGdI+cMi5VhWKFI=;
 b=MhUu93zaHJjOGqV2SumNC9sfkFkDFXdjXYgjfnIYex0gfSQBnJ2rfeclFWN1tSMYMD
 TLOiQXLsE6mmeaq+7hVXrD0Pv4GZu03aYNdW1m7Q/RcPt3Bblv6QRUjsfwwXVseiXLj0
 rx+5TdOHK7sx6j+LmZYHIE3mqQKw8yjVCRU8g=
X-Google-DKIM-Signature: v=1; a=rsa-sha256; c=relaxed/relaxed;
 d=1e100.net; s=20230601; t=1713525959; x=1714130759;
 h=references:in-reply-to:cc:to:from:subject:message-id:date
 :x-gm-message-state:from:to:cc:subject:date:message-id:reply-to;
 bh=/EaPMbhq/qSHVx44i+vxwoBHvEEwuGdI+cMi5VhWKFI=;
 b=venQJEW6z0THWP+wZc9ckeVCCfaw25DqlgJIWGa6/zeDgMhkhRloM+U0wCks7GYql2
 xugj1/cI0/KJwaIR51VztEQ/0RC5KIsG7S+ppk1GapSqtE5KDrroiWpBC0ckneQNuymX
 hwY51/7AE7m+Zk7WNoQTTiJRsIoDjinHwMT9Fp4tixOoqR9jsiIk9xPWigh7a6Mw4Io1
 ymun+G/lQitVKn0GjcwerRjYnat/lv3j2UQve19ZESVcnCjAh1mR2vmYFheF/VhVVF2g
 +GXePx04d4NIzPW4h+5tohV2h38qRLsxnK/lGn+nU2bwZF3uLwEcrGILinJCV9ScG159
 sWZA==
X-Gm-Message-State: AOJu0Yy/OmjwPt8KciaXoDJZOsMliVheLhM8YPgez+DZfzX6R8Hzcny/
 Q804/84Nq554JNE8QLkBPC7fUCXKYJD0YGbyJc5Fx5jiBjzoHI5Iw+EfxNuX3EpYKGqqDjg3T2S
 jvedB9ZPIAg9ssjlprhQ6x0IG3dozsP2HmP5iUMV1YLPty6Fjt52AIY1L
X-Google-Smtp-Source: AGHT+IFQTVFBfiCLD8+tIs8x786ELxFsNhdCf1ejBxXgXZhKX3p60q5yL0191LDdOqoadVz/vGipIK4jZS9o
X-Received: by 2002:a05:690c:3701:b0:61b:33b7:9e11 with SMTP id
 fv1-20020a05690c370100b0061b33b79e11mr1331796ywb.9.1713525959020; 
 Fri, 19 Apr 2024 04:25:59 -0700 (PDT)
Received: from postal.iol.unh.edu (postal.iol.unh.edu.
 [2606:4100:3880:1234::84]) by smtp-relay.gmail.com with ESMTPS id
 bh6-20020a05690c038600b006169099da56sm137499ywb.49.2024.04.19.04.25.58
 (version=TLS1_2 cipher=ECDHE-ECDSA-AES128-GCM-SHA256 bits=128/128);
 Fri, 19 Apr 2024 04:25:59 -0700 (PDT)
X-Relaying-Domain: iol.unh.edu
Date: Fri, 19 Apr 2024 04:25:59 -0700 (PDT)
Message-ID: <662254c7.050a0220.498ec.5896SMTPIN_ADDED_MISSING@mx.google.com>
Received: from [172.21.0.10] (unknown [172.18.0.240])
 by postal.iol.unh.edu (Postfix) with ESMTP id A458A6052514;
 Fri, 19 Apr 2024 07:25:58 -0400 (EDT)
Subject: |SUCCESS| pw139534-139540 [PATCH] [v3,7/7] dma/odm: add remaining op
From: dpdklab@iol.unh.edu
To: Test Report <test-report@dpdk.org>
Cc: dpdk-test-reports@iol.unh.edu
In-Reply-To: <20240419064319.149-8-anoobj@marvell.com>
References: <20240419064319.149-8-anoobj@marvell.com>
Content-Type: text/plain
X-BeenThere: test-report@dpdk.org
X-Mailman-Version: 2.1.29
Precedence: list
List-Id: automatic DPDK test reports <test-report.dpdk.org>
List-Unsubscribe: <https://mails.dpdk.org/options/test-report>,
 <mailto:test-report-request@dpdk.org?subject=unsubscribe>
List-Archive: <http://mails.dpdk.org/archives/test-report/>
List-Post: <mailto:test-report@dpdk.org>
List-Help: <mailto:test-report-request@dpdk.org?subject=help>
List-Subscribe: <https://mails.dpdk.org/listinfo/test-report>,
 <mailto:test-report-request@dpdk.org?subject=subscribe>
Errors-To: test-report-bounces@dpdk.org

Test-Label: iol-compile-arm64-testing
Test-Status: SUCCESS
http://dpdk.org/patch/139540

_Testing PASS_

Submitter: Anoob Joseph <anoobj@marvell.com>
Date: Friday, April 19 2024 06:43:19 
DPDK git baseline: Repo:dpdk
  Branch: master
  CommitID:e2e546ab5bf5e024986ccb5310ab43982f3bb40c

139534-139540 --> testing pass

Test environment and result as below:

+--------------------------+--------------------+
|       Environment        | dpdk_meson_compile |
+==========================+====================+
| Ubuntu 20.04 ARM SVE     | PASS               |
+--------------------------+--------------------+
| Debian 12 with MUSDK     | PASS               |
+--------------------------+--------------------+
| Fedora 38 (ARM)          | PASS               |
+--------------------------+--------------------+
| Fedora 39 (ARM)          | PASS               |
+--------------------------+--------------------+
| Fedora 37 (ARM)          | PASS               |
+--------------------------+--------------------+
| Ubuntu 20.04 (ARM)       | PASS               |
+--------------------------+--------------------+
| Debian 11 (Buster) (ARM) | PASS               |
+--------------------------+--------------------+
| CentOS Stream 9 (ARM)    | PASS               |
+--------------------------+--------------------+
| Debian 12 (arm)          | PASS               |
+--------------------------+--------------------+


Ubuntu 20.04 ARM SVE
	Kernel: 5.4.0-167-generic
	Compiler: gcc (Ubuntu 10.5.0-1ubuntu1~20.04) 10.5.0

Debian 12 with MUSDK
	Kernel: Container Host Kernel
	Compiler: gcc 12.2.0

Fedora 38 (ARM)
	Kernel: Depends on container host
	Compiler: gcc 13.2.1

Fedora 39 (ARM)
	Kernel: Depends on container host
	Compiler: gcc 13.2.1

Fedora 37 (ARM)
	Kernel: Depends on container host
	Compiler: gcc 12.3.1

Ubuntu 20.04 (ARM)
	Kernel: Container Host Kernel
	Compiler: gcc 9.4.0

Debian 11 (Buster) (ARM)
	Kernel: Container Host Kernel
	Compiler: gcc 10.2.1

CentOS Stream 9 (ARM)
	Kernel: Container Host Kernel
	Compiler: gcc 11.4.1

Debian 12 (arm)
	Kernel: Container Host Kernel
	Compiler: gcc 12.2.0

To view detailed results, visit:
https://lab.dpdk.org/results/dashboard/patchsets/29825/

UNH-IOL DPDK Community Lab

To manage your email subscriptions, visit: 
https://lab.dpdk.org/results/dashboard/preferences/subscriptions/