From mboxrd@z Thu Jan  1 00:00:00 1970
Return-Path: <test-report-bounces@dpdk.org>
Received: from mails.dpdk.org (mails.dpdk.org [217.70.189.124])
	by inbox.dpdk.org (Postfix) with ESMTP id 9D8C143EAF
	for <public@inbox.dpdk.org>; Fri, 19 Apr 2024 13:47:09 +0200 (CEST)
Received: from mails.dpdk.org (localhost [127.0.0.1])
	by mails.dpdk.org (Postfix) with ESMTP id 98D7140EE6;
	Fri, 19 Apr 2024 13:47:09 +0200 (CEST)
Received: from mail-qv1-f99.google.com (mail-qv1-f99.google.com
 [209.85.219.99]) by mails.dpdk.org (Postfix) with ESMTP id BA51E402F2
 for <test-report@dpdk.org>; Fri, 19 Apr 2024 13:47:00 +0200 (CEST)
Received: by mail-qv1-f99.google.com with SMTP id
 6a1803df08f44-69b6c2e9ed9so7178426d6.1
 for <test-report@dpdk.org>; Fri, 19 Apr 2024 04:47:00 -0700 (PDT)
DKIM-Signature: v=1; a=rsa-sha256; c=relaxed/relaxed;
 d=iol.unh.edu; s=unh-iol; t=1713527220; x=1714132020; darn=dpdk.org;
 h=references:in-reply-to:cc:to:from:subject:message-id:date:from:to
 :cc:subject:date:message-id:reply-to;
 bh=PJygbDUDQ1PGGRH3IFPe/o0b4TNYUny6gUgdzfq491M=;
 b=YiZ1YdkC0XjCt+JCyxSwPuGJtBFbNmglZSgELpw7FUJs8PT5koFPQhH3VDBc94wxz2
 Z4l5nxPoLgf1RJX6mpnD3SlqW/zI784njg7Qyt/JXgZGw26Yd6ItlfMfMv1bReSTWST0
 9nyyBpDws2Kz7Q2sxStkQyByB7wntgCEvX8Wk=
X-Google-DKIM-Signature: v=1; a=rsa-sha256; c=relaxed/relaxed;
 d=1e100.net; s=20230601; t=1713527220; x=1714132020;
 h=references:in-reply-to:cc:to:from:subject:message-id:date
 :x-gm-message-state:from:to:cc:subject:date:message-id:reply-to;
 bh=PJygbDUDQ1PGGRH3IFPe/o0b4TNYUny6gUgdzfq491M=;
 b=OHZ4ZJcV+Z8HiMUBKmf+oV9/7z5N8UkJF+jZ1JUPXjKwKWiIIJu8ciDjcpXhf+acJi
 b0iPY0J+kbaMPT2CFCq/7qxrufiAlgDfeGEfBm2F5E/3M7orUsnTyS5+810TlsHhgHvM
 ikMuprX3dPpF5XbnmdsnBT5F8gJbvkvB5OVpIFgTREfA7MMAq9wyaig4bZYJm9ubGMIG
 SnXcS3elMbgX82N57cyfpAAkvgccuIktGJlhRpxciNFXM4OVIGwsATF0tGjzUAtRXqKE
 f6Y4WUO6q/qNPM+1xvLOGABMrv3c1gHa82P3f/Y9wO53LAXx2gpI/Pa48wf9u29QGMrg
 go6g==
X-Gm-Message-State: AOJu0YyiaqoSXXrQKWZcbiiVFW3SwP6Namhzm2z293m6AHCjuVug3Mku
 UOYDd9Aea4s48CYsRL0FSHLoJPH/0Wv1fddNjkEOakFHhCr0po9O/j5g0/vyrahbk4xXS/OqM95
 HK7tqrvNQG8Foq/QOgvY6BXZ04T1/cZFK7u6/IjEGpqMRWvZ9NYHHoW23
X-Google-Smtp-Source: AGHT+IGatT3yn+NbNmfqfSlcHLuV1yZFUCiXHfwe3CFeVH8tS4/E1mLPSSIsP1qJ70PVjSmL+DkTeJ69fhNg
X-Received: by 2002:a0c:da82:0:b0:69b:7acd:2b94 with SMTP id
 z2-20020a0cda82000000b0069b7acd2b94mr2099593qvj.0.1713527220272; 
 Fri, 19 Apr 2024 04:47:00 -0700 (PDT)
Received: from postal.iol.unh.edu (postal.iol.unh.edu.
 [2606:4100:3880:1234::84]) by smtp-relay.gmail.com with ESMTPS id
 z18-20020a056214041200b0069df2466a3fsm231603qvx.24.2024.04.19.04.47.00
 (version=TLS1_2 cipher=ECDHE-ECDSA-AES128-GCM-SHA256 bits=128/128);
 Fri, 19 Apr 2024 04:47:00 -0700 (PDT)
X-Relaying-Domain: iol.unh.edu
Date: Fri, 19 Apr 2024 04:47:00 -0700 (PDT)
Message-ID: <662259b4.050a0220.de6c8.ca1cSMTPIN_ADDED_MISSING@mx.google.com>
Received: from [172.17.0.5] (unknown [172.18.0.214])
 by postal.iol.unh.edu (Postfix) with ESMTP id F298C6052514;
 Fri, 19 Apr 2024 07:46:59 -0400 (EDT)
Subject: |SUCCESS| pw139534-139540 [PATCH] [v3,7/7] dma/odm: add remaining op
From: dpdklab@iol.unh.edu
To: Test Report <test-report@dpdk.org>
Cc: dpdk-test-reports@iol.unh.edu
In-Reply-To: <20240419064319.149-8-anoobj@marvell.com>
References: <20240419064319.149-8-anoobj@marvell.com>
Content-Type: text/plain
X-BeenThere: test-report@dpdk.org
X-Mailman-Version: 2.1.29
Precedence: list
List-Id: automatic DPDK test reports <test-report.dpdk.org>
List-Unsubscribe: <https://mails.dpdk.org/options/test-report>,
 <mailto:test-report-request@dpdk.org?subject=unsubscribe>
List-Archive: <http://mails.dpdk.org/archives/test-report/>
List-Post: <mailto:test-report@dpdk.org>
List-Help: <mailto:test-report-request@dpdk.org?subject=help>
List-Subscribe: <https://mails.dpdk.org/listinfo/test-report>,
 <mailto:test-report-request@dpdk.org?subject=subscribe>
Errors-To: test-report-bounces@dpdk.org

Test-Label: iol-compile-amd64-testing
Test-Status: SUCCESS
http://dpdk.org/patch/139540

_Testing PASS_

Submitter: Anoob Joseph <anoobj@marvell.com>
Date: Friday, April 19 2024 06:43:19 
DPDK git baseline: Repo:dpdk
  Branch: master
  CommitID:e2e546ab5bf5e024986ccb5310ab43982f3bb40c

139534-139540 --> testing pass

Test environment and result as below:

+---------------------+--------------------+----------------------+
|     Environment     | dpdk_meson_compile | dpdk_mingw64_compile |
+=====================+====================+======================+
| Windows Server 2019 | PASS               | PASS                 |
+---------------------+--------------------+----------------------+
| Windows Server 2022 | PASS               | PASS                 |
+---------------------+--------------------+----------------------+
| FreeBSD 13.2        | PASS               | SKIPPED              |
+---------------------+--------------------+----------------------+
| CentOS Stream 9     | PASS               | SKIPPED              |
+---------------------+--------------------+----------------------+
| Debian Bullseye     | PASS               | SKIPPED              |
+---------------------+--------------------+----------------------+
| Fedora 37           | PASS               | SKIPPED              |
+---------------------+--------------------+----------------------+
| CentOS Stream 8     | PASS               | SKIPPED              |
+---------------------+--------------------+----------------------+
| Ubuntu 20.04        | PASS               | SKIPPED              |
+---------------------+--------------------+----------------------+
| Fedora 39           | PASS               | SKIPPED              |
+---------------------+--------------------+----------------------+
| Debian 12           | PASS               | SKIPPED              |
+---------------------+--------------------+----------------------+
| Fedora 38           | PASS               | SKIPPED              |
+---------------------+--------------------+----------------------+
| RHEL8               | PASS               | SKIPPED              |
+---------------------+--------------------+----------------------+
| openSUSE Leap 15    | PASS               | SKIPPED              |
+---------------------+--------------------+----------------------+
| Ubuntu 22.04        | PASS               | SKIPPED              |
+---------------------+--------------------+----------------------+


Windows Server 2019
	Kernel: 10.0.17763
	Compiler: clang 14.0 and gcc 8.1.0 (MinGW)

Windows Server 2022
	Kernel: 10.0.20348.2031
	Compiler: clang 15.0.7, gcc 8.1.0 (MinGW), and MSVC VS 17.9

FreeBSD 13.2
	Kernel: 13.2
	Compiler: clang 14.0.5

CentOS Stream 9
	Kernel: 5.4.0-167-generic
	Compiler: gcc 11.4.1 20230605

Debian Bullseye
	Kernel: 5.4.0-167-generic
	Compiler: gcc 10.2.1-6

Fedora 37
	Kernel: Depends on container host system
	Compiler: gcc 12.3.1

CentOS Stream 8
	Kernel: 5.4.0-167-generic
	Compiler: gcc 8.5.0 20210514

Ubuntu 20.04
	Kernel: 5.4.0-167-generic
	Compiler: gcc 9.4.0-1ubuntu1~20.04.1

Fedora 39
	Kernel: Depends on container host
	Compiler: gcc 13.2.1

Debian 12
	Kernel: Container Host Kernel
	Compiler: gcc 10.2.1

Fedora 38
	Kernel: Depends on container host
	Compiler: gcc 13.2.1

RHEL8
	Kernel: 5.4.0-167-generic
	Compiler: gcc 8.5.0 20210514 (Red Hat 8.5.0-20)

openSUSE Leap 15
	Kernel: 5.4.0-167-generic
	Compiler: gcc 7.5.0

Ubuntu 22.04
	Kernel: 5.4.0-167-generic
	Compiler: gcc 11.4.0

To view detailed results, visit:
https://lab.dpdk.org/results/dashboard/patchsets/29825/

UNH-IOL DPDK Community Lab

To manage your email subscriptions, visit: 
https://lab.dpdk.org/results/dashboard/preferences/subscriptions/