From mboxrd@z Thu Jan  1 00:00:00 1970
Return-Path: <test-report-bounces@dpdk.org>
Received: from mails.dpdk.org (mails.dpdk.org [217.70.189.124])
	by inbox.dpdk.org (Postfix) with ESMTP id 63D5A43EAF
	for <public@inbox.dpdk.org>; Fri, 19 Apr 2024 13:48:26 +0200 (CEST)
Received: from mails.dpdk.org (localhost [127.0.0.1])
	by mails.dpdk.org (Postfix) with ESMTP id 6026C41101;
	Fri, 19 Apr 2024 13:48:26 +0200 (CEST)
Received: from mail-pj1-f100.google.com (mail-pj1-f100.google.com
 [209.85.216.100])
 by mails.dpdk.org (Postfix) with ESMTP id B3970402D0
 for <test-report@dpdk.org>; Fri, 19 Apr 2024 13:47:59 +0200 (CEST)
Received: by mail-pj1-f100.google.com with SMTP id
 98e67ed59e1d1-2a53b331400so1422058a91.1
 for <test-report@dpdk.org>; Fri, 19 Apr 2024 04:47:59 -0700 (PDT)
DKIM-Signature: v=1; a=rsa-sha256; c=relaxed/relaxed;
 d=iol.unh.edu; s=unh-iol; t=1713527279; x=1714132079; darn=dpdk.org;
 h=references:in-reply-to:cc:to:from:subject:message-id:date:from:to
 :cc:subject:date:message-id:reply-to;
 bh=Ymg4EJ3R3Y0SGxEOvleMHiLE7i9R4SpR5BPHDJEO8Po=;
 b=JalzPRiblfZ37tZQIbm25iMpn6UHPGXAn3v/rCnfRgMIbtH7lgXAGwX+nQNP3QZrN6
 BigHssQokIoh25cr8A9zu8IFwl/5JCTKTyS1dPO+yf4d9zzmKKNI75d1LHwBt7yoXhyq
 5U7Xg/InKRD3WOZPD0fkOyrgeo4x/FyHQ20s8=
X-Google-DKIM-Signature: v=1; a=rsa-sha256; c=relaxed/relaxed;
 d=1e100.net; s=20230601; t=1713527279; x=1714132079;
 h=references:in-reply-to:cc:to:from:subject:message-id:date
 :x-gm-message-state:from:to:cc:subject:date:message-id:reply-to;
 bh=Ymg4EJ3R3Y0SGxEOvleMHiLE7i9R4SpR5BPHDJEO8Po=;
 b=sjD/6vq/vmnoUyvnAgeokjznUG3hG1Z+XYvUG8c9jbPLkidqxFRsZHUsqmhe0GcAGT
 EX/IN3Dv2NFGhIF9Lf3M+kVKE+72jtwOEG9UwkrCqh1rEJQRQbYmSDslniCYmW4QIaIH
 bYL5T0aFysH7jZvess/cz/FxAXdl2GRC71zv5AJ1xHDiZaj8QtOzXqjR3C0tJcbdwDfX
 jU3S5Q3H80c/aFg/XeWuomVqgGt2IhAkxTCLlHY/FwaBQKb4VdQFC6ow2NHOaSMVUABF
 9BwsRfyjCXfXBZPXSNYtrEeZArzq4n6Bpg69fAJxsY+OCBCFrcBpby0dx5u4AxzwlXvt
 D9KA==
X-Gm-Message-State: AOJu0Yx9zFLovdinf4BHCJ49RTawCwpUmDxCPIbkAEjZvURvq3drve0K
 VpXPDUwZxsxWTWOgQhTs84DOSlZVuqwf5rTodT7StE0VSN4Hdex733P9PeQSVOs4c8nB2P05NFM
 OytCppu9PNfWe05Vb46o6Emx7E+ebhtjaL45W0UC0WJnaVGUGZUvvT/2W
X-Google-Smtp-Source: AGHT+IE+hVAPO0CvpFqT95e6DNU6B3GsjpRPEfjOKottwQH6yuj3o6M8wCwjGwpzVx9qpFVfbmSUcZ3PGMRe
X-Received: by 2002:a17:90a:4294:b0:2a0:3dc3:8a8b with SMTP id
 p20-20020a17090a429400b002a03dc38a8bmr1659076pjg.47.1713527278938; 
 Fri, 19 Apr 2024 04:47:58 -0700 (PDT)
Received: from postal.iol.unh.edu (postal.iol.unh.edu.
 [2606:4100:3880:1234::84]) by smtp-relay.gmail.com with ESMTPS id
 d14-20020a17090ab30e00b002aaabda5e9esm377491pjr.0.2024.04.19.04.47.58
 (version=TLS1_2 cipher=ECDHE-ECDSA-AES128-GCM-SHA256 bits=128/128);
 Fri, 19 Apr 2024 04:47:58 -0700 (PDT)
X-Relaying-Domain: iol.unh.edu
Date: Fri, 19 Apr 2024 04:47:58 -0700 (PDT)
Message-ID: <662259ee.170a0220.a0cd8.5934SMTPIN_ADDED_MISSING@mx.google.com>
Received: from [172.17.0.4] (unknown [172.18.0.213])
 by postal.iol.unh.edu (Postfix) with ESMTP id 225EF6052522;
 Fri, 19 Apr 2024 07:47:58 -0400 (EDT)
Subject: |SUCCESS| pw139534-139540 [PATCH] [v3,7/7] dma/odm: add remaining op
From: dpdklab@iol.unh.edu
To: Test Report <test-report@dpdk.org>
Cc: dpdk-test-reports@iol.unh.edu
In-Reply-To: <20240419064319.149-8-anoobj@marvell.com>
References: <20240419064319.149-8-anoobj@marvell.com>
Content-Type: text/plain
X-BeenThere: test-report@dpdk.org
X-Mailman-Version: 2.1.29
Precedence: list
List-Id: automatic DPDK test reports <test-report.dpdk.org>
List-Unsubscribe: <https://mails.dpdk.org/options/test-report>,
 <mailto:test-report-request@dpdk.org?subject=unsubscribe>
List-Archive: <http://mails.dpdk.org/archives/test-report/>
List-Post: <mailto:test-report@dpdk.org>
List-Help: <mailto:test-report-request@dpdk.org?subject=help>
List-Subscribe: <https://mails.dpdk.org/listinfo/test-report>,
 <mailto:test-report-request@dpdk.org?subject=subscribe>
Errors-To: test-report-bounces@dpdk.org

Test-Label: iol-unit-arm64-testing
Test-Status: SUCCESS
http://dpdk.org/patch/139540

_Testing PASS_

Submitter: Anoob Joseph <anoobj@marvell.com>
Date: Friday, April 19 2024 06:43:19 
DPDK git baseline: Repo:dpdk
  Branch: master
  CommitID:e2e546ab5bf5e024986ccb5310ab43982f3bb40c

139534-139540 --> testing pass

Test environment and result as below:

+-----------------------------+---------------------------+------------------------------+----------------+--------------+
|         Environment         | cryptodev_sw_zuc_autotest | cryptodev_sw_snow3g_autotest | dpdk_unit_test | lpm_autotest |
+=============================+===========================+==============================+================+==============+
| Debian 12 (arm)             | PASS                      | PASS                         | PASS           | SKIPPED      |
+-----------------------------+---------------------------+------------------------------+----------------+--------------+
| CentOS Stream 9 (ARM)       | SKIPPED                   | SKIPPED                      | PASS           | SKIPPED      |
+-----------------------------+---------------------------+------------------------------+----------------+--------------+
| Debian 11 (Buster) (ARM)    | SKIPPED                   | SKIPPED                      | PASS           | SKIPPED      |
+-----------------------------+---------------------------+------------------------------+----------------+--------------+
| Fedora 37 (ARM)             | SKIPPED                   | SKIPPED                      | PASS           | SKIPPED      |
+-----------------------------+---------------------------+------------------------------+----------------+--------------+
| Fedora 39 (ARM)             | SKIPPED                   | SKIPPED                      | PASS           | SKIPPED      |
+-----------------------------+---------------------------+------------------------------+----------------+--------------+
| 32-bit Ubuntu 20.04.4 (ARM) | SKIPPED                   | SKIPPED                      | PASS           | SKIPPED      |
+-----------------------------+---------------------------+------------------------------+----------------+--------------+
| Ubuntu 20.04 ARM SVE        | SKIPPED                   | SKIPPED                      | SKIPPED        | PASS         |
+-----------------------------+---------------------------+------------------------------+----------------+--------------+


Debian 12 (arm)
	Kernel: Container Host Kernel
	Compiler: gcc 12.2.0

CentOS Stream 9 (ARM)
	Kernel: Container Host Kernel
	Compiler: gcc 11.4.1

Debian 11 (Buster) (ARM)
	Kernel: Container Host Kernel
	Compiler: gcc 10.2.1

Fedora 37 (ARM)
	Kernel: Depends on container host
	Compiler: gcc 12.3.1

Fedora 39 (ARM)
	Kernel: Depends on container host
	Compiler: gcc 13.2.1

32-bit Ubuntu 20.04.4 (ARM)
	Kernel: 5.4.0-155-generic aarch64
	Compiler: gcc 9.4

Ubuntu 20.04 ARM SVE
	Kernel: 5.4.0-167-generic
	Compiler: gcc (Ubuntu 10.5.0-1ubuntu1~20.04) 10.5.0

To view detailed results, visit:
https://lab.dpdk.org/results/dashboard/patchsets/29825/

UNH-IOL DPDK Community Lab

To manage your email subscriptions, visit: 
https://lab.dpdk.org/results/dashboard/preferences/subscriptions/