From mboxrd@z Thu Jan  1 00:00:00 1970
Return-Path: <test-report-bounces@dpdk.org>
Received: from mails.dpdk.org (mails.dpdk.org [217.70.189.124])
	by inbox.dpdk.org (Postfix) with ESMTP id 95C0E43EB0
	for <public@inbox.dpdk.org>; Fri, 19 Apr 2024 15:29:02 +0200 (CEST)
Received: from mails.dpdk.org (localhost [127.0.0.1])
	by mails.dpdk.org (Postfix) with ESMTP id 91326402DF;
	Fri, 19 Apr 2024 15:29:02 +0200 (CEST)
Received: from mail-yb1-f227.google.com (mail-yb1-f227.google.com
 [209.85.219.227])
 by mails.dpdk.org (Postfix) with ESMTP id E3EDE402D4
 for <test-report@dpdk.org>; Fri, 19 Apr 2024 15:29:00 +0200 (CEST)
Received: by mail-yb1-f227.google.com with SMTP id
 3f1490d57ef6-de480576c3cso1095835276.2
 for <test-report@dpdk.org>; Fri, 19 Apr 2024 06:29:00 -0700 (PDT)
DKIM-Signature: v=1; a=rsa-sha256; c=relaxed/relaxed;
 d=iol.unh.edu; s=unh-iol; t=1713533340; x=1714138140; darn=dpdk.org;
 h=references:in-reply-to:cc:to:from:subject:message-id:date:from:to
 :cc:subject:date:message-id:reply-to;
 bh=jY+QUyMBY/+1M1riit0yzH4gnQsB/NrxhpHKJQxbwHk=;
 b=euPp+usXFjJpG2SWniWRwEWw3XUp3ygbm3RAvENR0Mq6r8sfp6N13haOPgWJ+Gyks5
 8BbWxWrdP72j5GI3chHJ4w48DS325SpLlHaz+l5EjDE/tQgWzphFyRVchHMTF8xFtd9y
 almP3HyO4gHDWFTb+8ylE9l61cXtLuekjKpAY=
X-Google-DKIM-Signature: v=1; a=rsa-sha256; c=relaxed/relaxed;
 d=1e100.net; s=20230601; t=1713533340; x=1714138140;
 h=references:in-reply-to:cc:to:from:subject:message-id:date
 :x-gm-message-state:from:to:cc:subject:date:message-id:reply-to;
 bh=jY+QUyMBY/+1M1riit0yzH4gnQsB/NrxhpHKJQxbwHk=;
 b=Qzr/7+NflD2DMQVXfSszsPvauBtsGz8CJCMnk7qTyct142MiBg1/8ZkmrIpEUcdxL6
 3BV+HvMoxTtW3dvG104BwCNesVpr6GTu02lHkhVfSU0rZXNhB3CJxXCqMu9dz5yzVj7G
 I0Qms0vWdAL40pDCdCBEZofZT+3Du28nSzNTdKvM44XoTr6pLOo4vQ/S5mrjM9/bSjsU
 5vGU1C/61HGGC1b25ydZOVJFZzu/RUFek+JgmNiUeKNotqTkRli++lj5pN6kvJZQdGaC
 bQZQJqFVfVztiRoVF7LKqvG9JUN8HvSXCsKt+oAg2hrtKj7zFSHdR2J/BZUlVN48mbxI
 waWw==
X-Gm-Message-State: AOJu0Yzcf17hQJ4q7ZDdDErcC+jARCG/goNgJQC71xKatvTWs8m/bKL6
 twzuFlFXgwCNpOjRiuC1mBdauPN5KAdFvbVOS0q/pMUnlJ5kwxuZngDHb4b8bcP7C8+f9cwbCpf
 GiFks1KKqG5m2u74SwgOO2ldg0YMtH+RJNzMx9x8JJ9yDMnxYcnxLKawW
X-Google-Smtp-Source: AGHT+IG//XTxr6u9yLzW6ekAfb0cybr6Igxurt6xy/nvMr7Lwij0jL+6OhnITaogc5bQnaV9jihDFWqeXq+z
X-Received: by 2002:a25:ef0a:0:b0:dcd:b034:b500 with SMTP id
 g10-20020a25ef0a000000b00dcdb034b500mr1991761ybd.43.1713533340263; 
 Fri, 19 Apr 2024 06:29:00 -0700 (PDT)
Received: from postal.iol.unh.edu (postal.iol.unh.edu.
 [2606:4100:3880:1234::84]) by smtp-relay.gmail.com with ESMTPS id
 fo4-20020a0569022d0400b00dc6185d4494sm165235ybb.6.2024.04.19.06.29.00
 (version=TLS1_2 cipher=ECDHE-ECDSA-AES128-GCM-SHA256 bits=128/128);
 Fri, 19 Apr 2024 06:29:00 -0700 (PDT)
X-Relaying-Domain: iol.unh.edu
Date: Fri, 19 Apr 2024 06:29:00 -0700 (PDT)
Message-ID: <6622719c.050a0220.4df54.864eSMTPIN_ADDED_MISSING@mx.google.com>
Received: from [172.17.0.2] (unknown [172.18.0.217])
 by postal.iol.unh.edu (Postfix) with ESMTP id C16326052514;
 Fri, 19 Apr 2024 09:28:59 -0400 (EDT)
Subject: |SUCCESS| pw139534-139540 [PATCH] [v3,7/7] dma/odm: add remaining op
From: dpdklab@iol.unh.edu
To: Test Report <test-report@dpdk.org>
Cc: dpdk-test-reports@iol.unh.edu
In-Reply-To: <20240419064319.149-8-anoobj@marvell.com>
References: <20240419064319.149-8-anoobj@marvell.com>
Content-Type: text/plain
X-BeenThere: test-report@dpdk.org
X-Mailman-Version: 2.1.29
Precedence: list
List-Id: automatic DPDK test reports <test-report.dpdk.org>
List-Unsubscribe: <https://mails.dpdk.org/options/test-report>,
 <mailto:test-report-request@dpdk.org?subject=unsubscribe>
List-Archive: <http://mails.dpdk.org/archives/test-report/>
List-Post: <mailto:test-report@dpdk.org>
List-Help: <mailto:test-report-request@dpdk.org?subject=help>
List-Subscribe: <https://mails.dpdk.org/listinfo/test-report>,
 <mailto:test-report-request@dpdk.org?subject=subscribe>
Errors-To: test-report-bounces@dpdk.org

Test-Label: iol-unit-amd64-testing
Test-Status: SUCCESS
http://dpdk.org/patch/139540

_Testing PASS_

Submitter: Anoob Joseph <anoobj@marvell.com>
Date: Friday, April 19 2024 06:43:19 
DPDK git baseline: Repo:dpdk
  Branch: master
  CommitID:e2e546ab5bf5e024986ccb5310ab43982f3bb40c

139534-139540 --> testing pass

Test environment and result as below:

+---------------------+----------------+
|     Environment     | dpdk_unit_test |
+=====================+================+
| Debian Bullseye     | PASS           |
+---------------------+----------------+
| CentOS Stream 9     | PASS           |
+---------------------+----------------+
| CentOS Stream 8     | PASS           |
+---------------------+----------------+
| Debian 12           | PASS           |
+---------------------+----------------+
| Fedora 38           | PASS           |
+---------------------+----------------+
| Fedora 37           | PASS           |
+---------------------+----------------+
| Fedora 39           | PASS           |
+---------------------+----------------+
| openSUSE Leap 15    | PASS           |
+---------------------+----------------+
| RHEL8               | PASS           |
+---------------------+----------------+
| Ubuntu 20.04        | PASS           |
+---------------------+----------------+
| Ubuntu 22.04        | PASS           |
+---------------------+----------------+
| Windows Server 2019 | PASS           |
+---------------------+----------------+
| Windows Server 2022 | PASS           |
+---------------------+----------------+


Debian Bullseye
	Kernel: 5.4.0-167-generic
	Compiler: gcc 10.2.1-6

CentOS Stream 9
	Kernel: 5.4.0-167-generic
	Compiler: gcc 11.4.1 20230605

CentOS Stream 8
	Kernel: 5.4.0-167-generic
	Compiler: gcc 8.5.0 20210514

Debian 12
	Kernel: Container Host Kernel
	Compiler: gcc 10.2.1

Fedora 38
	Kernel: Depends on container host
	Compiler: gcc 13.2.1

Fedora 37
	Kernel: Depends on container host system
	Compiler: gcc 12.3.1

Fedora 39
	Kernel: Depends on container host
	Compiler: gcc 13.2.1

openSUSE Leap 15
	Kernel: 5.4.0-167-generic
	Compiler: gcc 7.5.0

RHEL8
	Kernel: 5.4.0-167-generic
	Compiler: gcc 8.5.0 20210514 (Red Hat 8.5.0-20)

Ubuntu 20.04
	Kernel: 5.4.0-167-generic
	Compiler: gcc 9.4.0-1ubuntu1~20.04.1

Ubuntu 22.04
	Kernel: 5.4.0-167-generic
	Compiler: gcc 11.4.0

Windows Server 2019
	Kernel: 10.0.17763
	Compiler: clang 14.0 and gcc 8.1.0 (MinGW)

Windows Server 2022
	Kernel: 10.0.20348.2031
	Compiler: clang 15.0.7, gcc 8.1.0 (MinGW), and MSVC VS 17.9

To view detailed results, visit:
https://lab.dpdk.org/results/dashboard/patchsets/29825/

UNH-IOL DPDK Community Lab

To manage your email subscriptions, visit: 
https://lab.dpdk.org/results/dashboard/preferences/subscriptions/