From: dpdklab@iol.unh.edu
To: Test Report <test-report@dpdk.org>
Cc: dpdk-test-reports@iol.unh.edu
Subject: |SUCCESS| pw139606 [PATCH] [v8] ethdev: fix strict aliasing lead to
Date: Mon, 22 Apr 2024 01:27:26 -0700 (PDT) [thread overview]
Message-ID: <66261f6e.170a0220.e92fa.c791SMTPIN_ADDED_MISSING@mx.google.com> (raw)
In-Reply-To: <20240422063813.23814-1-fengchengwen@huawei.com>
Test-Label: iol-compile-amd64-testing
Test-Status: SUCCESS
http://dpdk.org/patch/139606
_Testing PASS_
Submitter: fengchengwen <fengchengwen@huawei.com>
Date: Monday, April 22 2024 06:38:13
DPDK git baseline: Repo:dpdk
Branch: master
CommitID:7b668b7d65ba33783c280d08489fa31685bd0ee6
139606 --> testing pass
Test environment and result as below:
+---------------------+--------------------+----------------------+-------------------+
| Environment | dpdk_meson_compile | dpdk_mingw64_compile | dpdk_msvc_compile |
+=====================+====================+======================+===================+
| Windows Server 2022 | PASS | PASS | PASS |
+---------------------+--------------------+----------------------+-------------------+
| FreeBSD 13.2 | PASS | SKIPPED | SKIPPED |
+---------------------+--------------------+----------------------+-------------------+
| CentOS Stream 8 | PASS | SKIPPED | SKIPPED |
+---------------------+--------------------+----------------------+-------------------+
| Windows Server 2019 | PASS | PASS | SKIPPED |
+---------------------+--------------------+----------------------+-------------------+
| Debian Bullseye | PASS | SKIPPED | SKIPPED |
+---------------------+--------------------+----------------------+-------------------+
| Debian 12 | PASS | SKIPPED | SKIPPED |
+---------------------+--------------------+----------------------+-------------------+
| Fedora 37 | PASS | SKIPPED | SKIPPED |
+---------------------+--------------------+----------------------+-------------------+
| openSUSE Leap 15 | PASS | SKIPPED | SKIPPED |
+---------------------+--------------------+----------------------+-------------------+
| RHEL8 | PASS | SKIPPED | SKIPPED |
+---------------------+--------------------+----------------------+-------------------+
| Fedora 38 | PASS | SKIPPED | SKIPPED |
+---------------------+--------------------+----------------------+-------------------+
| Ubuntu 22.04 | PASS | SKIPPED | SKIPPED |
+---------------------+--------------------+----------------------+-------------------+
| Fedora 39 | PASS | SKIPPED | SKIPPED |
+---------------------+--------------------+----------------------+-------------------+
| Ubuntu 20.04 | PASS | SKIPPED | SKIPPED |
+---------------------+--------------------+----------------------+-------------------+
| Alpine | PASS | SKIPPED | SKIPPED |
+---------------------+--------------------+----------------------+-------------------+
| CentOS Stream 9 | PASS | SKIPPED | SKIPPED |
+---------------------+--------------------+----------------------+-------------------+
Windows Server 2022
Kernel: 10.0.20348.2031
Compiler: clang 15.0.7, gcc 8.1.0 (MinGW), and MSVC VS 17.9
FreeBSD 13.2
Kernel: 13.2
Compiler: clang 14.0.5
CentOS Stream 8
Kernel: 5.4.0-167-generic
Compiler: gcc 8.5.0 20210514
Windows Server 2019
Kernel: 10.0.17763
Compiler: clang 14.0 and gcc 8.1.0 (MinGW)
Debian Bullseye
Kernel: 5.4.0-167-generic
Compiler: gcc 10.2.1-6
Debian 12
Kernel: Container Host Kernel
Compiler: gcc 10.2.1
Fedora 37
Kernel: Depends on container host system
Compiler: gcc 12.3.1
openSUSE Leap 15
Kernel: 5.4.0-167-generic
Compiler: gcc 7.5.0
RHEL8
Kernel: 5.4.0-167-generic
Compiler: gcc 8.5.0 20210514 (Red Hat 8.5.0-20)
Fedora 38
Kernel: Depends on container host
Compiler: clang 16.0.6
Ubuntu 22.04
Kernel: 5.4.0-167-generic
Compiler: gcc 11.4.0
Fedora 39
Kernel: Depends on container host
Compiler: gcc 13.2.1
Ubuntu 20.04
Kernel: 5.4.0-167-generic
Compiler: gcc 9.4.0-1ubuntu1~20.04.1
Alpine
Kernel: 5.4.0-167-generic
Compiler: gcc (Alpine 12.2.1_git20220924-r10) 12.2.1 20220924
CentOS Stream 9
Kernel: 5.4.0-167-generic
Compiler: gcc 11.4.1 20230605
To view detailed results, visit:
https://lab.dpdk.org/results/dashboard/patchsets/29835/
UNH-IOL DPDK Community Lab
To manage your email subscriptions, visit:
https://lab.dpdk.org/results/dashboard/preferences/subscriptions/
next prev parent reply other threads:[~2024-04-22 8:27 UTC|newest]
Thread overview: 92+ messages / expand[flat|nested] mbox.gz Atom feed top
[not found] <20240422063813.23814-1-fengchengwen@huawei.com>
2024-04-22 6:26 ` |SUCCESS| pw139606 [PATCH v8] ethdev: fix strict aliasing lead to link cannot be up qemudev
2024-04-22 6:31 ` qemudev
2024-04-22 6:41 ` |WARNING| " checkpatch
2024-04-22 7:26 ` |SUCCESS| pw139606 [PATCH] [v8] ethdev: fix strict aliasing lead to dpdklab
2024-04-22 7:27 ` dpdklab
2024-04-22 7:37 ` dpdklab
2024-04-22 7:37 ` dpdklab
2024-04-22 7:38 ` dpdklab
2024-04-22 7:39 ` dpdklab
2024-04-22 7:40 ` dpdklab
2024-04-22 7:40 ` dpdklab
2024-04-22 7:41 ` dpdklab
2024-04-22 7:42 ` dpdklab
2024-04-22 7:44 ` dpdklab
2024-04-22 7:44 ` |SUCCESS| pw139606 [PATCH v8] ethdev: fix strict aliasing lead to link cannot be up 0-day Robot
2024-04-22 7:45 ` |SUCCESS| pw139606 [PATCH] [v8] ethdev: fix strict aliasing lead to dpdklab
2024-04-22 7:46 ` dpdklab
2024-04-22 7:46 ` dpdklab
2024-04-22 7:47 ` dpdklab
2024-04-22 7:49 ` dpdklab
2024-04-22 7:50 ` dpdklab
2024-04-22 7:50 ` dpdklab
2024-04-22 7:51 ` dpdklab
2024-04-22 7:51 ` dpdklab
2024-04-22 8:00 ` dpdklab
2024-04-22 8:01 ` dpdklab
2024-04-22 8:03 ` dpdklab
2024-04-22 8:03 ` dpdklab
2024-04-22 8:04 ` dpdklab
2024-04-22 8:05 ` dpdklab
2024-04-22 8:05 ` dpdklab
2024-04-22 8:06 ` dpdklab
2024-04-22 8:06 ` dpdklab
2024-04-22 8:07 ` dpdklab
2024-04-22 8:07 ` dpdklab
2024-04-22 8:08 ` dpdklab
2024-04-22 8:09 ` dpdklab
2024-04-22 8:10 ` dpdklab
2024-04-22 8:11 ` dpdklab
2024-04-22 8:12 ` dpdklab
2024-04-22 8:13 ` dpdklab
2024-04-22 8:13 ` dpdklab
2024-04-22 8:14 ` dpdklab
2024-04-22 8:15 ` dpdklab
2024-04-22 8:15 ` dpdklab
2024-04-22 8:16 ` dpdklab
2024-04-22 8:17 ` dpdklab
2024-04-22 8:17 ` dpdklab
2024-04-22 8:18 ` dpdklab
2024-04-22 8:19 ` dpdklab
2024-04-22 8:19 ` dpdklab
2024-04-22 8:20 ` dpdklab
2024-04-22 8:20 ` dpdklab
2024-04-22 8:21 ` dpdklab
2024-04-22 8:22 ` dpdklab
2024-04-22 8:23 ` dpdklab
2024-04-22 8:23 ` dpdklab
2024-04-22 8:23 ` dpdklab
2024-04-22 8:23 ` dpdklab
2024-04-22 8:24 ` dpdklab
2024-04-22 8:24 ` dpdklab
2024-04-22 8:26 ` dpdklab
2024-04-22 8:27 ` dpdklab
2024-04-22 8:27 ` dpdklab [this message]
2024-04-22 8:28 ` dpdklab
2024-04-22 8:29 ` dpdklab
2024-04-22 8:29 ` dpdklab
2024-04-22 8:30 ` dpdklab
2024-04-22 8:30 ` dpdklab
2024-04-22 8:30 ` dpdklab
2024-04-22 8:30 ` dpdklab
2024-04-22 8:31 ` dpdklab
2024-04-22 8:31 ` dpdklab
2024-04-22 8:31 ` dpdklab
2024-04-22 8:32 ` dpdklab
2024-04-22 8:32 ` dpdklab
2024-04-22 8:32 ` dpdklab
2024-04-22 8:32 ` dpdklab
2024-04-22 8:33 ` dpdklab
2024-04-22 8:33 ` dpdklab
2024-04-22 8:33 ` dpdklab
2024-04-22 8:57 ` dpdklab
2024-04-22 8:59 ` dpdklab
2024-04-22 8:59 ` dpdklab
2024-04-22 9:01 ` dpdklab
2024-04-22 9:02 ` dpdklab
2024-04-22 9:02 ` dpdklab
2024-04-22 9:07 ` dpdklab
2024-04-22 9:10 ` dpdklab
2024-04-22 9:13 ` dpdklab
2024-04-22 9:16 ` dpdklab
2024-04-22 9:35 ` dpdklab
Reply instructions:
You may reply publicly to this message via plain-text email
using any one of the following methods:
* Save the following mbox file, import it into your mail client,
and reply-to-all from there: mbox
Avoid top-posting and favor interleaved quoting:
https://en.wikipedia.org/wiki/Posting_style#Interleaved_style
* Reply using the --to, --cc, and --in-reply-to
switches of git-send-email(1):
git send-email \
--in-reply-to=66261f6e.170a0220.e92fa.c791SMTPIN_ADDED_MISSING@mx.google.com \
--to=dpdklab@iol.unh.edu \
--cc=dpdk-test-reports@iol.unh.edu \
--cc=test-report@dpdk.org \
/path/to/YOUR_REPLY
https://kernel.org/pub/software/scm/git/docs/git-send-email.html
* If your mail client supports setting the In-Reply-To header
via mailto: links, try the mailto: link
Be sure your reply has a Subject: header at the top and a blank line
before the message body.
This is a public inbox, see mirroring instructions
for how to clone and mirror all data and code used for this inbox;
as well as URLs for NNTP newsgroup(s).