From: dpdklab@iol.unh.edu
To: Test Report <test-report@dpdk.org>
Cc: dpdk-test-reports@iol.unh.edu
Subject: |SUCCESS| pw139621-139624 [PATCH] [v1,5/5] baseband/acc: cosmetic lo
Date: Mon, 22 Apr 2024 14:41:54 -0700 (PDT) [thread overview]
Message-ID: <6626d9a2.4a0a0220.6ecc2.0f82SMTPIN_ADDED_MISSING@mx.google.com> (raw)
In-Reply-To: <20240422154008.119800-6-hernan.vargas@intel.com>
Test-Label: iol-unit-arm64-testing
Test-Status: SUCCESS
http://dpdk.org/patch/139624
_Testing PASS_
Submitter: Hernan Vargas <hernan.vargas@intel.com>
Date: Monday, April 22 2024 15:40:08
DPDK git baseline: Repo:dpdk
Branch: master
CommitID:98b4ecb4e4d73e93fdfa53f552b48d71104b445f
139621-139624 --> testing pass
Test environment and result as below:
+-----------------------------+----------------+--------------+---------------------------+
| Environment | dpdk_unit_test | lpm_autotest | cryptodev_sw_zuc_autotest |
+=============================+================+==============+===========================+
| 32-bit Ubuntu 20.04.4 (ARM) | PASS | SKIPPED | SKIPPED |
+-----------------------------+----------------+--------------+---------------------------+
| CentOS Stream 9 (ARM) | PASS | SKIPPED | SKIPPED |
+-----------------------------+----------------+--------------+---------------------------+
| Debian 11 (Buster) (ARM) | PASS | SKIPPED | SKIPPED |
+-----------------------------+----------------+--------------+---------------------------+
| Fedora 39 (ARM) | PASS | SKIPPED | SKIPPED |
+-----------------------------+----------------+--------------+---------------------------+
| Debian 12 (arm) | PASS | SKIPPED | PASS |
+-----------------------------+----------------+--------------+---------------------------+
| Fedora 38 (ARM Clang) | PASS | SKIPPED | SKIPPED |
+-----------------------------+----------------+--------------+---------------------------+
| Fedora 39 (ARM Clang) | PASS | SKIPPED | SKIPPED |
+-----------------------------+----------------+--------------+---------------------------+
| Fedora 38 (ARM) | PASS | SKIPPED | SKIPPED |
+-----------------------------+----------------+--------------+---------------------------+
| Ubuntu 20.04 ARM SVE | SKIPPED | PASS | SKIPPED |
+-----------------------------+----------------+--------------+---------------------------+
32-bit Ubuntu 20.04.4 (ARM)
Kernel: 5.4.0-155-generic aarch64
Compiler: gcc 9.4
CentOS Stream 9 (ARM)
Kernel: Container Host Kernel
Compiler: gcc 11.4.1
Debian 11 (Buster) (ARM)
Kernel: Container Host Kernel
Compiler: gcc 10.2.1
Fedora 39 (ARM)
Kernel: Depends on container host
Compiler: gcc 13.2.1
Debian 12 (arm)
Kernel: Container Host Kernel
Compiler: gcc 12.2.0
Fedora 38 (ARM Clang)
Kernel: Depends on container host
Compiler: clang 16.0.6
Fedora 39 (ARM Clang)
Kernel: Depends on container host
Compiler: clang 17.0.6
Fedora 38 (ARM)
Kernel: Depends on container host
Compiler: gcc 13.2.1
Ubuntu 20.04 ARM SVE
Kernel: 5.4.0-167-generic
Compiler: gcc (Ubuntu 10.5.0-1ubuntu1~20.04) 10.5.0
To view detailed results, visit:
https://lab.dpdk.org/results/dashboard/patchsets/29839/
UNH-IOL DPDK Community Lab
To manage your email subscriptions, visit:
https://lab.dpdk.org/results/dashboard/preferences/subscriptions/
next prev parent reply other threads:[~2024-04-22 21:41 UTC|newest]
Thread overview: 93+ messages / expand[flat|nested] mbox.gz Atom feed top
[not found] <20240422154008.119800-6-hernan.vargas@intel.com>
2024-04-22 15:19 ` |SUCCESS| pw139621-139624 [PATCH v1 5/5] baseband/acc: cosmetic log changes qemudev
2024-04-22 15:24 ` qemudev
2024-04-22 15:45 ` |SUCCESS| pw139624 " checkpatch
2024-04-22 16:45 ` 0-day Robot
2024-04-22 19:31 ` |SUCCESS| pw139621-139624 [PATCH] [v1,5/5] baseband/acc: cosmetic lo dpdklab
2024-04-22 19:32 ` dpdklab
2024-04-22 19:32 ` dpdklab
2024-04-22 19:43 ` dpdklab
2024-04-22 19:44 ` dpdklab
2024-04-22 19:47 ` dpdklab
2024-04-22 19:47 ` dpdklab
2024-04-22 19:51 ` dpdklab
2024-04-22 19:51 ` dpdklab
2024-04-22 19:54 ` dpdklab
2024-04-22 19:55 ` dpdklab
2024-04-22 19:56 ` dpdklab
2024-04-22 19:56 ` dpdklab
2024-04-22 19:57 ` dpdklab
2024-04-22 20:02 ` dpdklab
2024-04-22 20:02 ` dpdklab
2024-04-22 20:03 ` dpdklab
2024-04-22 20:06 ` dpdklab
2024-04-22 20:17 ` dpdklab
2024-04-22 20:19 ` dpdklab
2024-04-22 20:19 ` dpdklab
2024-04-22 20:37 ` dpdklab
2024-04-22 20:46 ` dpdklab
2024-04-22 20:46 ` dpdklab
2024-04-22 20:47 ` dpdklab
2024-04-22 20:48 ` dpdklab
2024-04-22 20:49 ` dpdklab
2024-04-22 20:50 ` dpdklab
2024-04-22 20:50 ` dpdklab
2024-04-22 20:50 ` dpdklab
2024-04-22 20:51 ` dpdklab
2024-04-22 20:51 ` dpdklab
2024-04-22 20:53 ` dpdklab
2024-04-22 20:53 ` dpdklab
2024-04-22 20:53 ` dpdklab
2024-04-22 20:54 ` dpdklab
2024-04-22 20:54 ` dpdklab
2024-04-22 20:56 ` dpdklab
2024-04-22 20:56 ` dpdklab
2024-04-22 20:57 ` dpdklab
2024-04-22 20:58 ` dpdklab
2024-04-22 20:59 ` dpdklab
2024-04-22 20:59 ` dpdklab
2024-04-22 21:02 ` dpdklab
2024-04-22 21:03 ` dpdklab
2024-04-22 21:03 ` dpdklab
2024-04-22 21:04 ` dpdklab
2024-04-22 21:04 ` dpdklab
2024-04-22 21:04 ` dpdklab
2024-04-22 21:04 ` dpdklab
2024-04-22 21:04 ` dpdklab
2024-04-22 21:05 ` dpdklab
2024-04-22 21:05 ` dpdklab
2024-04-22 21:05 ` dpdklab
2024-04-22 21:05 ` dpdklab
2024-04-22 21:06 ` dpdklab
2024-04-22 21:06 ` dpdklab
2024-04-22 21:06 ` dpdklab
2024-04-22 21:06 ` dpdklab
2024-04-22 21:07 ` dpdklab
2024-04-22 21:07 ` dpdklab
2024-04-22 21:07 ` dpdklab
2024-04-22 21:07 ` dpdklab
2024-04-22 21:10 ` dpdklab
2024-04-22 21:13 ` dpdklab
2024-04-22 21:13 ` dpdklab
2024-04-22 21:14 ` dpdklab
2024-04-22 21:26 ` dpdklab
2024-04-22 21:39 ` dpdklab
2024-04-22 21:41 ` dpdklab [this message]
2024-04-22 21:42 ` dpdklab
2024-04-22 21:42 ` dpdklab
2024-04-22 21:43 ` dpdklab
2024-04-22 21:43 ` dpdklab
2024-04-22 21:44 ` dpdklab
2024-04-22 21:45 ` dpdklab
2024-04-22 21:46 ` dpdklab
2024-04-22 21:48 ` dpdklab
2024-04-22 21:49 ` dpdklab
2024-04-22 21:54 ` dpdklab
2024-04-22 21:56 ` dpdklab
2024-04-22 21:58 ` dpdklab
2024-04-22 22:01 ` dpdklab
2024-04-22 22:02 ` dpdklab
2024-04-22 22:02 ` dpdklab
2024-04-22 22:02 ` dpdklab
2024-04-22 22:08 ` dpdklab
2024-04-22 22:54 ` dpdklab
2024-04-23 0:02 ` dpdklab
Reply instructions:
You may reply publicly to this message via plain-text email
using any one of the following methods:
* Save the following mbox file, import it into your mail client,
and reply-to-all from there: mbox
Avoid top-posting and favor interleaved quoting:
https://en.wikipedia.org/wiki/Posting_style#Interleaved_style
* Reply using the --to, --cc, and --in-reply-to
switches of git-send-email(1):
git send-email \
--in-reply-to=6626d9a2.4a0a0220.6ecc2.0f82SMTPIN_ADDED_MISSING@mx.google.com \
--to=dpdklab@iol.unh.edu \
--cc=dpdk-test-reports@iol.unh.edu \
--cc=test-report@dpdk.org \
/path/to/YOUR_REPLY
https://kernel.org/pub/software/scm/git/docs/git-send-email.html
* If your mail client supports setting the In-Reply-To header
via mailto: links, try the mailto: link
Be sure your reply has a Subject: header at the top and a blank line
before the message body.
This is a public inbox, see mirroring instructions
for how to clone and mirror all data and code used for this inbox;
as well as URLs for NNTP newsgroup(s).