From: dpdklab@iol.unh.edu
To: Test Report <test-report@dpdk.org>
Cc: dpdk-test-reports@iol.unh.edu
Subject: |SUCCESS| pw139637-139640 [PATCH] [v1,4/4] dts: refine pre-test setu
Date: Tue, 23 Apr 2024 05:58:07 -0700 (PDT) [thread overview]
Message-ID: <6627b05f.0d0a0220.b57b1.0c34SMTPIN_ADDED_MISSING@mx.google.com> (raw)
In-Reply-To: <20240423091252.62924-5-juraj.linkes@pantheon.tech>
Test-Label: iol-compile-arm64-testing
Test-Status: SUCCESS
http://dpdk.org/patch/139640
_Testing PASS_
Submitter: Juraj Linkes <juraj.linkes@pantheon.tech>
Date: Tuesday, April 23 2024 09:12:52
DPDK git baseline: Repo:dpdk
Branch: master
CommitID:7e06c0de1952d3109a5b0c4779d7e7d8059c9d78
139637-139640 --> testing pass
Test environment and result as below:
+----------------------------------------+--------------------+
| Environment | dpdk_meson_compile |
+========================================+====================+
| Ubuntu 20.04 ARM SVE | PASS |
+----------------------------------------+--------------------+
| Debian 12 with MUSDK | PASS |
+----------------------------------------+--------------------+
| Fedora 37 (ARM) | PASS |
+----------------------------------------+--------------------+
| Fedora 38 (ARM) | PASS |
+----------------------------------------+--------------------+
| Fedora 39 (ARM) | PASS |
+----------------------------------------+--------------------+
| Debian 11 (Buster) (ARM) | PASS |
+----------------------------------------+--------------------+
| Debian 12 (arm) | PASS |
+----------------------------------------+--------------------+
| Ubuntu 20.04 (ARM) | PASS |
+----------------------------------------+--------------------+
| CentOS Stream 9 (ARM) | PASS |
+----------------------------------------+--------------------+
| Ubuntu 20.04 ARM Clang Cross Compile | PASS |
+----------------------------------------+--------------------+
| Ubuntu 20.04 aarch32 GCC Cross Compile | PASS |
+----------------------------------------+--------------------+
| Ubuntu 20.04 ARM GCC Cross Compile | PASS |
+----------------------------------------+--------------------+
| Fedora 38 (ARM Clang) | PASS |
+----------------------------------------+--------------------+
| Fedora 39 (ARM Clang) | PASS |
+----------------------------------------+--------------------+
Ubuntu 20.04 ARM SVE
Kernel: 5.4.0-167-generic
Compiler: gcc (Ubuntu 10.5.0-1ubuntu1~20.04) 10.5.0
Debian 12 with MUSDK
Kernel: Container Host Kernel
Compiler: gcc 12.2.0
Fedora 37 (ARM)
Kernel: Depends on container host
Compiler: gcc 12.3.1
Fedora 38 (ARM)
Kernel: Depends on container host
Compiler: gcc 13.2.1
Fedora 39 (ARM)
Kernel: Depends on container host
Compiler: gcc 13.2.1
Debian 11 (Buster) (ARM)
Kernel: Container Host Kernel
Compiler: gcc 10.2.1
Debian 12 (arm)
Kernel: Container Host Kernel
Compiler: gcc 12.2.0
Ubuntu 20.04 (ARM)
Kernel: Container Host Kernel
Compiler: gcc 9.4.0
CentOS Stream 9 (ARM)
Kernel: Container Host Kernel
Compiler: gcc 11.4.1
Ubuntu 20.04 ARM Clang Cross Compile
Kernel: 5.4.0-72-generic
Compiler: clang 10.0.0-4ubuntu1
Ubuntu 20.04 aarch32 GCC Cross Compile
Kernel: 5.4.0-167-generic
Compiler: gcc 9.4.0
Ubuntu 20.04 ARM GCC Cross Compile
Kernel: 5.4.0-167-generic
Compiler: aarch64-linux-gnu-gcc (Ubuntu 9.4.0-1ubuntu1~20.04.2) 9.4.0
Fedora 38 (ARM Clang)
Kernel: Depends on container host
Compiler: clang 16.0.6
Fedora 39 (ARM Clang)
Kernel: Depends on container host
Compiler: clang 17.0.6
To view detailed results, visit:
https://lab.dpdk.org/results/dashboard/patchsets/29843/
UNH-IOL DPDK Community Lab
To manage your email subscriptions, visit:
https://lab.dpdk.org/results/dashboard/preferences/subscriptions/
prev parent reply other threads:[~2024-04-23 12:58 UTC|newest]
Thread overview: 92+ messages / expand[flat|nested] mbox.gz Atom feed top
[not found] <20240423091252.62924-5-juraj.linkes@pantheon.tech>
2024-04-23 8:47 ` |SUCCESS| pw139637-139640 [PATCH v1 4/4] dts: refine pre-test setup and teardown steps qemudev
2024-04-23 8:51 ` qemudev
2024-04-23 9:14 ` |SUCCESS| pw139640 " checkpatch
2024-04-23 9:55 ` |SUCCESS| pw139637-139640 [PATCH] [v1,4/4] dts: refine pre-test setu dpdklab
2024-04-23 9:56 ` dpdklab
2024-04-23 9:57 ` dpdklab
2024-04-23 9:57 ` dpdklab
2024-04-23 9:57 ` dpdklab
2024-04-23 9:58 ` dpdklab
2024-04-23 9:58 ` dpdklab
2024-04-23 9:59 ` dpdklab
2024-04-23 9:59 ` dpdklab
2024-04-23 9:59 ` dpdklab
2024-04-23 10:01 ` dpdklab
2024-04-23 10:01 ` dpdklab
2024-04-23 10:02 ` dpdklab
2024-04-23 10:07 ` dpdklab
2024-04-23 10:07 ` dpdklab
2024-04-23 10:08 ` dpdklab
2024-04-23 10:08 ` dpdklab
2024-04-23 10:08 ` dpdklab
2024-04-23 10:09 ` |SUCCESS| pw139640 [PATCH v1 4/4] dts: refine pre-test setup and teardown steps 0-day Robot
2024-04-23 10:09 ` |SUCCESS| pw139637-139640 [PATCH] [v1,4/4] dts: refine pre-test setu dpdklab
2024-04-23 10:09 ` dpdklab
2024-04-23 10:09 ` dpdklab
2024-04-23 10:09 ` dpdklab
2024-04-23 10:09 ` dpdklab
2024-04-23 10:09 ` dpdklab
2024-04-23 10:10 ` dpdklab
2024-04-23 10:10 ` dpdklab
2024-04-23 10:10 ` dpdklab
2024-04-23 10:10 ` dpdklab
2024-04-23 10:14 ` dpdklab
2024-04-23 10:14 ` dpdklab
2024-04-23 10:14 ` dpdklab
2024-04-23 10:14 ` dpdklab
2024-04-23 10:14 ` dpdklab
2024-04-23 10:15 ` dpdklab
2024-04-23 10:15 ` dpdklab
2024-04-23 10:15 ` dpdklab
2024-04-23 10:15 ` dpdklab
2024-04-23 10:16 ` dpdklab
2024-04-23 10:16 ` dpdklab
2024-04-23 10:16 ` dpdklab
2024-04-23 10:17 ` dpdklab
2024-04-23 10:17 ` dpdklab
2024-04-23 10:17 ` dpdklab
2024-04-23 10:18 ` dpdklab
2024-04-23 10:18 ` dpdklab
2024-04-23 10:18 ` dpdklab
2024-04-23 10:18 ` dpdklab
2024-04-23 10:18 ` dpdklab
2024-04-23 10:19 ` dpdklab
2024-04-23 10:19 ` dpdklab
2024-04-23 10:19 ` dpdklab
2024-04-23 10:19 ` dpdklab
2024-04-23 10:19 ` dpdklab
2024-04-23 10:20 ` dpdklab
2024-04-23 10:21 ` dpdklab
2024-04-23 10:21 ` dpdklab
2024-04-23 10:22 ` dpdklab
2024-04-23 10:22 ` dpdklab
2024-04-23 10:23 ` dpdklab
2024-04-23 10:23 ` dpdklab
2024-04-23 10:23 ` dpdklab
2024-04-23 10:23 ` dpdklab
2024-04-23 10:24 ` dpdklab
2024-04-23 10:24 ` dpdklab
2024-04-23 10:42 ` dpdklab
2024-04-23 10:42 ` dpdklab
2024-04-23 10:43 ` dpdklab
2024-04-23 10:43 ` dpdklab
2024-04-23 10:43 ` dpdklab
2024-04-23 10:44 ` dpdklab
2024-04-23 10:49 ` dpdklab
2024-04-23 10:49 ` dpdklab
2024-04-23 10:49 ` dpdklab
2024-04-23 10:50 ` dpdklab
2024-04-23 10:50 ` dpdklab
2024-04-23 10:50 ` dpdklab
2024-04-23 10:50 ` dpdklab
2024-04-23 10:51 ` dpdklab
2024-04-23 10:51 ` dpdklab
2024-04-23 10:52 ` dpdklab
2024-04-23 10:56 ` dpdklab
2024-04-23 11:00 ` dpdklab
2024-04-23 11:05 ` dpdklab
2024-04-23 11:06 ` dpdklab
2024-04-23 11:10 ` dpdklab
2024-04-23 11:17 ` dpdklab
2024-04-23 11:35 ` dpdklab
2024-04-23 12:58 ` dpdklab [this message]
Reply instructions:
You may reply publicly to this message via plain-text email
using any one of the following methods:
* Save the following mbox file, import it into your mail client,
and reply-to-all from there: mbox
Avoid top-posting and favor interleaved quoting:
https://en.wikipedia.org/wiki/Posting_style#Interleaved_style
* Reply using the --to, --cc, and --in-reply-to
switches of git-send-email(1):
git send-email \
--in-reply-to=6627b05f.0d0a0220.b57b1.0c34SMTPIN_ADDED_MISSING@mx.google.com \
--to=dpdklab@iol.unh.edu \
--cc=dpdk-test-reports@iol.unh.edu \
--cc=test-report@dpdk.org \
/path/to/YOUR_REPLY
https://kernel.org/pub/software/scm/git/docs/git-send-email.html
* If your mail client supports setting the In-Reply-To header
via mailto: links, try the mailto: link
Be sure your reply has a Subject: header at the top and a blank line
before the message body.
This is a public inbox, see mirroring instructions
for how to clone and mirror all data and code used for this inbox;
as well as URLs for NNTP newsgroup(s).