From: dpdklab@iol.unh.edu
To: Test Report <test-report@dpdk.org>
Cc: dpdk-test-reports@iol.unh.edu
Subject: |SUCCESS| pw139745-139746 [PATCH] [v5,2/2] dts: Change hugepage 'amo
Date: Tue, 30 Apr 2024 12:49:30 -0700 (PDT) [thread overview]
Message-ID: <66314b4a.630a0220.d35c2.4645SMTPIN_ADDED_MISSING@mx.google.com> (raw)
In-Reply-To: <20240430184533.29247-3-npratte@iol.unh.edu>
Test-Label: iol-unit-arm64-testing
Test-Status: SUCCESS
http://dpdk.org/patch/139746
_Testing PASS_
Submitter: Nicholas Pratte <npratte@iol.unh.edu>
Date: Tuesday, April 30 2024 18:45:33
DPDK git baseline: Repo:dpdk
Branch: master
CommitID:7e06c0de1952d3109a5b0c4779d7e7d8059c9d78
139745-139746 --> testing pass
Test environment and result as below:
+--------------------------+----------------+---------------------------+------------------------------+
| Environment | dpdk_unit_test | cryptodev_sw_zuc_autotest | cryptodev_sw_snow3g_autotest |
+==========================+================+===========================+==============================+
| Debian 12 (arm) | PASS | PASS | PASS |
+--------------------------+----------------+---------------------------+------------------------------+
| Debian 11 (Buster) (ARM) | PASS | SKIPPED | SKIPPED |
+--------------------------+----------------+---------------------------+------------------------------+
| CentOS Stream 9 (ARM) | PASS | SKIPPED | SKIPPED |
+--------------------------+----------------+---------------------------+------------------------------+
| Fedora 39 (ARM) | PASS | SKIPPED | SKIPPED |
+--------------------------+----------------+---------------------------+------------------------------+
| Fedora 37 (ARM) | PASS | SKIPPED | SKIPPED |
+--------------------------+----------------+---------------------------+------------------------------+
| Ubuntu 20.04 (ARM) | PASS | SKIPPED | SKIPPED |
+--------------------------+----------------+---------------------------+------------------------------+
Debian 12 (arm)
Kernel: Container Host Kernel
Compiler: gcc 12.2.0
Debian 11 (Buster) (ARM)
Kernel: Container Host Kernel
Compiler: gcc 10.2.1
CentOS Stream 9 (ARM)
Kernel: Container Host Kernel
Compiler: gcc 11.4.1
Fedora 39 (ARM)
Kernel: Depends on container host
Compiler: gcc 13.2.1
Fedora 37 (ARM)
Kernel: Depends on container host
Compiler: gcc 12.3.1
Ubuntu 20.04 (ARM)
Kernel: Container Host Kernel
Compiler: gcc 9.4.0
To view detailed results, visit:
https://lab.dpdk.org/results/dashboard/patchsets/29881/
UNH-IOL DPDK Community Lab
To manage your email subscriptions, visit:
https://lab.dpdk.org/results/dashboard/preferences/subscriptions/
next prev parent reply other threads:[~2024-04-30 19:49 UTC|newest]
Thread overview: 91+ messages / expand[flat|nested] mbox.gz Atom feed top
[not found] <20240430184533.29247-3-npratte@iol.unh.edu>
2024-04-30 18:22 ` |SUCCESS| pw139745-139746 [PATCH v5 2/2] dts: Change hugepage 'amount' to a different term qemudev
2024-04-30 18:26 ` qemudev
2024-04-30 19:27 ` |SUCCESS| pw139745-139746 [PATCH] [v5,2/2] dts: Change hugepage 'amo dpdklab
2024-04-30 19:27 ` dpdklab
2024-04-30 19:27 ` dpdklab
2024-04-30 19:27 ` dpdklab
2024-04-30 19:28 ` dpdklab
2024-04-30 19:28 ` dpdklab
2024-04-30 19:28 ` dpdklab
2024-04-30 19:28 ` dpdklab
2024-04-30 19:29 ` dpdklab
2024-04-30 19:29 ` dpdklab
2024-04-30 19:29 ` dpdklab
2024-04-30 19:29 ` dpdklab
2024-04-30 19:30 ` dpdklab
2024-04-30 19:30 ` dpdklab
2024-04-30 19:30 ` dpdklab
2024-04-30 19:30 ` dpdklab
2024-04-30 19:30 ` dpdklab
2024-04-30 19:31 ` dpdklab
2024-04-30 19:31 ` dpdklab
2024-04-30 19:31 ` dpdklab
2024-04-30 19:31 ` dpdklab
2024-04-30 19:32 ` dpdklab
2024-04-30 19:32 ` dpdklab
2024-04-30 19:32 ` dpdklab
2024-04-30 19:32 ` dpdklab
2024-04-30 19:32 ` dpdklab
2024-04-30 19:33 ` dpdklab
2024-04-30 19:34 ` dpdklab
2024-04-30 19:35 ` dpdklab
2024-04-30 19:35 ` dpdklab
2024-04-30 19:36 ` dpdklab
2024-04-30 19:36 ` dpdklab
2024-04-30 19:36 ` dpdklab
2024-04-30 19:36 ` dpdklab
2024-04-30 19:37 ` dpdklab
2024-04-30 19:39 ` dpdklab
2024-04-30 19:43 ` |SUCCESS| pw139746 [PATCH v5 2/2] dts: Change hugepage 'amount' to a different term 0-day Robot
2024-04-30 19:45 ` |SUCCESS| pw139745-139746 [PATCH] [v5,2/2] dts: Change hugepage 'amo dpdklab
2024-04-30 19:45 ` dpdklab
2024-04-30 19:46 ` dpdklab
2024-04-30 19:46 ` dpdklab
2024-04-30 19:46 ` dpdklab
2024-04-30 19:47 ` dpdklab
2024-04-30 19:47 ` dpdklab
2024-04-30 19:48 ` dpdklab
2024-04-30 19:49 ` dpdklab
2024-04-30 19:49 ` dpdklab [this message]
2024-04-30 19:51 ` dpdklab
2024-04-30 19:51 ` dpdklab
2024-04-30 19:53 ` dpdklab
2024-04-30 19:55 ` dpdklab
2024-04-30 20:09 ` dpdklab
2024-04-30 20:09 ` dpdklab
2024-04-30 20:10 ` dpdklab
2024-04-30 20:10 ` dpdklab
2024-04-30 20:10 ` dpdklab
2024-04-30 20:11 ` dpdklab
2024-04-30 20:12 ` dpdklab
2024-04-30 20:12 ` dpdklab
2024-04-30 20:12 ` dpdklab
2024-04-30 20:13 ` dpdklab
2024-04-30 20:13 ` dpdklab
2024-04-30 20:14 ` dpdklab
2024-04-30 20:15 ` dpdklab
2024-04-30 20:15 ` dpdklab
2024-04-30 20:15 ` dpdklab
2024-04-30 20:16 ` dpdklab
2024-04-30 20:17 ` dpdklab
2024-04-30 20:17 ` dpdklab
2024-04-30 20:18 ` dpdklab
2024-04-30 20:18 ` dpdklab
2024-04-30 20:19 ` dpdklab
2024-04-30 20:19 ` dpdklab
2024-04-30 20:19 ` dpdklab
2024-04-30 20:22 ` dpdklab
2024-04-30 20:24 ` dpdklab
2024-04-30 20:25 ` dpdklab
2024-04-30 20:26 ` dpdklab
2024-04-30 20:26 ` dpdklab
2024-04-30 20:30 ` dpdklab
2024-04-30 20:31 ` dpdklab
2024-04-30 20:33 ` dpdklab
2024-04-30 20:37 ` dpdklab
2024-04-30 20:40 ` dpdklab
2024-04-30 20:40 ` dpdklab
2024-04-30 20:46 ` dpdklab
2024-04-30 20:54 ` dpdklab
2024-04-30 22:36 ` dpdklab
2024-05-03 12:37 ` |SUCCESS| pw139746 [PATCH v5 2/2] dts: Change hugepage 'amount' to a different term checkpatch
Reply instructions:
You may reply publicly to this message via plain-text email
using any one of the following methods:
* Save the following mbox file, import it into your mail client,
and reply-to-all from there: mbox
Avoid top-posting and favor interleaved quoting:
https://en.wikipedia.org/wiki/Posting_style#Interleaved_style
* Reply using the --to, --cc, and --in-reply-to
switches of git-send-email(1):
git send-email \
--in-reply-to=66314b4a.630a0220.d35c2.4645SMTPIN_ADDED_MISSING@mx.google.com \
--to=dpdklab@iol.unh.edu \
--cc=dpdk-test-reports@iol.unh.edu \
--cc=test-report@dpdk.org \
/path/to/YOUR_REPLY
https://kernel.org/pub/software/scm/git/docs/git-send-email.html
* If your mail client supports setting the In-Reply-To header
via mailto: links, try the mailto: link
Be sure your reply has a Subject: header at the top and a blank line
before the message body.
This is a public inbox, see mirroring instructions
for how to clone and mirror all data and code used for this inbox;
as well as URLs for NNTP newsgroup(s).