From mboxrd@z Thu Jan  1 00:00:00 1970
Return-Path: <test-report-bounces@dpdk.org>
Received: from mails.dpdk.org (mails.dpdk.org [217.70.189.124])
	by inbox.dpdk.org (Postfix) with ESMTP id 79C9543F63
	for <public@inbox.dpdk.org>; Thu,  2 May 2024 05:45:23 +0200 (CEST)
Received: from mails.dpdk.org (localhost [127.0.0.1])
	by mails.dpdk.org (Postfix) with ESMTP id 7658A40299;
	Thu,  2 May 2024 05:45:23 +0200 (CEST)
Received: from mail-io1-f99.google.com (mail-io1-f99.google.com
 [209.85.166.99]) by mails.dpdk.org (Postfix) with ESMTP id 48BAF4026F
 for <test-report@dpdk.org>; Thu,  2 May 2024 05:45:21 +0200 (CEST)
Received: by mail-io1-f99.google.com with SMTP id
 ca18e2360f4ac-7def44cfadeso22724739f.1
 for <test-report@dpdk.org>; Wed, 01 May 2024 20:45:21 -0700 (PDT)
DKIM-Signature: v=1; a=rsa-sha256; c=relaxed/relaxed;
 d=iol.unh.edu; s=unh-iol; t=1714621520; x=1715226320; darn=dpdk.org;
 h=references:in-reply-to:cc:to:from:subject:message-id:date:from:to
 :cc:subject:date:message-id:reply-to;
 bh=z0Or7Uxev90UtWx/m0vGYePyDpdvoJm8jV17iZcxe4g=;
 b=hOe7gViPTQjQMhrjjvZpXSGMcBvKVmVuRlv/n3b8McOLcenUuGqKcF8n9g9T7YrOnx
 vCJW1IuJMTPLKZGTP1cNiFa9qLbryGQ1Qq2yy7nrJRosL0KJMV6zQnYXY0t2F10a1Hez
 4M3tgxsAOMGjv/uuXqYCV/kjpW8MaTBegqmZk=
X-Google-DKIM-Signature: v=1; a=rsa-sha256; c=relaxed/relaxed;
 d=1e100.net; s=20230601; t=1714621520; x=1715226320;
 h=references:in-reply-to:cc:to:from:subject:message-id:date
 :x-gm-message-state:from:to:cc:subject:date:message-id:reply-to;
 bh=z0Or7Uxev90UtWx/m0vGYePyDpdvoJm8jV17iZcxe4g=;
 b=uMfbrwePSknX6nKqmj+y/PVnBVBnIIi2NvRuhhj+LBbRrtiS6vV8NOzHrd4gWS4N/F
 BB1uaZ0IgT8lmplg2oMm6i2kIUhZ32H0B1V9KYtTvuwaTSkEIo7LqIfyy4qZrAXsi+pM
 ontYo099sBNYsSs6a/8qT8+qnHSn3LJhe5UzzVvb23n4nRRh67Y96MfToQArm4XnWXCS
 gXfPXJH5esPCy5qeDlYZDgFjxd2M8YEJITlxGxBDkwFtA0qBTIF+1pPZ5rY/TJ1AVNVJ
 HXZ1Dgp63s8qiDvImqjG0snJIPR6T846XHB6ATG42Bv1EzaDR4k/5VaTt66hfS/TKHge
 Q73Q==
X-Gm-Message-State: AOJu0Yz3qqWgJTGEMKwIDdTBhWapDElaWcrI4um8328ae37SeGN9gqGZ
 MDW7nC8TS7Kakgl4HGzbVYxulkkuQ351u9c3E1SbIWB4hxmq6amtDablAbBuN2BWmBLH7fLlmgR
 AOVTO72Ylj3/CJO0uwn2Ei5PEytFknLC73WVmanMJrvx5eqmYaIN//CIA
X-Google-Smtp-Source: AGHT+IEqI6q+d4rPQq+cqfs5XkLI0OXjXRHdq7uomi0DFfvvZvWu3rl66PxkpzccOjwzbAJbaZUficYCBOSk
X-Received: by 2002:a05:6e02:2149:b0:36b:329c:2b2e with SMTP id
 d9-20020a056e02214900b0036b329c2b2emr1707690ilv.14.1714621520701; 
 Wed, 01 May 2024 20:45:20 -0700 (PDT)
Received: from postal.iol.unh.edu (postal.iol.unh.edu.
 [2606:4100:3880:1234::84]) by smtp-relay.gmail.com with ESMTPS id
 gz15-20020a0566386b0f00b004851ce67ff2sm2497jab.78.2024.05.01.20.45.20
 (version=TLS1_2 cipher=ECDHE-ECDSA-AES128-GCM-SHA256 bits=128/128);
 Wed, 01 May 2024 20:45:20 -0700 (PDT)
X-Relaying-Domain: iol.unh.edu
Date: Wed, 01 May 2024 20:45:20 -0700 (PDT)
Message-ID: <66330c50.050a0220.18853.0367SMTPIN_ADDED_MISSING@mx.google.com>
Received: from [172.21.0.6] (unknown [172.18.0.240])
 by postal.iol.unh.edu (Postfix) with ESMTP id 054476052514;
 Wed,  1 May 2024 23:45:20 -0400 (EDT)
Subject: |SUCCESS| pw139786-139794 [PATCH] [v11,9/9] net/tap: update document
From: dpdklab@iol.unh.edu
To: Test Report <test-report@dpdk.org>
Cc: dpdk-test-reports@iol.unh.edu
In-Reply-To: <20240502025201.28322-10-stephen@networkplumber.org>
References: <20240502025201.28322-10-stephen@networkplumber.org>
Content-Type: text/plain
X-BeenThere: test-report@dpdk.org
X-Mailman-Version: 2.1.29
Precedence: list
List-Id: automatic DPDK test reports <test-report.dpdk.org>
List-Unsubscribe: <https://mails.dpdk.org/options/test-report>,
 <mailto:test-report-request@dpdk.org?subject=unsubscribe>
List-Archive: <http://mails.dpdk.org/archives/test-report/>
List-Post: <mailto:test-report@dpdk.org>
List-Help: <mailto:test-report-request@dpdk.org?subject=help>
List-Subscribe: <https://mails.dpdk.org/listinfo/test-report>,
 <mailto:test-report-request@dpdk.org?subject=subscribe>
Errors-To: test-report-bounces@dpdk.org

Test-Label: iol-compile-arm64-testing
Test-Status: SUCCESS
http://dpdk.org/patch/139794

_Testing PASS_

Submitter: Stephen Hemminger <stephen@networkplumber.org>
Date: Thursday, May 02 2024 02:49:28 
DPDK git baseline: Repo:dpdk
  Branch: master
  CommitID:7e06c0de1952d3109a5b0c4779d7e7d8059c9d78

139786-139794 --> testing pass

Test environment and result as below:

+----------------------------------------+--------------------+
|              Environment               | dpdk_meson_compile |
+========================================+====================+
| Ubuntu 20.04 ARM SVE                   | PASS               |
+----------------------------------------+--------------------+
| Debian 12 with MUSDK                   | PASS               |
+----------------------------------------+--------------------+
| Fedora 38 (ARM)                        | PASS               |
+----------------------------------------+--------------------+
| Ubuntu 20.04 (ARM)                     | PASS               |
+----------------------------------------+--------------------+
| Fedora 37 (ARM)                        | PASS               |
+----------------------------------------+--------------------+
| CentOS Stream 9 (ARM)                  | PASS               |
+----------------------------------------+--------------------+
| Debian 11 (Buster) (ARM)               | PASS               |
+----------------------------------------+--------------------+
| Ubuntu 20.04 ARM GCC Cross Compile     | PASS               |
+----------------------------------------+--------------------+
| Debian 12 (arm)                        | PASS               |
+----------------------------------------+--------------------+
| Ubuntu 20.04 aarch32 GCC Cross Compile | PASS               |
+----------------------------------------+--------------------+
| Fedora 39 (ARM)                        | PASS               |
+----------------------------------------+--------------------+


Ubuntu 20.04 ARM SVE
	Kernel: 5.4.0-167-generic
	Compiler: gcc (Ubuntu 10.5.0-1ubuntu1~20.04) 10.5.0

Debian 12 with MUSDK
	Kernel: Container Host Kernel
	Compiler: gcc 12.2.0

Fedora 38 (ARM)
	Kernel: Depends on container host
	Compiler: gcc 13.2.1

Ubuntu 20.04 (ARM)
	Kernel: Container Host Kernel
	Compiler: gcc 9.4.0

Fedora 37 (ARM)
	Kernel: Depends on container host
	Compiler: gcc 12.3.1

CentOS Stream 9 (ARM)
	Kernel: Container Host Kernel
	Compiler: gcc 11.4.1

Debian 11 (Buster) (ARM)
	Kernel: Container Host Kernel
	Compiler: gcc 10.2.1

Ubuntu 20.04 ARM GCC Cross Compile
	Kernel: 5.4.0-167-generic
	Compiler: aarch64-linux-gnu-gcc (Ubuntu 9.4.0-1ubuntu1~20.04.2) 9.4.0

Debian 12 (arm)
	Kernel: Container Host Kernel
	Compiler: gcc 12.2.0

Ubuntu 20.04 aarch32 GCC Cross Compile
	Kernel: 5.4.0-167-generic
	Compiler: gcc 9.4.0

Fedora 39 (ARM)
	Kernel: Depends on container host
	Compiler: gcc 13.2.1

To view detailed results, visit:
https://lab.dpdk.org/results/dashboard/patchsets/29895/

UNH-IOL DPDK Community Lab

To manage your email subscriptions, visit: 
https://lab.dpdk.org/results/dashboard/preferences/subscriptions/