From mboxrd@z Thu Jan  1 00:00:00 1970
Return-Path: <test-report-bounces@dpdk.org>
Received: from mails.dpdk.org (mails.dpdk.org [217.70.189.124])
	by inbox.dpdk.org (Postfix) with ESMTP id CE68243F64
	for <public@inbox.dpdk.org>; Thu,  2 May 2024 06:38:45 +0200 (CEST)
Received: from mails.dpdk.org (localhost [127.0.0.1])
	by mails.dpdk.org (Postfix) with ESMTP id C5E41402C0;
	Thu,  2 May 2024 06:38:45 +0200 (CEST)
Received: from mail-ot1-f98.google.com (mail-ot1-f98.google.com
 [209.85.210.98]) by mails.dpdk.org (Postfix) with ESMTP id 24B7540299
 for <test-report@dpdk.org>; Thu,  2 May 2024 06:38:44 +0200 (CEST)
Received: by mail-ot1-f98.google.com with SMTP id
 46e09a7af769-6ef9b3bde1bso284185a34.2
 for <test-report@dpdk.org>; Wed, 01 May 2024 21:38:44 -0700 (PDT)
DKIM-Signature: v=1; a=rsa-sha256; c=relaxed/relaxed;
 d=iol.unh.edu; s=unh-iol; t=1714624723; x=1715229523; darn=dpdk.org;
 h=references:in-reply-to:cc:to:from:subject:message-id:date:from:to
 :cc:subject:date:message-id:reply-to;
 bh=gECcbzqAJiQjOku5PZnVTjMKev6r+Vkm6AH4pXxnUsM=;
 b=fcyLKvy8z3dGDmExMVXcFA5jLskG+r1/XIWcdIHVQQh9TH7QYL4CCIF+p1uwUiuYhd
 Cuq96ViuNW8LnD2MgFsXjjMTJCNHKLiZGGw11x5X3O9YJZYjbgitk2Z+coKkmzUnLib9
 mDrzir0bw8Q+VAG9t227FnSAat9mb2ESUKCPI=
X-Google-DKIM-Signature: v=1; a=rsa-sha256; c=relaxed/relaxed;
 d=1e100.net; s=20230601; t=1714624723; x=1715229523;
 h=references:in-reply-to:cc:to:from:subject:message-id:date
 :x-gm-message-state:from:to:cc:subject:date:message-id:reply-to;
 bh=gECcbzqAJiQjOku5PZnVTjMKev6r+Vkm6AH4pXxnUsM=;
 b=S8boXbfOt/8OlmvoiapQW86acNNqDMrhtOY8//tEJyH2LXh2kWlJR1MQ3oRcck/ll7
 cZC1LoDUbWjj6Vex5cqMT9BYJTn3gbdDWFsZ6MEkIKSRu7wCrJ//79iLwS7WUvKHzD2R
 nOpX5IwnrbDWuIidLrZDMeOTotUk7n/t9m+IOPY/FjtbqGzIhhE+VKVCseaRhKtk+RXd
 BUkRs6HmSuanrGjblydRFwhaZ0eoghBZmB1TiKcHtvhY9vmKugyeTkzqmgoTT0jHiigZ
 hpK4f7BnB7Mdl5dgyVHcvcT1Str43+w4zstGSPITmFh2RsZlrlKOmJE4HqOK3U+7MIZj
 gLcg==
X-Gm-Message-State: AOJu0YwjIb0gz5N09PBBqw9Nq8hOTeH1xEv9HdddrTNAGkIriIqzstIa
 SrIK7U5YqMwogT71zKelGv9wK96FK4vAVfkCKdBY8fEjEc/iJEuWgPecTDf/KSUBSmwpty55Plw
 NugbyryUpJWLTOfF+BLbGmHvHBtFSEtSXsfwXq+gr14MdRizEY3nkjKoC
X-Google-Smtp-Source: AGHT+IHb5LO+mIyhTdptknZ18eVlvEDos2Lo3mKK9p4vfKNmDApqQGNroqYXfubnmMiI+Q1BW0lsJdVb/Zom
X-Received: by 2002:a05:6870:3309:b0:22e:e1e5:b8d with SMTP id
 x9-20020a056870330900b0022ee1e50b8dmr1323446oae.51.1714624723628; 
 Wed, 01 May 2024 21:38:43 -0700 (PDT)
Received: from postal.iol.unh.edu (postal.iol.unh.edu.
 [2606:4100:3880:1234::84]) by smtp-relay.gmail.com with ESMTPS id
 ea28-20020a056870071c00b0023d393e7bc4sm21627oab.1.2024.05.01.21.38.43
 (version=TLS1_2 cipher=ECDHE-ECDSA-AES128-GCM-SHA256 bits=128/128);
 Wed, 01 May 2024 21:38:43 -0700 (PDT)
X-Relaying-Domain: iol.unh.edu
Date: Wed, 01 May 2024 21:38:43 -0700 (PDT)
Message-ID: <663318d3.050a0220.c8d1f.0cf0SMTPIN_ADDED_MISSING@mx.google.com>
Received: from [172.17.0.2] (unknown [172.18.0.217])
 by postal.iol.unh.edu (Postfix) with ESMTP id 1D83F6052514;
 Thu,  2 May 2024 00:38:43 -0400 (EDT)
Subject: |SUCCESS| pw139783-139785 [PATCH] [v4,3/3] event/dlb2: enhance DLB c
From: dpdklab@iol.unh.edu
To: Test Report <test-report@dpdk.org>
Cc: dpdk-test-reports@iol.unh.edu
In-Reply-To: <20240501194620.1199357-4-abdullah.sevincer@intel.com>
References: <20240501194620.1199357-4-abdullah.sevincer@intel.com>
Content-Type: text/plain
X-BeenThere: test-report@dpdk.org
X-Mailman-Version: 2.1.29
Precedence: list
List-Id: automatic DPDK test reports <test-report.dpdk.org>
List-Unsubscribe: <https://mails.dpdk.org/options/test-report>,
 <mailto:test-report-request@dpdk.org?subject=unsubscribe>
List-Archive: <http://mails.dpdk.org/archives/test-report/>
List-Post: <mailto:test-report@dpdk.org>
List-Help: <mailto:test-report-request@dpdk.org?subject=help>
List-Subscribe: <https://mails.dpdk.org/listinfo/test-report>,
 <mailto:test-report-request@dpdk.org?subject=subscribe>
Errors-To: test-report-bounces@dpdk.org

Test-Label: iol-unit-amd64-testing
Test-Status: SUCCESS
http://dpdk.org/patch/139785

_Testing PASS_

Submitter: Abdullah Sevincer <abdullah.sevincer@intel.com>
Date: Wednesday, May 01 2024 19:46:20 
DPDK git baseline: Repo:dpdk
  Branch: master
  CommitID:7e06c0de1952d3109a5b0c4779d7e7d8059c9d78

139783-139785 --> testing pass

Test environment and result as below:

+-----------------+----------------+
|   Environment   | dpdk_unit_test |
+=================+================+
| CentOS Stream 9 | PASS           |
+-----------------+----------------+
| Debian 12       | PASS           |
+-----------------+----------------+
| CentOS Stream 8 | PASS           |
+-----------------+----------------+
| Fedora 38       | PASS           |
+-----------------+----------------+
| Debian Bullseye | PASS           |
+-----------------+----------------+
| Fedora 37       | PASS           |
+-----------------+----------------+
| RHEL8           | PASS           |
+-----------------+----------------+
| Ubuntu 22.04    | PASS           |
+-----------------+----------------+
| Fedora 39       | PASS           |
+-----------------+----------------+


CentOS Stream 9
	Kernel: 5.4.0-167-generic
	Compiler: gcc 11.4.1 20230605

Debian 12
	Kernel: Container Host Kernel
	Compiler: gcc 10.2.1

CentOS Stream 8
	Kernel: 5.4.0-167-generic
	Compiler: gcc 8.5.0 20210514

Fedora 38
	Kernel: Depends on container host
	Compiler: gcc 13.2.1

Debian Bullseye
	Kernel: 5.4.0-167-generic
	Compiler: gcc 10.2.1-6

Fedora 37
	Kernel: Depends on container host system
	Compiler: gcc 12.3.1

RHEL8
	Kernel: 5.4.0-167-generic
	Compiler: gcc 8.5.0 20210514 (Red Hat 8.5.0-20)

Ubuntu 22.04
	Kernel: 5.4.0-167-generic
	Compiler: gcc 11.4.0

Fedora 39
	Kernel: Depends on container host
	Compiler: gcc 13.2.1

To view detailed results, visit:
https://lab.dpdk.org/results/dashboard/patchsets/29894/

UNH-IOL DPDK Community Lab

To manage your email subscriptions, visit: 
https://lab.dpdk.org/results/dashboard/preferences/subscriptions/