From mboxrd@z Thu Jan  1 00:00:00 1970
Return-Path: <test-report-bounces@dpdk.org>
Received: from mails.dpdk.org (mails.dpdk.org [217.70.189.124])
	by inbox.dpdk.org (Postfix) with ESMTP id AF13943F6D
	for <public@inbox.dpdk.org>; Fri,  3 May 2024 00:22:03 +0200 (CEST)
Received: from mails.dpdk.org (localhost [127.0.0.1])
	by mails.dpdk.org (Postfix) with ESMTP id AB24A40291;
	Fri,  3 May 2024 00:22:03 +0200 (CEST)
Received: from mail-qt1-f225.google.com (mail-qt1-f225.google.com
 [209.85.160.225])
 by mails.dpdk.org (Postfix) with ESMTP id 1A8D74026E
 for <test-report@dpdk.org>; Fri,  3 May 2024 00:22:03 +0200 (CEST)
Received: by mail-qt1-f225.google.com with SMTP id
 d75a77b69052e-4375ddb9eaeso52536931cf.3
 for <test-report@dpdk.org>; Thu, 02 May 2024 15:22:03 -0700 (PDT)
DKIM-Signature: v=1; a=rsa-sha256; c=relaxed/relaxed;
 d=iol.unh.edu; s=unh-iol; t=1714688522; x=1715293322; darn=dpdk.org;
 h=references:in-reply-to:cc:to:from:subject:message-id:date:from:to
 :cc:subject:date:message-id:reply-to;
 bh=fWJoYNONTtEZ8QwtzMrcKojprSkF3Ul9oVQ4320YX1c=;
 b=D167AjDevvMrDobjRIDEdwSBLNtYy7/MMJ5sadkU1Rla3WFewVL88UWcI5L4w6wIte
 YiW4veADSAzgvaCLY5SI6c59MZwo44kq3Ak3NNZ55C3hr6D+a+Vt3RM1jjZ/0B75Il77
 WU69Lb9cLHVBUsp1H7lsvA0KA/RR+Vih7thl4=
X-Google-DKIM-Signature: v=1; a=rsa-sha256; c=relaxed/relaxed;
 d=1e100.net; s=20230601; t=1714688522; x=1715293322;
 h=references:in-reply-to:cc:to:from:subject:message-id:date
 :x-gm-message-state:from:to:cc:subject:date:message-id:reply-to;
 bh=fWJoYNONTtEZ8QwtzMrcKojprSkF3Ul9oVQ4320YX1c=;
 b=Yt9snME5lXZPneRowYCBlNXXfe1jZ8vdjf5YM5AzjPeVAiOI6oPEq3bsky4IN3npyy
 Z1XQ/1ZIUk8/efP1wpd/HMG+rBAsN5veHAps1oq1OO0MtcoNfgt2vse4UWoNIXu88WWv
 HDS16g/Nysd6emGgB7AuZpPFPLJOOMnR3HN4F2y9SYmFPN44KJChBo+g97yoQ/3Ru2M5
 L1baLQbNAwXo4hyoDob6naoEWjjRyLn2MNA1d7w47NO4WsGF9P2YjhbMmAN13wH+6Vzr
 mpKME/83jmo3rie9ZhU5bqdyOuIDhxx136qjPl6hie7A3TYx8zGqmofQ+85xkRLlkxJ5
 HROw==
X-Gm-Message-State: AOJu0YzboNBLN8jEky8bTkJu7Is95YLbOVRXW9CdE1ELfMHaZKbrK5e+
 ZhBNtGNfCEXJXPB/Qpr3OxH/8ilFBxEClmVdHIXivjL7m+dmEM50D9F5yoeMdYXLIdrsDLjS9n2
 osUqvkiMIkHGBVfRVn1VxxBePq2VOcdK0eVyjPy8g
X-Google-Smtp-Source: AGHT+IGr74bQzfmQUT3/+MGf1iTw8zIeZY82qYqpn2TfVNYVAYFn3cp+JbuPIg9/HSdl/VxSdg/oeY462g55
X-Received: by 2002:ac8:5fca:0:b0:43a:f30a:d6d2 with SMTP id
 k10-20020ac85fca000000b0043af30ad6d2mr1040427qta.8.1714688522489; 
 Thu, 02 May 2024 15:22:02 -0700 (PDT)
Received: from postal.iol.unh.edu (postal.iol.unh.edu. [132.177.123.84])
 by smtp-relay.gmail.com with ESMTPS id
 j11-20020ac85f8b000000b0043ac04e6983sm83946qta.16.2024.05.02.15.22.02
 (version=TLS1_2 cipher=ECDHE-ECDSA-AES128-GCM-SHA256 bits=128/128);
 Thu, 02 May 2024 15:22:02 -0700 (PDT)
X-Relaying-Domain: iol.unh.edu
Date: Thu, 02 May 2024 15:22:02 -0700 (PDT)
Message-ID: <6634120a.c80a0220.27c99.46cbSMTPIN_ADDED_MISSING@mx.google.com>
Received: from [172.21.0.7] (unknown [172.18.0.240])
 by postal.iol.unh.edu (Postfix) with ESMTP id DC9D66052514;
 Thu,  2 May 2024 18:22:01 -0400 (EDT)
Subject: |SUCCESS| pw139802 [PATCH] eal/arm: replace RTE_BUILD_BUG on non-con
From: dpdklab@iol.unh.edu
To: Test Report <test-report@dpdk.org>
Cc: dpdk-test-reports@iol.unh.edu
In-Reply-To: <20240502142116.63760-1-daniel.gregory@bytedance.com>
References: <20240502142116.63760-1-daniel.gregory@bytedance.com>
Content-Type: text/plain
X-BeenThere: test-report@dpdk.org
X-Mailman-Version: 2.1.29
Precedence: list
List-Id: automatic DPDK test reports <test-report.dpdk.org>
List-Unsubscribe: <https://mails.dpdk.org/options/test-report>,
 <mailto:test-report-request@dpdk.org?subject=unsubscribe>
List-Archive: <http://mails.dpdk.org/archives/test-report/>
List-Post: <mailto:test-report@dpdk.org>
List-Help: <mailto:test-report-request@dpdk.org?subject=help>
List-Subscribe: <https://mails.dpdk.org/listinfo/test-report>,
 <mailto:test-report-request@dpdk.org?subject=subscribe>
Errors-To: test-report-bounces@dpdk.org

Test-Label: iol-abi-testing
Test-Status: SUCCESS
http://dpdk.org/patch/139802

_Testing PASS_

Submitter: Daniel Gregory <daniel.gregory@bytedance.com>
Date: Thursday, May 02 2024 14:21:16 
DPDK git baseline: Repo:dpdk
  Branch: master
  CommitID:7e06c0de1952d3109a5b0c4779d7e7d8059c9d78

139802 --> testing pass

Test environment and result as below:

+------------------+----------+
|   Environment    | abi_test |
+==================+==========+
| CentOS Stream 9  | PASS     |
+------------------+----------+
| Ubuntu 22.04     | PASS     |
+------------------+----------+
| Fedora 38        | PASS     |
+------------------+----------+
| openSUSE Leap 15 | PASS     |
+------------------+----------+
| Fedora 39        | PASS     |
+------------------+----------+
| CentOS Stream 8  | PASS     |
+------------------+----------+
| Debian Bullseye  | PASS     |
+------------------+----------+
| RHEL8            | PASS     |
+------------------+----------+
| Fedora 37        | PASS     |
+------------------+----------+
| Debian 12        | PASS     |
+------------------+----------+


CentOS Stream 9
	Kernel: 5.4.0-167-generic
	Compiler: gcc 11.4.1 20230605

Ubuntu 22.04
	Kernel: 5.4.0-167-generic
	Compiler: gcc 11.4.0

Fedora 38
	Kernel: Depends on container host
	Compiler: clang 16.0.6

openSUSE Leap 15
	Kernel: 5.4.0-167-generic
	Compiler: gcc 7.5.0

Fedora 39
	Kernel: Depends on container host
	Compiler: clang 17.0.6

CentOS Stream 8
	Kernel: 5.4.0-167-generic
	Compiler: gcc 8.5.0 20210514

Debian Bullseye
	Kernel: 5.4.0-167-generic
	Compiler: gcc 10.2.1-6

RHEL8
	Kernel: 5.4.0-167-generic
	Compiler: gcc 8.5.0 20210514 (Red Hat 8.5.0-20)

Fedora 37
	Kernel: Depends on container host system
	Compiler: gcc 12.3.1

Debian 12
	Kernel: Container Host Kernel
	Compiler: gcc 10.2.1

To view detailed results, visit:
https://lab.dpdk.org/results/dashboard/patchsets/29898/

UNH-IOL DPDK Community Lab

To manage your email subscriptions, visit: 
https://lab.dpdk.org/results/dashboard/preferences/subscriptions/