From mboxrd@z Thu Jan  1 00:00:00 1970
Return-Path: <test-report-bounces@dpdk.org>
Received: from mails.dpdk.org (mails.dpdk.org [217.70.189.124])
	by inbox.dpdk.org (Postfix) with ESMTP id 9D12F43F72
	for <public@inbox.dpdk.org>; Fri,  3 May 2024 08:58:31 +0200 (CEST)
Received: from mails.dpdk.org (localhost [127.0.0.1])
	by mails.dpdk.org (Postfix) with ESMTP id 99893402D1;
	Fri,  3 May 2024 08:58:31 +0200 (CEST)
Received: from mail-yw1-f226.google.com (mail-yw1-f226.google.com
 [209.85.128.226])
 by mails.dpdk.org (Postfix) with ESMTP id 02183402CF
 for <test-report@dpdk.org>; Fri,  3 May 2024 08:58:30 +0200 (CEST)
Received: by mail-yw1-f226.google.com with SMTP id
 00721157ae682-617e42a3f94so93626137b3.2
 for <test-report@dpdk.org>; Thu, 02 May 2024 23:58:29 -0700 (PDT)
DKIM-Signature: v=1; a=rsa-sha256; c=relaxed/relaxed;
 d=iol.unh.edu; s=unh-iol; t=1714719509; x=1715324309; darn=dpdk.org;
 h=references:in-reply-to:cc:to:from:subject:message-id:date:from:to
 :cc:subject:date:message-id:reply-to;
 bh=fHQ379lhSqh0TM0DUOnd8aHLLF9YrAxUNlXM+f/tIJI=;
 b=Hb990aFvJcbDT6SxmZTU120DwZhBR61UUtiJom8arI9sfKLAYDvOc9IWHyWpKgg4Yu
 bG3Q77LWoO6QzBPKvyrcObtphgAtpEZ55vAcrKXXB9Kzg8AX1IchiReedQQ9kRqRsXJP
 XCyIsTStd/Khq7Iv+DSjX2+i1t7z52Y1a9NLI=
X-Google-DKIM-Signature: v=1; a=rsa-sha256; c=relaxed/relaxed;
 d=1e100.net; s=20230601; t=1714719509; x=1715324309;
 h=references:in-reply-to:cc:to:from:subject:message-id:date
 :x-gm-message-state:from:to:cc:subject:date:message-id:reply-to;
 bh=fHQ379lhSqh0TM0DUOnd8aHLLF9YrAxUNlXM+f/tIJI=;
 b=mKiBgcWp007MyFsSX7NbnchtaDhLT5A7cmu537SS3L8Av42rblx/uptvy6SMc/yXog
 4xpAlBNonWYyPcdI2LthEk5EUDtYl+9PVfa0Y7/BVdl+uit5Yn6XWv/lvp6MiINuAFaJ
 lIGuHv/EkxAtvqyptQmO4Ab4POn1PRJy2WSlxK/LfoJKd7/aorHG4cy5yaYfyUtsrvZh
 LjLpbkw6PKcRqJSegrdW1GelTZJ+risL+wiCZfmkqQfoWKDhPIBf3WM1r+7mDL9UhmLd
 YAvVAbWJzdJ0vkYw2enAfOvlvNFmYvjKy+QSETTC1AS65fS8s5TAV7WV+cgVQjnWIGX8
 UNVw==
X-Gm-Message-State: AOJu0YxFDDyvHEaTyFcjuwluAtRSjyPHn0XowLf/NBYuCTp5MxQwjVAe
 NVOJhUxAIqBxH/56daQIBmHQDvIphXGiaGu28BNIgEWDTBK+mHRbw+ZXKJB6SCmkcr8DUv5aDO/
 K7tIvYZcBgCfERqno5MxjxBz4fNc5n62Vf4n0PPYf
X-Google-Smtp-Source: AGHT+IGTRYRH+sc2DsVn1MIjvnvdHIroYsMhrWn3p7e+QHB3JQzadXCeHo3pvcy8Y6gVhwiPxB7c04tYPqro
X-Received: by 2002:a81:8496:0:b0:61b:3356:d28c with SMTP id
 u144-20020a818496000000b0061b3356d28cmr1558666ywf.2.1714719509295; 
 Thu, 02 May 2024 23:58:29 -0700 (PDT)
Received: from postal.iol.unh.edu (postal.iol.unh.edu. [132.177.123.84])
 by smtp-relay.gmail.com with ESMTPS id
 e203-20020a8169d4000000b0061be8f1a111sm200948ywc.67.2024.05.02.23.58.29
 (version=TLS1_2 cipher=ECDHE-ECDSA-AES128-GCM-SHA256 bits=128/128);
 Thu, 02 May 2024 23:58:29 -0700 (PDT)
X-Relaying-Domain: iol.unh.edu
Date: Thu, 02 May 2024 23:58:29 -0700 (PDT)
Message-ID: <66348b15.810a0220.957cc.cddaSMTPIN_ADDED_MISSING@mx.google.com>
Received: from [172.21.0.7] (unknown [172.18.0.240])
 by postal.iol.unh.edu (Postfix) with ESMTP id EC7C66052514;
 Fri,  3 May 2024 02:58:28 -0400 (EDT)
Subject: |SUCCESS| pw139814-139825 [PATCH] [v12,12/12] net/tap: update docume
From: dpdklab@iol.unh.edu
To: Test Report <test-report@dpdk.org>
Cc: dpdk-test-reports@iol.unh.edu
In-Reply-To: <20240502213618.11391-13-stephen@networkplumber.org>
References: <20240502213618.11391-13-stephen@networkplumber.org>
Content-Type: text/plain
X-BeenThere: test-report@dpdk.org
X-Mailman-Version: 2.1.29
Precedence: list
List-Id: automatic DPDK test reports <test-report.dpdk.org>
List-Unsubscribe: <https://mails.dpdk.org/options/test-report>,
 <mailto:test-report-request@dpdk.org?subject=unsubscribe>
List-Archive: <http://mails.dpdk.org/archives/test-report/>
List-Post: <mailto:test-report@dpdk.org>
List-Help: <mailto:test-report-request@dpdk.org?subject=help>
List-Subscribe: <https://mails.dpdk.org/listinfo/test-report>,
 <mailto:test-report-request@dpdk.org?subject=subscribe>
Errors-To: test-report-bounces@dpdk.org

Test-Label: iol-abi-testing
Test-Status: SUCCESS
http://dpdk.org/patch/139825

_Testing PASS_

Submitter: Stephen Hemminger <stephen@networkplumber.org>
Date: Thursday, May 02 2024 21:31:48 
DPDK git baseline: Repo:dpdk
  Branch: master
  CommitID:7e06c0de1952d3109a5b0c4779d7e7d8059c9d78

139814-139825 --> testing pass

Test environment and result as below:

+-----------------+----------+
|   Environment   | abi_test |
+=================+==========+
| CentOS Stream 8 | PASS     |
+-----------------+----------+
| Fedora 38       | PASS     |
+-----------------+----------+
| Fedora 39       | PASS     |
+-----------------+----------+
| Ubuntu 22.04    | PASS     |
+-----------------+----------+
| CentOS Stream 9 | PASS     |
+-----------------+----------+
| Debian Bullseye | PASS     |
+-----------------+----------+


CentOS Stream 8
	Kernel: 5.4.0-167-generic
	Compiler: gcc 8.5.0 20210514

Fedora 38
	Kernel: Depends on container host
	Compiler: gcc 13.2.1

Fedora 39
	Kernel: Depends on container host
	Compiler: gcc 13.2.1

Ubuntu 22.04
	Kernel: 5.4.0-167-generic
	Compiler: gcc 11.4.0

CentOS Stream 9
	Kernel: 5.4.0-167-generic
	Compiler: gcc 11.4.1 20230605

Debian Bullseye
	Kernel: 5.4.0-167-generic
	Compiler: gcc 10.2.1-6

To view detailed results, visit:
https://lab.dpdk.org/results/dashboard/patchsets/29904/

UNH-IOL DPDK Community Lab

To manage your email subscriptions, visit: 
https://lab.dpdk.org/results/dashboard/preferences/subscriptions/