From mboxrd@z Thu Jan  1 00:00:00 1970
Return-Path: <test-report-bounces@dpdk.org>
Received: from mails.dpdk.org (mails.dpdk.org [217.70.189.124])
	by inbox.dpdk.org (Postfix) with ESMTP id 8841543F72
	for <public@inbox.dpdk.org>; Fri,  3 May 2024 09:01:40 +0200 (CEST)
Received: from mails.dpdk.org (localhost [127.0.0.1])
	by mails.dpdk.org (Postfix) with ESMTP id 83F31402D1;
	Fri,  3 May 2024 09:01:40 +0200 (CEST)
Received: from mail-io1-f98.google.com (mail-io1-f98.google.com
 [209.85.166.98]) by mails.dpdk.org (Postfix) with ESMTP id C64E7402CF
 for <test-report@dpdk.org>; Fri,  3 May 2024 09:01:39 +0200 (CEST)
Received: by mail-io1-f98.google.com with SMTP id
 ca18e2360f4ac-7dbc33bdf08so382040739f.1
 for <test-report@dpdk.org>; Fri, 03 May 2024 00:01:39 -0700 (PDT)
DKIM-Signature: v=1; a=rsa-sha256; c=relaxed/relaxed;
 d=iol.unh.edu; s=unh-iol; t=1714719699; x=1715324499; darn=dpdk.org;
 h=references:in-reply-to:cc:to:from:subject:message-id:date:from:to
 :cc:subject:date:message-id:reply-to;
 bh=3V91z/2v4OJo32inY62i8cUgSpAkusx0oMAA0sbq5bQ=;
 b=XpERZ2EpAxUNmZDOuWEcZGq0KJJ6f/++ZPphy2Ir0gvBLsOfKLXP6XZHmNCwAzXr3Y
 JcP/pr0BzxMMMLSlmh42dFh8joDXknXWCk7U9wwGaHmngPuWwIHgDCNjT+njI7cu209D
 NhlpEmZ2fPWrfIiW57YT7UsInzau6JaLqUX5A=
X-Google-DKIM-Signature: v=1; a=rsa-sha256; c=relaxed/relaxed;
 d=1e100.net; s=20230601; t=1714719699; x=1715324499;
 h=references:in-reply-to:cc:to:from:subject:message-id:date
 :x-gm-message-state:from:to:cc:subject:date:message-id:reply-to;
 bh=3V91z/2v4OJo32inY62i8cUgSpAkusx0oMAA0sbq5bQ=;
 b=rdm2REZhDHozrX6JdEtZtShxJXeAFoWOpHZiNiyP9YYjXTLyupqzUfn3sLTXLTz18r
 fF3J+5ftEs6NTWKc+L3uw0Ak7wxSjGprMBywgyEZzIA9ITFzGrY0hdz3AWcci7enaE34
 L41TOUQ8MCCspPGLf+3AyIXK2hm2x+Bq7N18mr7cJMT6A8W8m6TM1dx/Dt7vm7P9DVar
 WzA3sG5tdvP0GzCIBY21AxiPhcynypTYhwzVrX+9K+vCUJ3+bYNc4FXixJWsV2ZH1sIl
 OECBNjISa8v8YibBDrdBWakJrv9GXwP/xNaG63MuEt9DopDfAO0Pp7Wt2QB2t3PyyW3V
 6X7w==
X-Gm-Message-State: AOJu0YzuX4mkjHP7r9/d1D9r8JxvLKa6+j7qn3DCNAqe4dA19QjQuWF1
 mcq/mvZhqPI6fj3MTDgK4EtuSjqlPXXBVO8fzBaQdfE9OLptA45nPeOaqzKbRopXfJxAExYxI01
 WQdIfAg9ukx01I3aRE0v/xJHFT+pGrX4sHelVBcAb
X-Google-Smtp-Source: AGHT+IGqrjV18KrHFLh/DFlQiAU3Mo0OiGfzHCEH01GKJXoLdRMwDaDbGaQXK59E2lQGXudUvYUyIwGjd8Xg
X-Received: by 2002:a5d:894f:0:b0:7de:b27e:349a with SMTP id
 b15-20020a5d894f000000b007deb27e349amr1852861iot.1.1714719699210; 
 Fri, 03 May 2024 00:01:39 -0700 (PDT)
Received: from postal.iol.unh.edu (postal.iol.unh.edu. [132.177.123.84])
 by smtp-relay.gmail.com with ESMTPS id
 c2-20020a5d9a82000000b007dedbf30acdsm120167iom.11.2024.05.03.00.01.39
 (version=TLS1_2 cipher=ECDHE-ECDSA-AES128-GCM-SHA256 bits=128/128);
 Fri, 03 May 2024 00:01:39 -0700 (PDT)
X-Relaying-Domain: iol.unh.edu
Date: Fri, 03 May 2024 00:01:39 -0700 (PDT)
Message-ID: <66348bd3.5d0a0220.cb42c.7104SMTPIN_ADDED_MISSING@mx.google.com>
Received: from [172.21.0.6] (unknown [172.18.0.240])
 by postal.iol.unh.edu (Postfix) with ESMTP id B4FD56052514;
 Fri,  3 May 2024 03:01:38 -0400 (EDT)
Subject: |SUCCESS| pw139826 [PATCH] [v3] cmdline: increase input buffer size
From: dpdklab@iol.unh.edu
To: Test Report <test-report@dpdk.org>
Cc: dpdk-test-reports@iol.unh.edu
In-Reply-To: <20240503042715.344550-1-getelson@nvidia.com>
References: <20240503042715.344550-1-getelson@nvidia.com>
Content-Type: text/plain
X-BeenThere: test-report@dpdk.org
X-Mailman-Version: 2.1.29
Precedence: list
List-Id: automatic DPDK test reports <test-report.dpdk.org>
List-Unsubscribe: <https://mails.dpdk.org/options/test-report>,
 <mailto:test-report-request@dpdk.org?subject=unsubscribe>
List-Archive: <http://mails.dpdk.org/archives/test-report/>
List-Post: <mailto:test-report@dpdk.org>
List-Help: <mailto:test-report-request@dpdk.org?subject=help>
List-Subscribe: <https://mails.dpdk.org/listinfo/test-report>,
 <mailto:test-report-request@dpdk.org?subject=subscribe>
Errors-To: test-report-bounces@dpdk.org

Test-Label: iol-compile-amd64-testing
Test-Status: SUCCESS
http://dpdk.org/patch/139826

_Testing PASS_

Submitter: Gregory Etelson <getelson@nvidia.com>
Date: Friday, May 03 2024 04:27:14 
DPDK git baseline: Repo:dpdk
  Branch: master
  CommitID:7e06c0de1952d3109a5b0c4779d7e7d8059c9d78

139826 --> testing pass

Test environment and result as below:

+---------------------+--------------------+----------------------+-------------------+
|     Environment     | dpdk_meson_compile | dpdk_mingw64_compile | dpdk_msvc_compile |
+=====================+====================+======================+===================+
| FreeBSD 13.3        | PASS               | SKIPPED              | SKIPPED           |
+---------------------+--------------------+----------------------+-------------------+
| Windows Server 2019 | PASS               | PASS                 | SKIPPED           |
+---------------------+--------------------+----------------------+-------------------+
| Windows Server 2022 | PASS               | PASS                 | PASS              |
+---------------------+--------------------+----------------------+-------------------+
| FreeBSD 14.0        | PASS               | SKIPPED              | SKIPPED           |
+---------------------+--------------------+----------------------+-------------------+
| CentOS Stream 8     | PASS               | SKIPPED              | SKIPPED           |
+---------------------+--------------------+----------------------+-------------------+
| Debian 12           | PASS               | SKIPPED              | SKIPPED           |
+---------------------+--------------------+----------------------+-------------------+
| Fedora 38           | PASS               | SKIPPED              | SKIPPED           |
+---------------------+--------------------+----------------------+-------------------+
| Debian Bullseye     | PASS               | SKIPPED              | SKIPPED           |
+---------------------+--------------------+----------------------+-------------------+
| Fedora 37           | PASS               | SKIPPED              | SKIPPED           |
+---------------------+--------------------+----------------------+-------------------+
| Ubuntu 22.04        | PASS               | SKIPPED              | SKIPPED           |
+---------------------+--------------------+----------------------+-------------------+
| openSUSE Leap 15    | PASS               | SKIPPED              | SKIPPED           |
+---------------------+--------------------+----------------------+-------------------+


FreeBSD 13.3
	Kernel: 13.3-RELEASE-p1
	Compiler: clang 17.0.6

Windows Server 2019
	Kernel: 10.0.17763
	Compiler: clang 14.0 and gcc 8.1.0 (MinGW)

Windows Server 2022
	Kernel: 10.0.20348.2031
	Compiler: clang 15.0.7, gcc 8.1.0 (MinGW), and MSVC VS 17.9

FreeBSD 14.0
	Kernel: 14.0
	Compiler: clang 16.0.6

CentOS Stream 8
	Kernel: 5.4.0-167-generic
	Compiler: gcc 8.5.0 20210514

Debian 12
	Kernel: Container Host Kernel
	Compiler: gcc 10.2.1

Fedora 38
	Kernel: Depends on container host
	Compiler: gcc 13.2.1

Debian Bullseye
	Kernel: 5.4.0-167-generic
	Compiler: gcc 10.2.1-6

Fedora 37
	Kernel: Depends on container host system
	Compiler: gcc 12.3.1

Ubuntu 22.04
	Kernel: 5.4.0-167-generic
	Compiler: gcc 11.4.0

openSUSE Leap 15
	Kernel: 5.4.0-167-generic
	Compiler: gcc 7.5.0

To view detailed results, visit:
https://lab.dpdk.org/results/dashboard/patchsets/29905/

UNH-IOL DPDK Community Lab

To manage your email subscriptions, visit: 
https://lab.dpdk.org/results/dashboard/preferences/subscriptions/