From mboxrd@z Thu Jan  1 00:00:00 1970
Return-Path: <test-report-bounces@dpdk.org>
Received: from mails.dpdk.org (mails.dpdk.org [217.70.189.124])
	by inbox.dpdk.org (Postfix) with ESMTP id CF98243F74
	for <public@inbox.dpdk.org>; Fri,  3 May 2024 10:44:27 +0200 (CEST)
Received: from mails.dpdk.org (localhost [127.0.0.1])
	by mails.dpdk.org (Postfix) with ESMTP id CA5A1402D1;
	Fri,  3 May 2024 10:44:27 +0200 (CEST)
Received: from mail-il1-f225.google.com (mail-il1-f225.google.com
 [209.85.166.225])
 by mails.dpdk.org (Postfix) with ESMTP id 4C2E1402CF
 for <test-report@dpdk.org>; Fri,  3 May 2024 10:44:26 +0200 (CEST)
Received: by mail-il1-f225.google.com with SMTP id
 e9e14a558f8ab-36c5eedd124so14522195ab.2
 for <test-report@dpdk.org>; Fri, 03 May 2024 01:44:26 -0700 (PDT)
DKIM-Signature: v=1; a=rsa-sha256; c=relaxed/relaxed;
 d=iol.unh.edu; s=unh-iol; t=1714725865; x=1715330665; darn=dpdk.org;
 h=references:in-reply-to:cc:to:from:subject:message-id:date:from:to
 :cc:subject:date:message-id:reply-to;
 bh=fH8js8hrAtUnPoTBGRFeMlhJxPYIlyeW/iV0RavGe4A=;
 b=NrSGfQqtFi4KE0oLdKjnLK9OKQN3w9UD/eAcs+AdU+yFC+VMEYhS9KbFAeaDUqH6Tu
 TboBMBP/hCvWWmZI9XjSwEfqj9K1axrb3yWveJ2UuVdlfN6ISe1ZUbvPLWc8uKksy7v8
 DKTMWSIRyQMp7XbDDZgoXQrji5OJzMuxz9fzM=
X-Google-DKIM-Signature: v=1; a=rsa-sha256; c=relaxed/relaxed;
 d=1e100.net; s=20230601; t=1714725865; x=1715330665;
 h=references:in-reply-to:cc:to:from:subject:message-id:date
 :x-gm-message-state:from:to:cc:subject:date:message-id:reply-to;
 bh=fH8js8hrAtUnPoTBGRFeMlhJxPYIlyeW/iV0RavGe4A=;
 b=Jgz7tHhAfhHJ25+o1QAIhA7TPPp8ThsLKzIXoy13U5HhAwt6W0rshzlIg5AWEZGqGo
 L6Q1EijHTn3Ta7HjTj4TLrKgj1Qhp5M1/rBJtMmzT0AlCnrZA+fxe4CjEL1O4qSbd1no
 O6Ge5EFrdaFXCk1JJlmVMGrrqfQe6PnuRAdQgnI17WncW2MNxiqu+7xa+uRVMga6cQiI
 t3nRcvCrolYGU4syjkjSegj0ilIYr3mmB0vIsn8Dl9ZTLnjZuzTEl0iJfhus8KzlFRGu
 LwEPcP6WA4Und3kZmaOjOpBS4hQTp4x47t+RgRb53Wx6QQ6UrJJSqatTyEKhgalhwiMO
 ibcQ==
X-Gm-Message-State: AOJu0YymHQVtl7xbnaZyT4Wvr4g6Ys41UwIt8CZsGmfN+E+PNvRYoWdP
 sol09N1SIr53BXUq6ak/Yw+noPjvHft/LQWtzSVHTJo0lomLx7K8X89Yt6SkplbpgQ/1Xd9CQYB
 3YxSDrDhoCbtdaT3N/vrxkZ2sB3w4Ymt4UEoHi24x
X-Google-Smtp-Source: AGHT+IHOzZZZ5GhbeQMP6zSQV0bZOSO4maEL+NiQ1nGK+WYkp+++jmI4h0tuCDkYBHLLGZfxghFLga3RtjgK
X-Received: by 2002:a05:6e02:1d18:b0:36c:3d57:d680 with SMTP id
 i24-20020a056e021d1800b0036c3d57d680mr2475151ila.15.1714725865710; 
 Fri, 03 May 2024 01:44:25 -0700 (PDT)
Received: from postal.iol.unh.edu (postal.iol.unh.edu. [132.177.123.84])
 by smtp-relay.gmail.com with ESMTPS id
 t2-20020a92c0c2000000b0036c4980fa77sm115312ilf.13.2024.05.03.01.44.25
 (version=TLS1_2 cipher=ECDHE-ECDSA-AES128-GCM-SHA256 bits=128/128);
 Fri, 03 May 2024 01:44:25 -0700 (PDT)
X-Relaying-Domain: iol.unh.edu
Date: Fri, 03 May 2024 01:44:25 -0700 (PDT)
Message-ID: <6634a3e9.920a0220.ec318.69e2SMTPIN_ADDED_MISSING@mx.google.com>
Received: from [172.21.0.7] (unknown [172.18.0.240])
 by postal.iol.unh.edu (Postfix) with ESMTP id 32EE86052514;
 Fri,  3 May 2024 04:44:25 -0400 (EDT)
Subject: |SUCCESS| pw139809-139812 [PATCH] [v2,5/5] baseband/acc: cosmetic lo
From: dpdklab@iol.unh.edu
To: Test Report <test-report@dpdk.org>
Cc: dpdk-test-reports@iol.unh.edu
In-Reply-To: <20240502204548.236729-6-hernan.vargas@intel.com>
References: <20240502204548.236729-6-hernan.vargas@intel.com>
Content-Type: text/plain
X-BeenThere: test-report@dpdk.org
X-Mailman-Version: 2.1.29
Precedence: list
List-Id: automatic DPDK test reports <test-report.dpdk.org>
List-Unsubscribe: <https://mails.dpdk.org/options/test-report>,
 <mailto:test-report-request@dpdk.org?subject=unsubscribe>
List-Archive: <http://mails.dpdk.org/archives/test-report/>
List-Post: <mailto:test-report@dpdk.org>
List-Help: <mailto:test-report-request@dpdk.org?subject=help>
List-Subscribe: <https://mails.dpdk.org/listinfo/test-report>,
 <mailto:test-report-request@dpdk.org?subject=subscribe>
Errors-To: test-report-bounces@dpdk.org

Test-Label: iol-abi-testing
Test-Status: SUCCESS
http://dpdk.org/patch/139812

_Testing PASS_

Submitter: Hernan Vargas <hernan.vargas@intel.com>
Date: Thursday, May 02 2024 20:45:48 
DPDK git baseline: Repo:dpdk
  Branch: master
  CommitID:98b4ecb4e4d73e93fdfa53f552b48d71104b445f

139809-139812 --> testing pass

Test environment and result as below:

+------------------+----------+
|   Environment    | abi_test |
+==================+==========+
| Fedora 39        | PASS     |
+------------------+----------+
| CentOS Stream 8  | PASS     |
+------------------+----------+
| Debian 12        | PASS     |
+------------------+----------+
| Ubuntu 22.04     | PASS     |
+------------------+----------+
| CentOS Stream 9  | PASS     |
+------------------+----------+
| Fedora 38        | PASS     |
+------------------+----------+
| Fedora 37        | PASS     |
+------------------+----------+
| openSUSE Leap 15 | PASS     |
+------------------+----------+
| RHEL8            | PASS     |
+------------------+----------+
| Debian Bullseye  | PASS     |
+------------------+----------+


Fedora 39
	Kernel: Depends on container host
	Compiler: clang 17.0.6

CentOS Stream 8
	Kernel: 5.4.0-167-generic
	Compiler: gcc 8.5.0 20210514

Debian 12
	Kernel: Container Host Kernel
	Compiler: gcc 10.2.1

Ubuntu 22.04
	Kernel: 5.4.0-167-generic
	Compiler: gcc 11.4.0

CentOS Stream 9
	Kernel: 5.4.0-167-generic
	Compiler: gcc 11.4.1 20230605

Fedora 38
	Kernel: Depends on container host
	Compiler: gcc 13.2.1

Fedora 37
	Kernel: Depends on container host system
	Compiler: gcc 12.3.1

openSUSE Leap 15
	Kernel: 5.4.0-167-generic
	Compiler: gcc 7.5.0

RHEL8
	Kernel: 5.4.0-167-generic
	Compiler: gcc 8.5.0 20210514 (Red Hat 8.5.0-20)

Debian Bullseye
	Kernel: 5.4.0-167-generic
	Compiler: gcc 10.2.1-6

To view detailed results, visit:
https://lab.dpdk.org/results/dashboard/patchsets/29903/

UNH-IOL DPDK Community Lab

To manage your email subscriptions, visit: 
https://lab.dpdk.org/results/dashboard/preferences/subscriptions/