From mboxrd@z Thu Jan  1 00:00:00 1970
Return-Path: <test-report-bounces@dpdk.org>
Received: from mails.dpdk.org (mails.dpdk.org [217.70.189.124])
	by inbox.dpdk.org (Postfix) with ESMTP id 5600A43F74
	for <public@inbox.dpdk.org>; Fri,  3 May 2024 11:31:21 +0200 (CEST)
Received: from mails.dpdk.org (localhost [127.0.0.1])
	by mails.dpdk.org (Postfix) with ESMTP id 2B164402D0;
	Fri,  3 May 2024 11:31:21 +0200 (CEST)
Received: from mail-yw1-f228.google.com (mail-yw1-f228.google.com
 [209.85.128.228])
 by mails.dpdk.org (Postfix) with ESMTP id 20230402C5
 for <test-report@dpdk.org>; Fri,  3 May 2024 11:31:20 +0200 (CEST)
Received: by mail-yw1-f228.google.com with SMTP id
 00721157ae682-61816fc256dso92094747b3.0
 for <test-report@dpdk.org>; Fri, 03 May 2024 02:31:20 -0700 (PDT)
DKIM-Signature: v=1; a=rsa-sha256; c=relaxed/relaxed;
 d=iol.unh.edu; s=unh-iol; t=1714728679; x=1715333479; darn=dpdk.org;
 h=references:in-reply-to:cc:to:from:subject:message-id:date:from:to
 :cc:subject:date:message-id:reply-to;
 bh=pZAh+pEaqpgTwL9mWsWDEtm/EJ+X2sbMPLKxjUWy/UM=;
 b=goGbEZJqoB4UtC7w54wnHt1+xSzFHgONHb303jFGbUltregMQ4Qxdj/TKHcjyav/UE
 quBVr5cD+2iIv9/vYMtVVz3uo6OOr2hHhC0Hi6/tbpgbJiyVx/cI4M1+sFa2xzuJizOX
 9d9BKz9YpYW/8OJIxClYGQJ1JmjqmaRXQvzPk=
X-Google-DKIM-Signature: v=1; a=rsa-sha256; c=relaxed/relaxed;
 d=1e100.net; s=20230601; t=1714728679; x=1715333479;
 h=references:in-reply-to:cc:to:from:subject:message-id:date
 :x-gm-message-state:from:to:cc:subject:date:message-id:reply-to;
 bh=pZAh+pEaqpgTwL9mWsWDEtm/EJ+X2sbMPLKxjUWy/UM=;
 b=RjPBnDID/P4SXcH6f9o95+mw2fWslk20emeFrIgSLGQyDGV5/X4zkRoOSH/Oc0tMJb
 H53NjeeAqpiJE/SYdVTTO4TMNDkCXCj4CyT3wzWGNRyRRdqi9MhKH0S7IWqi3vntRkgM
 n9AkLzLaAZsVueV/hxzmdDx7djaNe/wtDY7wGooNk22d54F5DTVIaAhlAMjiOxawVRB9
 77Qr+bGlK4WbBDtYjpOdhD8B1dshTwa3ocUXnj3wnhtPlyR+P7MjsaptlxEVPECxxGEn
 4EO85GlMhKDdCZ1fS99Vb2f9pVD3qPhdieG92FT5XC6YfscyxCzeR03n1EzcDzscg7l2
 RKKg==
X-Gm-Message-State: AOJu0YxhXnUc18yR2Gr0HBDFm4wrQTt4dJUTDW2Dni2oOLLUZMWKTb+x
 uYLJaod0p7sscx5SuIO3Lsn+9/sQIPw8pjoEudQtu+KUZFScmmRTTj793A8suzorM1GJSUE+mC8
 X69FPXY1+1S/ZHXBjGT0h9ukehcwPcb+kW/DeZB56ezaIZB68GMZLDGBc
X-Google-Smtp-Source: AGHT+IHteKk6NG4XMO01E1grlBonQWiJeYzBNTeiQudjahxnqK/guB3voGCn9m+EDIWHg0dHt7OHHIkyxBSh
X-Received: by 2002:a81:5289:0:b0:61b:1a4f:158b with SMTP id
 g131-20020a815289000000b0061b1a4f158bmr1969881ywb.6.1714728679345; 
 Fri, 03 May 2024 02:31:19 -0700 (PDT)
Received: from postal.iol.unh.edu (postal.iol.unh.edu.
 [2606:4100:3880:1234::84]) by smtp-relay.gmail.com with ESMTPS id
 z12-20020a81c20c000000b0061be758a355sm138195ywc.9.2024.05.03.02.31.19
 (version=TLS1_2 cipher=ECDHE-ECDSA-AES128-GCM-SHA256 bits=128/128);
 Fri, 03 May 2024 02:31:19 -0700 (PDT)
X-Relaying-Domain: iol.unh.edu
Date: Fri, 03 May 2024 02:31:19 -0700 (PDT)
Message-ID: <6634aee7.810a0220.97e9b.7585SMTPIN_ADDED_MISSING@mx.google.com>
Received: from [172.21.0.7] (unknown [172.18.0.240])
 by postal.iol.unh.edu (Postfix) with ESMTP id 10B5C6052514;
 Fri,  3 May 2024 05:31:18 -0400 (EDT)
Subject: |SUCCESS| pw139809-139812 [PATCH] [v2,5/5] baseband/acc: cosmetic lo
From: dpdklab@iol.unh.edu
To: Test Report <test-report@dpdk.org>
Cc: dpdk-test-reports@iol.unh.edu
In-Reply-To: <20240502204548.236729-6-hernan.vargas@intel.com>
References: <20240502204548.236729-6-hernan.vargas@intel.com>
Content-Type: text/plain
X-BeenThere: test-report@dpdk.org
X-Mailman-Version: 2.1.29
Precedence: list
List-Id: automatic DPDK test reports <test-report.dpdk.org>
List-Unsubscribe: <https://mails.dpdk.org/options/test-report>,
 <mailto:test-report-request@dpdk.org?subject=unsubscribe>
List-Archive: <http://mails.dpdk.org/archives/test-report/>
List-Post: <mailto:test-report@dpdk.org>
List-Help: <mailto:test-report-request@dpdk.org?subject=help>
List-Subscribe: <https://mails.dpdk.org/listinfo/test-report>,
 <mailto:test-report-request@dpdk.org?subject=subscribe>
Errors-To: test-report-bounces@dpdk.org

Test-Label: iol-compile-amd64-testing
Test-Status: SUCCESS
http://dpdk.org/patch/139812

_Testing PASS_

Submitter: Hernan Vargas <hernan.vargas@intel.com>
Date: Thursday, May 02 2024 20:45:48 
DPDK git baseline: Repo:dpdk
  Branch: master
  CommitID:98b4ecb4e4d73e93fdfa53f552b48d71104b445f

139809-139812 --> testing pass

Test environment and result as below:

+---------------------+--------------------+----------------------+-------------------+
|     Environment     | dpdk_meson_compile | dpdk_mingw64_compile | dpdk_msvc_compile |
+=====================+====================+======================+===================+
| FreeBSD 13.3        | PASS               | SKIPPED              | SKIPPED           |
+---------------------+--------------------+----------------------+-------------------+
| FreeBSD 14.0        | PASS               | SKIPPED              | SKIPPED           |
+---------------------+--------------------+----------------------+-------------------+
| Windows Server 2019 | PASS               | PASS                 | SKIPPED           |
+---------------------+--------------------+----------------------+-------------------+
| Windows Server 2022 | PASS               | PASS                 | PASS              |
+---------------------+--------------------+----------------------+-------------------+
| CentOS Stream 9     | PASS               | SKIPPED              | SKIPPED           |
+---------------------+--------------------+----------------------+-------------------+
| Debian 12           | PASS               | SKIPPED              | SKIPPED           |
+---------------------+--------------------+----------------------+-------------------+
| Debian Bullseye     | PASS               | SKIPPED              | SKIPPED           |
+---------------------+--------------------+----------------------+-------------------+
| Fedora 37           | PASS               | SKIPPED              | SKIPPED           |
+---------------------+--------------------+----------------------+-------------------+
| CentOS Stream 8     | PASS               | SKIPPED              | SKIPPED           |
+---------------------+--------------------+----------------------+-------------------+
| Fedora 38           | PASS               | SKIPPED              | SKIPPED           |
+---------------------+--------------------+----------------------+-------------------+
| Fedora 39           | PASS               | SKIPPED              | SKIPPED           |
+---------------------+--------------------+----------------------+-------------------+
| Ubuntu 22.04        | PASS               | SKIPPED              | SKIPPED           |
+---------------------+--------------------+----------------------+-------------------+


FreeBSD 13.3
	Kernel: 13.3-RELEASE-p1
	Compiler: clang 17.0.6

FreeBSD 14.0
	Kernel: 14.0
	Compiler: clang 16.0.6

Windows Server 2019
	Kernel: 10.0.17763
	Compiler: clang 14.0 and gcc 8.1.0 (MinGW)

Windows Server 2022
	Kernel: 10.0.20348.2031
	Compiler: clang 15.0.7, gcc 8.1.0 (MinGW), and MSVC VS 17.9

CentOS Stream 9
	Kernel: 5.4.0-167-generic
	Compiler: gcc 11.4.1 20230605

Debian 12
	Kernel: Container Host Kernel
	Compiler: gcc 10.2.1

Debian Bullseye
	Kernel: 5.4.0-167-generic
	Compiler: gcc 10.2.1-6

Fedora 37
	Kernel: Depends on container host system
	Compiler: gcc 12.3.1

CentOS Stream 8
	Kernel: 5.4.0-167-generic
	Compiler: gcc 8.5.0 20210514

Fedora 38
	Kernel: Depends on container host
	Compiler: gcc 13.2.1

Fedora 39
	Kernel: Depends on container host
	Compiler: gcc 13.2.1

Ubuntu 22.04
	Kernel: 5.4.0-167-generic
	Compiler: gcc 11.4.0

To view detailed results, visit:
https://lab.dpdk.org/results/dashboard/patchsets/29903/

UNH-IOL DPDK Community Lab

To manage your email subscriptions, visit: 
https://lab.dpdk.org/results/dashboard/preferences/subscriptions/