From mboxrd@z Thu Jan  1 00:00:00 1970
Return-Path: <test-report-bounces@dpdk.org>
Received: from mails.dpdk.org (mails.dpdk.org [217.70.189.124])
	by inbox.dpdk.org (Postfix) with ESMTP id C93CF43FCD
	for <public@inbox.dpdk.org>; Tue,  7 May 2024 20:09:36 +0200 (CEST)
Received: from mails.dpdk.org (localhost [127.0.0.1])
	by mails.dpdk.org (Postfix) with ESMTP id C1F2143460;
	Tue,  7 May 2024 20:09:36 +0200 (CEST)
Received: from mail-pf1-f226.google.com (mail-pf1-f226.google.com
 [209.85.210.226])
 by mails.dpdk.org (Postfix) with ESMTP id 07F48402DF
 for <test-report@dpdk.org>; Tue,  7 May 2024 20:09:35 +0200 (CEST)
Received: by mail-pf1-f226.google.com with SMTP id
 d2e1a72fcca58-6f450f43971so2681271b3a.3
 for <test-report@dpdk.org>; Tue, 07 May 2024 11:09:34 -0700 (PDT)
DKIM-Signature: v=1; a=rsa-sha256; c=relaxed/relaxed;
 d=iol.unh.edu; s=unh-iol; t=1715105374; x=1715710174; darn=dpdk.org;
 h=references:in-reply-to:cc:to:from:subject:message-id:date:from:to
 :cc:subject:date:message-id:reply-to;
 bh=LlgwlVnR9/HJcyY6ZYFGSr79BMJmWXoTBRh0Bgi7kSc=;
 b=dqRbRyfgWOS/ZuRIwAohKHwWMLk04UPOIKAbYcKLLOc/loOaa21JJ1SSWLOLDvlnBC
 GavRdaCkEB4XdcmEoVJ97X6JxRPEtPYh4FwvrVVmvahkbDBmiN6CZtEGm3ahzTcYuZwV
 SfrsjSBqoWKsWG/h7/VVFv3/bsCwwzZG5JoXE=
X-Google-DKIM-Signature: v=1; a=rsa-sha256; c=relaxed/relaxed;
 d=1e100.net; s=20230601; t=1715105374; x=1715710174;
 h=references:in-reply-to:cc:to:from:subject:message-id:date
 :x-gm-message-state:from:to:cc:subject:date:message-id:reply-to;
 bh=LlgwlVnR9/HJcyY6ZYFGSr79BMJmWXoTBRh0Bgi7kSc=;
 b=PkAkqGs7nwBiDf2cPN6bRuI5Gm8QOI1NNrZKK2SXRLVsRNXrQb3FrYLETUo8NRd6Pe
 FXhJiJdATwxFFV31eAS9k4X1xBrElh2aAxP4haxWzNp6e72Q/C0uPEqO+/J16smea4Zu
 SS21AATJ+3eDz+xFTW1twTsKGOziFBHg0VvuH+kf4vyYQ+SnKZ1lXV5XvVqU10aqqPFG
 Iaw/KGdcx9n0xo/xJRmEw+1dyXvZK/FzO8Ppq5H0pjdPpYybCmYPJeAyJvD5GcZ7Uv1+
 jHEQgd9jK9PRipbGSyHCpVciFF3kY2Pn0ChjvWGt9mnTzYkRc1p3bZKdS7esxjtLbbKd
 0tFw==
X-Gm-Message-State: AOJu0YxPLfTb9W9yXuiHtI8huRb2jtcikjuSkpMEDoIOIzpXoiI5CQkX
 lu+5KyvbFDn8JxC4QOnqN2MbzSNoobyKRX1YK0OY3sENnpJbpjqgHxMGS1MefukTPx+FjLpn/xN
 ji9SMjFPxdsbFK89lxNycUTg7Dy0JAUo2Q4QY+y4C
X-Google-Smtp-Source: AGHT+IGpY9kJbVKwaO9Y0Q+4RpGqNOX/wgToggfC6OECfT5dx1jTueasFl3RhVTTcKzvLeZss9QdLCaEYYSA
X-Received: by 2002:a05:6a21:ea0b:b0:1af:b1d2:f13 with SMTP id
 adf61e73a8af0-1afc8dc7883mr337371637.39.1715105374238; 
 Tue, 07 May 2024 11:09:34 -0700 (PDT)
Received: from postal.iol.unh.edu (postal.iol.unh.edu. [132.177.123.84])
 by smtp-relay.gmail.com with ESMTPS id
 m7-20020a635807000000b005dc42e2d3d3sm1219115pgb.11.2024.05.07.11.09.34
 (version=TLS1_2 cipher=ECDHE-ECDSA-AES128-GCM-SHA256 bits=128/128);
 Tue, 07 May 2024 11:09:34 -0700 (PDT)
X-Relaying-Domain: iol.unh.edu
Date: Tue, 07 May 2024 11:09:34 -0700 (PDT)
Message-ID: <663a6e5e.630a0220.48a9c.6fb7SMTPIN_ADDED_MISSING@mx.google.com>
Received: from [172.21.0.6] (unknown [172.18.0.240])
 by postal.iol.unh.edu (Postfix) with ESMTP id 93967605C373;
 Tue,  7 May 2024 14:09:33 -0400 (EDT)
Subject: |SUCCESS| pw139989-139990 [PATCH] [v6,2/2] dts: Change hugepage 'amo
From: dpdklab@iol.unh.edu
To: Test Report <test-report@dpdk.org>
Cc: dpdk-test-reports@iol.unh.edu
In-Reply-To: <20240507163752.305-3-npratte@iol.unh.edu>
References: <20240507163752.305-3-npratte@iol.unh.edu>
Content-Type: text/plain
X-BeenThere: test-report@dpdk.org
X-Mailman-Version: 2.1.29
Precedence: list
List-Id: automatic DPDK test reports <test-report.dpdk.org>
List-Unsubscribe: <https://mails.dpdk.org/options/test-report>,
 <mailto:test-report-request@dpdk.org?subject=unsubscribe>
List-Archive: <http://mails.dpdk.org/archives/test-report/>
List-Post: <mailto:test-report@dpdk.org>
List-Help: <mailto:test-report-request@dpdk.org?subject=help>
List-Subscribe: <https://mails.dpdk.org/listinfo/test-report>,
 <mailto:test-report-request@dpdk.org?subject=subscribe>
Errors-To: test-report-bounces@dpdk.org

Test-Label: iol-abi-testing
Test-Status: SUCCESS
http://dpdk.org/patch/139990

_Testing PASS_

Submitter: Nicholas Pratte <npratte@iol.unh.edu>
Date: Tuesday, May 07 2024 16:37:52 
DPDK git baseline: Repo:dpdk
  Branch: master
  CommitID:7e06c0de1952d3109a5b0c4779d7e7d8059c9d78

139989-139990 --> testing pass

Test environment and result as below:

+------------------+----------+
|   Environment    | abi_test |
+==================+==========+
| CentOS Stream 8  | PASS     |
+------------------+----------+
| Debian Bullseye  | PASS     |
+------------------+----------+
| Debian 12        | PASS     |
+------------------+----------+
| Fedora 38        | PASS     |
+------------------+----------+
| openSUSE Leap 15 | PASS     |
+------------------+----------+
| CentOS Stream 9  | PASS     |
+------------------+----------+
| Fedora 39        | PASS     |
+------------------+----------+
| Ubuntu 22.04     | PASS     |
+------------------+----------+
| RHEL8            | PASS     |
+------------------+----------+
| Fedora 37        | PASS     |
+------------------+----------+


CentOS Stream 8
	Kernel: 5.4.0-167-generic
	Compiler: gcc 8.5.0 20210514

Debian Bullseye
	Kernel: 5.4.0-167-generic
	Compiler: gcc 10.2.1-6

Debian 12
	Kernel: Container Host Kernel
	Compiler: gcc 10.2.1

Fedora 38
	Kernel: Depends on container host
	Compiler: clang 16.0.6

openSUSE Leap 15
	Kernel: 5.4.0-167-generic
	Compiler: gcc 7.5.0

CentOS Stream 9
	Kernel: 5.4.0-167-generic
	Compiler: gcc 11.4.1 20230605

Fedora 39
	Kernel: Depends on container host
	Compiler: clang 17.0.6

Ubuntu 22.04
	Kernel: 5.4.0-167-generic
	Compiler: gcc 11.4.0

RHEL8
	Kernel: 5.4.0-167-generic
	Compiler: gcc 8.5.0 20210514 (Red Hat 8.5.0-20)

Fedora 37
	Kernel: Depends on container host system
	Compiler: gcc 12.3.1

To view detailed results, visit:
https://lab.dpdk.org/results/dashboard/patchsets/29924/

UNH-IOL DPDK Community Lab

To manage your email subscriptions, visit: 
https://lab.dpdk.org/results/dashboard/preferences/subscriptions/